BEGIN:VCALENDAR
VERSION:2.0
PRODID:-//ChamberMaster//Event Calendar 2.0//EN
METHOD:PUBLISH
X-PUBLISHED-TTL:P3D
REFRESH-INTERVAL:P3D
CALSCALE:GREGORIAN
BEGIN:VEVENT
DTSTART:20260403T223000Z
DTEND:20260404T003000Z
X-MICROSOFT-CDO-ALLDAYEVENT:FALSE
SUMMARY:11th Annual Doggie Eggstravaganza
DESCRIPTION:Dog-Harmony proudly presents the 11th Annual Doggie EGGstravaganza\, a canine-only Easter egg hunt and social\, on Friday\, April 3\, 2026\, from 5:30 to 7:30 p.m. at Grand Boulevard at Sandestin.\n\n \n\nThis tail-wagging tradition invites leashed pups and their humans to enjoy an evening of springtime fun\, community\, and plenty of sniff-worthy surprises. With a $20 pre-registration per pup (or $25 on the day of the event)\, each canine participant will receive a souvenir bag to collect colorful eggs filled with tasty dog treats.\n\n \n\nApproximately 1\,000 holiday eggs will be scattered across the lawn\, with separate hunt areas for dogs over and under 35 pounds to ensure a safe and enjoyable experience for all.\n\n \n\nGuests can also look forward to:\n\n- Delicious bites from JC's Gourmet\n\n- Dog-approved treats from Davis Dog Treats\n\n- Curated music throughout the evening\n\n- Fun\, festive pet photos\n\n- Family-friendly games and exciting prize opportunities\n\n \n\nThe 2026 Doggie EGGstravaganza is made possible with support from our early confirmed sponsors: JC's Gourmet\, Davis Dog Treats\, Destin Flooring America\, and Theresa Felton\, Destin/30A REALTOR .\n\nThis event is part of the Coastal Culture Series\, presented by the Grand Boulevard Arts & Entertainment Program\, and is free for spectators.\n\n \n\nFor the safety of all dogs:\n\n- No prong\, choke\, or shock collars\n\n- No retractable leashes on the green during egg hunts\n\n \n\nGet Canine Egg Hunt Tickets -  https://dog-harmony.org/events/doggie-eggstravaganza-2026\n\n \n\nHop Into Event Sponsorship\n\nBusinesses are invited to join the fun as sponsors of the 11th Annual Doggie EGGstravaganza. This popular event brings together more than 150 dogs and their people for a one-of-a-kind Easter celebration offering meaningful brand exposure while supporting Dog-Harmony's mission to reduce shelter surrenders through education\, therapy dog programs\, and community outreach.\n\nhttps://dog-harmony.org/events/doggie-eggstravaganza-2026
X-ALT-DESC;FMTTYPE=text/html:<div>Dog-Harmony proudly presents the 11th Annual Doggie EGGstravaganza\, a canine-only Easter egg hunt and social\, on Friday\, April 3\, 2026\, from 5:30 to 7:30 p.m. at Grand Boulevard at Sandestin.<br />\n&nbsp\;</div>\n\n<div>This tail-wagging tradition invites leashed pups and their humans to enjoy an evening of springtime fun\, community\, and plenty of sniff-worthy surprises. With a $20 pre-registration per pup (or $25 on the day of the event)\, each canine participant will receive a souvenir bag to collect colorful eggs filled with tasty dog treats.<br />\n&nbsp\;</div>\n\n<div>Approximately 1\,000 holiday eggs will be scattered across the lawn\, with separate hunt areas for dogs over and under 35 pounds to ensure a safe and enjoyable experience for all.<br />\n&nbsp\;</div>\n\n<div>Guests can also look forward to:<br />\n- Delicious bites from JC&rsquo\;s Gourmet<br />\n- Dog-approved treats from Davis Dog Treats<br />\n- Curated music throughout the evening<br />\n- Fun\, festive pet photos<br />\n- Family-friendly games and exciting prize opportunities<br />\n&nbsp\;</div>\n\n<div>The 2026 Doggie EGGstravaganza is made possible with support from our early confirmed sponsors: JC&rsquo\;s Gourmet\, Davis Dog Treats\, Destin Flooring America\, and Theresa Felton\, Destin/30A REALTOR&reg\;.</div>\n\n<div>This event is part of the Coastal Culture Series\, presented by the Grand Boulevard Arts &amp\; Entertainment Program\, and is free for spectators.<br />\n&nbsp\;</div>\n\n<div>For the safety of all dogs:<br />\n- No prong\, choke\, or shock collars<br />\n- No retractable leashes on the green during egg hunts<br />\n&nbsp\;</div>\n\n<div>Get Canine Egg Hunt Tickets -&gt\;&nbsp\;<a class="x1i10hfl xjbqb8w x1ejq31n x18oe1m7 x1sy0etr xstzfhl x972fbf x10w94by x1qhh985 x14e42zd x9f619 x1ypdohk xt0psk2 x3ct3a4 xdj266r x14z9mp xat24cr x1lziwak xexx8yu xyri2b x18d9i69 x1c1uobl x16tdsg8 x1hl2dhg xggy1nq x1a2a7pz xkrqix3 x1sur9pj x1fey0fg x1s688f" href="https://dog-harmony.org/events/doggie-eggstravaganza-2026?fbclid=IwZXh0bgNhZW0CMTAAYnJpZBEyMmFyY0VxZWZ4OHk4RjNrd3NydGMGYXBwX2lkEDIyMjAzOTE3ODgyMDA4OTIAAR7cVM1-YW42CGIlGQoUGl3gyOQlggrhcp8CfWKdmVJZ7Tap5pYruQQtIjtQGg_aem_YzIwHZ65rA19goWAfQrTbA" rel="nofollow noreferrer" style="color: rgb(90\, 167\, 255)\; cursor: pointer\; text-decoration-line: none\; outline: none\; border-inline-width: 0px\; margin-inline: 0px\; text-align: inherit\; border-inline-style: none\; padding-inline: 0px\; -webkit-tap-highlight-color: transparent\; font-weight: 600\; list-style-type: none\; box-sizing: border-box\; touch-action: manipulation\; background-color: transparent\; display: inline\; padding-bottom: 0px\; border-top-style: none\; border-bottom-width: 0px\; border-bottom-style: none\; border-top-width: 0px\; margin-bottom: 0px\; margin-top: 0px\; padding-top: 0px\; font-family: inherit\;" tabindex="0" target="_blank">https://dog-harmony.org/events/doggie-eggstravaganza-2026</a><br />\n&nbsp\;</div>\n\n<div>Hop Into Event Sponsorship</div>\n\n<div>Businesses are invited to join the fun as sponsors of the 11th Annual Doggie EGGstravaganza. This popular event brings together more than 150 dogs and their people for a one-of-a-kind Easter celebration&mdash\;offering meaningful brand exposure while supporting Dog-Harmony&rsquo\;s mission to reduce shelter surrenders through education\, therapy dog programs\, and community outreach.<br />\n<a class="x1i10hfl xjbqb8w x1ejq31n x18oe1m7 x1sy0etr xstzfhl x972fbf x10w94by x1qhh985 x14e42zd x9f619 x1ypdohk xt0psk2 x3ct3a4 xdj266r x14z9mp xat24cr x1lziwak xexx8yu xyri2b x18d9i69 x1c1uobl x16tdsg8 x1hl2dhg xggy1nq x1a2a7pz xkrqix3 x1sur9pj x1fey0fg x1s688f" href="https://dog-harmony.org/events/doggie-eggstravaganza-2026?fbclid=IwZXh0bgNhZW0CMTAAYnJpZBEyMmFyY0VxZWZ4OHk4RjNrd3NydGMGYXBwX2lkEDIyMjAzOTE3ODgyMDA4OTIAAR51iLKlyQIDAtmzXq-uDK4-OXia08nB18E9HYNhYXleyyZZgugKSkPxtPFQpA_aem_EBTEToJjIMuLuLoTHW1XFQ" rel="nofollow noreferrer" style="color: rgb(90\, 167\, 255)\; cursor: pointer\; text-decoration-line: none\; outline: none\; border-inline-width: 0px\; margin-inline: 0px\; text-align: inherit\; border-inline-style: none\; padding-inline: 0px\; -webkit-tap-highlight-color: transparent\; font-weight: 600\; list-style-type: none\; box-sizing: border-box\; touch-action: manipulation\; background-color: transparent\; display: inline\; padding-bottom: 0px\; border-top-style: none\; border-bottom-width: 0px\; border-bottom-style: none\; border-top-width: 0px\; margin-bottom: 0px\; margin-top: 0px\; padding-top: 0px\; font-family: inherit\;" tabindex="0" target="_blank">https://dog-harmony.org/events/doggie-eggstravaganza-2026</a>&nbsp\;</div>\n
LOCATION:
UID:e.885.56735
SEQUENCE:3
DTSTAMP:20260422T080054Z
URL:https://business.waltonareachamber.com/events/details/11th-annual-doggie-eggstravaganza-56735
END:VEVENT

END:VCALENDAR
