BEGIN:VCALENDAR
VERSION:2.0
PRODID:-//ChamberMaster//Event Calendar 2.0//EN
METHOD:PUBLISH
X-PUBLISHED-TTL:P3D
REFRESH-INTERVAL:P3D
CALSCALE:GREGORIAN
BEGIN:VEVENT
DTSTART;VALUE=DATE:20130923
DTEND;VALUE=DATE:20130924
TRANSP:TRANSPARENT
X-MICROSOFT-CDO-ALLDAYEVENT:TRUE
SUMMARY:2013 Chamber Golf Classic
DESCRIPTION:When registering team online\, please do not select "add additional attendees"\, instead\, enter your team players names and preferred tee time (8:00 am or 2:00 pm) in the comments box on the first registration page.\n\n\n\nJoin us on Monday\, September 23rd\, 2013 at Burnt Pine Golf Club for a beautiful day of golf\, food\, spectacular player gifts and prizes and more fun than you can imagine!\n\nThe Pre-Tournament party will feature live entertainment\, amazing Coastal Cuisine and a silent auction event. There are also a few "surprises" planned along the way to spice up the evening!\n\nThe tournament is a scramble format\, with two shotgun starts at 8:00 a.m. and 2:00 p.m. There will be a breakfast\, lunch and dinner that will be provided by local restaurant vendors.   \n\nIncredible Prizes will be awarded to the 1st\, 2nd\, 3rd\, 4th & 5th Place winners\, as well as individual awards for the golfer who is closest to the pin.\n\nIn addition to team and individual entry fees\, there are multiple levels of sponsorship available. Please respond quickly\, if interested\, as sponsorships are limited.  \n\nFor more information\, please contact Wendy Morton at 850-267-0683 or email wendy@waltonareachamber.com. \n\n \n\nTitle Sponsor-$5\,000 SOLD \n\nSponsorship Benefits:\n\n  Top billing in promotional campaign that includes print\, radio\, electronic and website \n\n  Full page ad in the event program\n\n  Receive (2) 4-Person teams \n\n  Receive 16 complimentary tickets for the Party & Auction\n\n  One tee sign\n\n  Opportunity to have a marketing table set up at a hole on the course.\n\n  Company recognized at Luncheon and Dinner \n\n  Opportunity to include one promotional item in the event goodie bag\n\n  Prominent TOP Position on the LeaderBoard\n\n \n\nLogo Golf Ball Sponsor-$3000\n\nSponsorship Benefits:\n\n  Your Logo on sleeves of Titleist ProV1 golf balls that are given to each player (240 players)\n\n \n\n1st\, 2nd or 3rd Place Prize Sponsor-$1500/ea (3 available\, 1 per place)\n\nSponsorship Benefits:\n\n  Winning Team Prizes Presented/Provided by your Company\n\n  Company logo on LeaderBoard\n\n  One Tee Sign with your Logo/Name\n\n \n\n4th or 5th Place Prize Sponsor-$1000/ea (2 available\, 1 per place)\n\nSponsorship Benefits:\n\n  Winning Team Prizes Presented/Provided by your Company\n\n  Company logo on LeaderBoard\n\n \n\nCart Sponsor-$2000\n\nSponsorship Benefits:\n\n  Company logo on all golf carts (56 Teams\, 240 Players) \n\n  Receive 4 complimentary tickets for the Party & Auction\n\n  Company recognized in the event program\n\n \n\nEagle Sponsor-$925\n\nSponsorship Benefits:\n\n  Receive (1) 4-Person team\n\n  One tee sign displaying Logo/Name\n\n  Opportunity to include one promotional item in the event goodie bag.\n\n  Receive 16 complimentary tickets for the Pairings Party\n\n  Company listed in the program \n\n  Company logo on LeaderBoard\n\n \n\n \n\nTeam Entry-$675\n\nSponsorship Benefits:\n\n  Receive (1) 4-Person team\n\n  Receive 16 complimentary tickets for Party & Auction\n\n  Company listed in program \n\n \n\nTee Sponsor-$250\n\nSponsorship Benefits:\n\n  One tee sign with your Logo and Company name\n\n \n\nSingle Entry-$175\n\nSponsorship Benefits:\n\n  Receive 1 person to play in the tournament\n\n  Receive 2 complimentary tickets for the Party & Auction
X-ALT-DESC;FMTTYPE=text/html:<p><br />\n<strong><span style="color: rgb(255\, 0\, 0)\;">When registering team online\, please do not select &quot\;add additional attendees&quot\;\, instead\, enter your team players names and preferred tee time (8:00 am or 2:00&nbsp\;pm) in the comments box on the first registration page.</span></strong><br />\n<br />\nJoin us on Monday\, September 23rd\, 2013 at Burnt Pine Golf Club for a beautiful day of golf\, food\, spectacular player gifts and prizes and more fun than you can imagine!</p>\n\n<p>The Pre-Tournament party will feature live entertainment\, amazing Coastal Cuisine and a silent auction event. There are also a few &ldquo\;surprises&rdquo\; planned along the way to spice up the evening!</p>\n\n<p>The tournament is a scramble format\, with two shotgun starts at 8:00 a.m. and 2:00 p.m. There will be a&nbsp\;breakfast\, lunch and dinner that will be provided by local restaurant vendors.&nbsp\;&nbsp\;&nbsp\;</p>\n\n<p>Incredible Prizes will be awarded to the 1st\, 2nd\, 3rd\, 4th &amp\; 5th Place winners\, as well as individual awards for the golfer who is closest to the pin.</p>\n\n<p>In addition to team and individual entry fees\, there are multiple levels of sponsorship available. Please respond quickly\, if interested\, as sponsorships are limited.&nbsp\;&nbsp\;</p>\n\n<p>For more information\, please contact Wendy&nbsp\;Morton at 850-267-0683 or email <a href="mailto:wendy@waltonareachamber.com">wendy@waltonareachamber.com</a>.&nbsp\;<br />\n&nbsp\;</p>\n\n<p class="MsoNormal" style="margin: 0in 0in 0pt\; mso-pagination: none\;"><b><span style="color: rgb(134\, 0\, 0)\; font-size: 12pt\; mso-ligatures: none\;"><font face="Times New Roman">Title Sponsor-$5\,000<span style="mso-spacerun: yes\;"> </span></font></span><span style="color: rgb(255\, 0\, 0)\;"><span style="font-size: 24px\;"><span style="mso-ligatures: none\;"><font face="Times New Roman"><span style="mso-spacerun: yes\;">SOL</span></font></span><span style="mso-ligatures: none\;"><font face="Times New Roman"><span style="mso-spacerun: yes\;">D </span></font></span></span></span></b></p>\n\n<p class="MsoNormal" style="margin: 0in 0in 0pt\; mso-pagination: none\;"><b><span style="font-size: 12pt\; mso-ligatures: none\;"><font face="Times New Roman"><font color="#000000">Sponsorship Benefits:</font></font></span></b></p>\n\n<p class="MsoNormal" style="margin: 0in 0in 0pt\; mso-pagination: none\; mso-level-font-family: symbol\; mso-level-size: 12pt\;"><font color="#000000"><span style="font-family: symbol\; font-size: 12pt\;">&middot\;</span><font face="Times New Roman"><font size="2"> </font><span style="font-size: 12pt\; mso-ligatures: none\;">Top billing in promotional campaign that includes print\, radio\, electronic and website </span></font></font></p>\n\n<p class="MsoNormal" style="margin: 0in 0in 0pt\; mso-pagination: none\; mso-level-font-family: symbol\; mso-level-size: 12pt\;"><font color="#000000"><span style="font-family: symbol\; font-size: 12pt\;">&middot\; </span><span style="font-size: 12pt\; mso-ligatures: none\;"><font face="Times New Roman">Full page ad in the event program</font></span></font></p>\n\n<p class="MsoNormal" style="margin: 0in 0in 0pt 0.25in\; text-indent: -0.25in\; mso-pagination: none\; mso-level-font-family: symbol\; mso-level-size: 10pt\;"><font color="#000000"><font size="2"><span lang="X-NONE" style="font-family: symbol\; mso-ansi-language: x-none\;">&middot\;</span><font face="Times New Roman"> </font></font><span style="font-size: 12pt\; mso-ligatures: none\;"><font face="Times New Roman">Receive (2) 4-Person teams </font></span></font></p>\n\n<p class="MsoNormal" style="margin: 0in 0in 0pt 0.25in\; text-indent: -0.25in\; mso-pagination: none\; mso-level-font-family: symbol\; mso-level-size: 10pt\;"><font color="#000000"><font size="2"><span lang="X-NONE" style="font-family: symbol\; mso-ansi-language: x-none\;">&middot\;</span><span style="font-family: symbol\;"> </span></font><span style="font-size: 12pt\; mso-ligatures: none\;"><font face="Times New Roman">Receive 16 complimentary tickets for the Party &amp\; Auction</font></span></font></p>\n\n<p class="MsoNormal" style="margin: 0in 0in 0pt 0.25in\; text-indent: -0.25in\; mso-pagination: none\; mso-level-font-family: symbol\; mso-level-size: 10pt\;"><font color="#000000"><font size="2"><span lang="X-NONE" style="font-family: symbol\; mso-ansi-language: x-none\;">&middot\;</span><font face="Times New Roman"> </font></font><span style="font-size: 12pt\; mso-ligatures: none\;"><font face="Times New Roman">One tee sign</font></span></font></p>\n\n<p class="MsoNormal" style="margin: 0in 0in 0pt 0.25in\; text-indent: -0.25in\; mso-pagination: none\; mso-level-font-family: symbol\; mso-level-size: 10pt\;"><font size="2"><font color="#000000"><span lang="X-NONE" style="font-family: symbol\; mso-ansi-language: x-none\;">&middot\;</span><font face="Times New Roman"> </font></font></font><span style="font-size: 12pt\; mso-ligatures: none\;"><font color="#000000"><font face="Times New Roman">Opportunity to have a marketing table set up at a hole on the course.</font></font></span></p>\n\n<p class="MsoNormal" style="margin: 0in 0in 0pt 0.25in\; text-indent: -0.25in\; mso-pagination: none\; mso-level-font-family: symbol\; mso-level-size: 10pt\;"><font size="2"><font color="#000000"><span lang="X-NONE" style="font-family: symbol\; mso-ansi-language: x-none\;">&middot\;</span><span style="font-family: symbol\;"> </span></font></font><span style="font-size: 12pt\; mso-ligatures: none\;"><font face="Times New Roman"><font color="#000000">Company recognized at Luncheon and Dinner </font></font></span></p>\n\n<p class="MsoNormal" style="margin: 0in 0in 0pt 0.25in\; text-indent: -0.25in\; mso-pagination: none\; mso-level-font-family: symbol\; mso-level-size: 10pt\;"><font color="#000000"><font size="2"><span lang="X-NONE" style="font-family: symbol\; mso-ansi-language: x-none\;">&middot\;</span><font face="Times New Roman"> </font></font><span style="font-size: 12pt\; mso-ligatures: none\;"><font face="Times New Roman">Opportunity to include one promotional item in the event goodie bag</font></span></font></p>\n\n<p class="MsoNormal" style="margin: 0in 0in 0pt 0.25in\; text-indent: -0.25in\; mso-pagination: none\;"><font color="#000000"><font size="2"><span lang="X-NONE" style="font-family: symbol\; mso-ansi-language: x-none\;">&middot\;</span><font face="Times New Roman"> </font></font><span style="font-size: 12pt\; mso-ligatures: none\;"><font face="Times New Roman">Prominent TOP Position on the LeaderBoard</font></span></font></p>\n\n<p class="MsoNormal" style="margin: 0in 0in 0pt\; mso-pagination: none\;">&nbsp\;</p>\n\n<p class="MsoNormal" style="margin: 0in 0in 0pt\; mso-pagination: none\;"><b><span style="color: rgb(134\, 0\, 0)\; font-size: 11pt\; mso-ligatures: none\;"><font face="Times New Roman">Logo Golf Ball Sponsor-$3000</font></span></b></p>\n\n<p class="MsoNormal" style="margin: 0in 0in 0pt\; mso-pagination: none\;"><b><span style="font-size: 12pt\; mso-ligatures: none\;"><font face="Times New Roman"><font color="#000000">Sponsorship Benefits:</font></font></span></b></p>\n\n<p class="MsoNormal" style="margin: 0in 0in 0pt\; mso-pagination: none\;"><font color="#000000"><span style="font-family: symbol\; font-size: 12pt\;">&middot\;</span><font face="Times New Roman"><font size="2"> </font><span style="font-size: 12pt\; mso-ligatures: none\;">Your Logo on sleeves of Titleist ProV1 golf balls that are given to each player (240 players)</span></font></font></p>\n\n<p class="MsoNormal" style="margin: 0in 0in 0pt\; mso-pagination: none\;">&nbsp\;</p>\n\n<p class="MsoNormal" style="margin: 0in 0in 0pt\; mso-pagination: none\;"><b><span style="color: rgb(134\, 0\, 0)\; font-size: 12pt\; mso-ligatures: none\;"><font face="Times New Roman">1st\, 2nd or 3rd Place Prize Sponsor-$1500/ea (3 available\, 1 per place)</font></span></b></p>\n\n<p class="MsoNormal" style="margin: 0in 0in 0pt\; mso-pagination: none\;"><b><span style="font-size: 12pt\; mso-ligatures: none\;"><font face="Times New Roman"><font color="#000000">Sponsorship Benefits:</font></font></span></b></p>\n\n<p class="MsoNormal" style="margin: 0in 0in 0pt 0.25in\; text-indent: -0.25in\; mso-pagination: none\; mso-level-font-family: symbol\; mso-level-size: 10pt\;"><font color="#000000"><font size="2"><span lang="X-NONE" style="font-family: symbol\; mso-ansi-language: x-none\;">&middot\;</span><font face="Times New Roman"> </font></font><span style="font-size: 12pt\; mso-ligatures: none\;"><font face="Times New Roman">Winning Team Prizes Presented/Provided by your Company</font></span></font></p>\n\n<p class="MsoNormal" style="margin: 0in 0in 0pt 0.25in\; text-indent: -0.25in\; mso-pagination: none\; mso-level-font-family: symbol\; mso-level-size: 10pt\;"><font color="#000000"><font size="2"><span lang="X-NONE" style="font-family: symbol\; mso-ansi-language: x-none\;">&middot\;</span><font face="Times New Roman"> </font></font><span style="font-size: 12pt\; mso-ligatures: none\;"><font face="Times New Roman">Company logo on LeaderBoard</font></span></font></p>\n\n<p class="MsoNormal" style="margin: 0in 0in 0pt 0.25in\; text-indent: -0.25in\; mso-pagination: none\; mso-level-font-family: symbol\; mso-level-size: 10pt\;"><font color="#000000"><font size="2"><span lang="X-NONE" style="font-family: symbol\; mso-ansi-language: x-none\;">&middot\;</span><font face="Times New Roman"> </font></font><span style="font-size: 12pt\; mso-ligatures: none\;"><font face="Times New Roman">One Tee Sign with your Logo/Name</font></span></font></p>\n\n<p class="MsoNormal" style="margin: 0in 0in 0pt\; mso-pagination: none\;">&nbsp\;</p>\n\n<p class="MsoNormal" style="margin: 0in 0in 0pt\; mso-pagination: none\;"><b><span style="color: rgb(134\, 0\, 0)\; font-size: 12pt\; mso-ligatures: none\;"><font face="Times New Roman">4th or 5th Place Prize Sponsor-$1000/ea (2 available\, 1 per place)</font></span></b></p>\n\n<p class="MsoNormal" style="margin: 0in 0in 0pt\; mso-pagination: none\;"><b><span style="font-size: 12pt\; mso-ligatures: none\;"><font face="Times New Roman"><font color="#000000">Sponsorship Benefits:</font></font></span></b></p>\n\n<p class="MsoNormal" style="margin: 0in 0in 0pt 0.25in\; text-indent: -0.25in\; mso-pagination: none\; mso-level-font-family: symbol\; mso-level-size: 10pt\;"><font size="2"><font color="#000000"><span lang="X-NONE" style="font-family: symbol\; mso-ansi-language: x-none\;">&middot\;</span><span style="font-family: symbol\;"> </span></font></font><span style="font-size: 12pt\; mso-ligatures: none\;"><font face="Times New Roman"><font color="#000000">Winning Team Prizes Presented/Provided by your Company</font></font></span></p>\n\n<p class="MsoNormal" style="margin: 0in 0in 0pt 0.25in\; text-indent: -0.25in\; mso-pagination: none\; mso-level-font-family: symbol\; mso-level-size: 10pt\;"><font color="#000000"><font size="2"><span lang="X-NONE" style="font-family: symbol\; mso-ansi-language: x-none\;">&middot\;</span><font face="Times New Roman"> </font></font><span style="font-size: 12pt\; mso-ligatures: none\;"><font face="Times New Roman">Company logo on LeaderBoard</font></span></font></p>\n\n<p class="MsoNormal" style="margin: 0in 0in 0pt\; mso-pagination: none\;">&nbsp\;</p>\n\n<p class="MsoNormal" style="margin: 0in 0in 0pt\; mso-pagination: none\;"><b><span style="color: rgb(134\, 0\, 0)\; font-size: 12pt\; mso-ligatures: none\;"><font face="Times New Roman">Cart Sponsor-$2000</font></span></b></p>\n\n<p class="MsoNormal" style="margin: 0in 0in 0pt\; mso-pagination: none\;"><b><span style="font-size: 12pt\; mso-ligatures: none\;"><font face="Times New Roman"><font color="#000000">Sponsorship Benefits:</font></font></span></b></p>\n\n<p class="MsoNormal" style="margin: 0in 0in 0pt 0.25in\; text-indent: -0.25in\; mso-pagination: none\; mso-level-font-family: symbol\; mso-level-size: 10pt\;"><font size="2"><font color="#000000"><span lang="X-NONE" style="font-family: symbol\; mso-ansi-language: x-none\;">&middot\;</span><font face="Times New Roman"> </font></font></font><span style="font-size: 12pt\; mso-ligatures: none\;"><font color="#000000"><font face="Times New Roman">Company logo on all golf carts (56 Teams\, 240 Players) </font></font></span></p>\n\n<p class="MsoNormal" style="margin: 0in 0in 0pt 0.25in\; text-indent: -0.25in\; mso-pagination: none\; mso-level-font-family: symbol\; mso-level-size: 10pt\;"><font size="2"><font color="#000000"><span lang="X-NONE" style="font-family: symbol\; mso-ansi-language: x-none\;">&middot\;</span><font face="Times New Roman"> </font></font></font><span style="font-size: 12pt\; mso-ligatures: none\;"><font color="#000000"><font face="Times New Roman">Receive 4 complimentary tickets for the Party &amp\; Auction</font></font></span></p>\n\n<p class="MsoNormal" style="margin: 0in 0in 0pt 0.25in\; text-indent: -0.25in\; mso-pagination: none\; mso-level-font-family: symbol\; mso-level-size: 10pt\;"><font size="2"><font color="#000000"><span lang="X-NONE" style="font-family: symbol\; mso-ansi-language: x-none\;">&middot\;</span><font face="Times New Roman"> </font></font></font><span style="font-size: 12pt\; mso-ligatures: none\;"><font color="#000000"><font face="Times New Roman">Company recognized in the event program</font></font></span></p>\n\n<p class="MsoNormal" style="margin: 0in 0in 0pt\; mso-pagination: none\;">&nbsp\;</p>\n\n<p class="MsoNormal" style="margin: 0in 0in 0pt\; mso-pagination: none\;"><b><span style="color: rgb(134\, 0\, 0)\; font-size: 12pt\; mso-ligatures: none\;"><font face="Times New Roman">Eagle Sponsor-$925</font></span></b></p>\n\n<p class="MsoNormal" style="margin: 0in 0in 0pt\; mso-pagination: none\;"><span style="font-size: 12pt\; mso-ligatures: none\;"><font face="Times New Roman"><font color="#000000"><b>Sponsorship Benefits:</b></font></font></span></p>\n\n<p class="MsoNormal" style="margin: 0in 0in 0pt 0.25in\; text-indent: -0.25in\; mso-pagination: none\; mso-level-font-family: symbol\; mso-level-size: 10pt\;"><font size="2"><font color="#000000"><span lang="X-NONE" style="font-family: symbol\; mso-ansi-language: x-none\;">&middot\;</span><font face="Times New Roman"> </font></font></font><font face="Times New Roman"><font color="#000000"><span style="font-size: 12pt\; mso-ligatures: none\;">Receive (1) 4-Person team</span></font></font></p>\n\n<p class="MsoNormal" style="margin: 0in 0in 0pt 0.25in\; text-indent: -0.25in\; mso-pagination: none\; mso-level-font-family: symbol\; mso-level-size: 10pt\;"><font size="2"><font color="#000000"><span lang="X-NONE" style="font-family: symbol\; mso-ansi-language: x-none\;">&middot\;</span><font face="Times New Roman"> </font></font></font><span style="font-size: 12pt\; mso-ligatures: none\;"><font color="#000000"><font face="Times New Roman">One tee sign displaying Logo/Name</font></font></span></p>\n\n<p class="MsoNormal" style="margin: 0in 0in 0pt 0.25in\; text-indent: -0.25in\; mso-pagination: none\; mso-level-font-family: symbol\; mso-level-size: 10pt\;"><font size="2"><font color="#000000"><span lang="X-NONE" style="font-family: symbol\; mso-ansi-language: x-none\;">&middot\;</span><font face="Times New Roman"> </font></font></font><span style="font-size: 12pt\; mso-ligatures: none\;"><font color="#000000"><font face="Times New Roman">Opportunity to include one promotional item in the event goodie bag.</font></font></span></p>\n\n<p class="MsoNormal" style="margin: 0in 0in 0pt 0.25in\; text-indent: -0.25in\; mso-pagination: none\; mso-level-font-family: symbol\; mso-level-size: 10pt\;"><font size="2"><font color="#000000"><span lang="X-NONE" style="font-family: symbol\; mso-ansi-language: x-none\;">&middot\;</span><font face="Times New Roman"> </font></font></font><span style="font-size: 12pt\; mso-ligatures: none\;"><font color="#000000"><font face="Times New Roman">Receive 16 complimentary tickets for the Pairings Party</font></font></span></p>\n\n<p class="MsoNormal" style="margin: 0in 0in 0pt 0.25in\; text-indent: -0.25in\; mso-pagination: none\; mso-level-font-family: symbol\; mso-level-size: 10pt\;"><font size="2"><font color="#000000"><span lang="X-NONE" style="font-family: symbol\; mso-ansi-language: x-none\;">&middot\;</span><font face="Times New Roman"> </font></font></font><span style="font-size: 12pt\; mso-ligatures: none\;"><font color="#000000"><font face="Times New Roman">Company listed in the program </font></font></span></p>\n\n<p class="MsoNormal" style="margin: 0in 0in 0pt 0.25in\; text-indent: -0.25in\; mso-pagination: none\; mso-level-font-family: symbol\; mso-level-size: 10pt\;"><font size="2"><font color="#000000"><span lang="X-NONE" style="font-family: symbol\; mso-ansi-language: x-none\;">&middot\;</span><font face="Times New Roman"> </font></font></font><span style="font-size: 12pt\; mso-ligatures: none\;"><font color="#000000"><font face="Times New Roman">Company logo on LeaderBoard</font></font></span></p>\n\n<p class="MsoNormal" style="margin: 0in 0in 0pt\; mso-pagination: none\;">&nbsp\;</p>\n\n<p class="MsoNormal" style="margin: 0in 0in 0pt\; mso-pagination: none\;">&nbsp\;</p>\n\n<p class="MsoNormal" style="margin: 0in 0in 0pt\; mso-pagination: none\;"><b><span style="color: rgb(134\, 0\, 0)\; font-size: 12pt\; mso-ligatures: none\;"><font face="Times New Roman">Team Entry-$675</font></span></b></p>\n\n<p class="MsoNormal" style="margin: 0in 0in 0pt\; mso-pagination: none\;"><b><span style="font-size: 12pt\; mso-ligatures: none\;"><font face="Times New Roman"><font color="#000000">Sponsorship Benefits:</font></font></span></b></p>\n\n<p class="MsoNormal" style="margin: 0in 0in 0pt 0.25in\; text-indent: -0.25in\; mso-pagination: none\; mso-level-font-family: symbol\; mso-level-size: 10pt\;"><font size="2"><font color="#000000"><span lang="X-NONE" style="font-family: symbol\; mso-ansi-language: x-none\;">&middot\;</span><font face="Times New Roman"> </font></font></font><font face="Times New Roman"><font color="#000000"><span style="font-size: 12pt\; mso-ligatures: none\;">Receive (1) 4-Person team</span></font></font></p>\n\n<p class="MsoNormal" style="margin: 0in 0in 0pt 0.25in\; text-indent: -0.25in\; mso-pagination: none\; mso-level-font-family: symbol\; mso-level-size: 10pt\;"><font size="2"><font color="#000000"><span lang="X-NONE" style="font-family: symbol\; mso-ansi-language: x-none\;">&middot\;</span><font face="Times New Roman"> </font></font></font><span style="font-size: 12pt\; mso-ligatures: none\;"><font color="#000000"><font face="Times New Roman">Receive 16 complimentary tickets for Party &amp\; Auction</font></font></span></p>\n\n<p class="MsoNormal" style="margin: 0in 0in 0pt 0.25in\; text-indent: -0.25in\; mso-pagination: none\; mso-level-font-family: symbol\; mso-level-size: 10pt\;"><font size="2"><font color="#000000"><span lang="X-NONE" style="font-family: symbol\; mso-ansi-language: x-none\;">&middot\;</span><font face="Times New Roman"> </font></font></font><span style="font-size: 12pt\; mso-ligatures: none\;"><font color="#000000"><font face="Times New Roman">Company listed in program </font></font></span></p>\n\n<p class="MsoNormal" style="margin: 0in 0in 0pt\; mso-pagination: none\;">&nbsp\;</p>\n\n<p class="MsoNormal" style="margin: 0in 0in 0pt\; mso-pagination: none\;"><b><span style="color: rgb(134\, 0\, 0)\; font-size: 12pt\; mso-ligatures: none\;"><font face="Times New Roman">Tee Sponsor-$250</font></span></b></p>\n\n<p class="MsoNormal" style="margin: 0in 0in 0pt\; mso-pagination: none\;"><b><span style="font-size: 12pt\; mso-ligatures: none\;"><font face="Times New Roman"><font color="#000000">Sponsorship Benefits:</font></font></span></b></p>\n\n<p class="MsoNormal" style="margin: 0in 0in 0pt 0.25in\; text-indent: -0.25in\; mso-pagination: none\; mso-level-font-family: symbol\; mso-level-size: 10pt\;"><font size="2"><font color="#000000"><span lang="X-NONE" style="font-family: symbol\; mso-ansi-language: x-none\;">&middot\;</span><font face="Times New Roman"> </font></font></font><font color="#000000"><font face="Times New Roman"><span style="font-size: 12pt\; mso-ligatures: none\;">One tee sign with your Logo and Company name</span></font></font></p>\n\n<p class="MsoNormal" style="margin: 0in 0in 0pt\; mso-pagination: none\;">&nbsp\;</p>\n\n<p class="MsoNormal" style="margin: 0in 0in 0pt\; mso-pagination: none\;"><b><span style="color: rgb(134\, 0\, 0)\; font-size: 12pt\; mso-ligatures: none\;"><font face="Times New Roman">Single Entry-$175</font></span></b></p>\n\n<p class="MsoNormal" style="margin: 0in 0in 0pt\; mso-pagination: none\;"><b><span style="font-size: 12pt\; mso-ligatures: none\;"><font face="Times New Roman"><font color="#000000">Sponsorship Benefits:</font></font></span></b></p>\n\n<p class="MsoNormal" style="margin: 0in 0in 0pt 0.25in\; text-indent: -0.25in\; mso-pagination: none\; mso-level-font-family: symbol\; mso-level-size: 10pt\;"><font size="2"><font color="#000000"><span lang="X-NONE" style="font-family: symbol\; mso-ansi-language: x-none\;">&middot\;</span><font face="Times New Roman"> </font></font></font><font face="Times New Roman"><font color="#000000"><span style="font-size: 11pt\; mso-ligatures: none\;">Receive 1 person to play in the tournament</span></font></font></p>\n\n<p class="MsoNormal" style="margin: 0in 0in 0pt 0.25in\; text-indent: -0.25in\; mso-pagination: none\; mso-level-font-family: symbol\; mso-level-size: 10pt\;"><font size="2"><font color="#000000"><span lang="X-NONE" style="font-family: symbol\; mso-ansi-language: x-none\;">&middot\;</span><font face="Times New Roman"> </font></font></font><font color="#000000"><font face="Times New Roman"><span style="font-size: 12pt\; mso-ligatures: none\;">Receive 2 complimentary tickets for the Party &amp\; Auction<span _fck_bookmark="1" style="display: none\;">&nbsp\;</span></span></font></font></p>\n\n<p><br />\n<span _fck_bookmark="1" style="display: none\;">&nbsp\;</span></p>\n
LOCATION:Burnt Pine Golf Club Sandestin Golf & Beach Resort
UID:e.885.8835
SEQUENCE:3
DTSTAMP:20260419T212308Z
URL:https://business.waltonareachamber.com/events/details/2013-chamber-golf-classic-8835
END:VEVENT

END:VCALENDAR
