BEGIN:VCALENDAR
VERSION:2.0
PRODID:-//ChamberMaster//Event Calendar 2.0//EN
METHOD:PUBLISH
X-PUBLISHED-TTL:P3D
REFRESH-INTERVAL:P3D
CALSCALE:GREGORIAN
BEGIN:VEVENT
DTSTART:20210806T123000Z
DTEND:20210806T140000Z
X-MICROSOFT-CDO-ALLDAYEVENT:FALSE
SUMMARY:2021 August First Friday Breakfast sponsored by Crosspoint Freeport
DESCRIPTION:Register now for the August First Friday Breakfast sponsored by Crosspoint Freeport!!\n\nYou do not want to miss our special guest speaker\; Mayor Russ Barley give a state of the city address. He will share what is happening in Freeport and what is to come.
X-ALT-DESC;FMTTYPE=text/html:<span style="color:#008080\;"><span style="font-size:28px\;"><span style="font-family:arial\;">Register now for the August First Friday Breakfast sponsored by Crosspoint Freeport!!</span></span></span><br />\n<span style="font-size:22px\;">You do not want to miss our special guest speaker\; Mayor Russ Barley give a state of the city address. He will share what is happening in Freeport and what is to come.&nbsp\;</span><br />\n&nbsp\;
LOCATION:Crosspoint Freeport 902 Florida 20 E\, in Freeport Commons\, Freeport\, FL 32439
UID:e.885.32377
SEQUENCE:3
DTSTAMP:20260422T232235Z
URL:https://business.waltonareachamber.com/events/details/2021-august-first-friday-breakfast-sponsored-by-crosspoint-freeport-32377
END:VEVENT

END:VCALENDAR
