BEGIN:VCALENDAR
VERSION:2.0
PRODID:-//ChamberMaster//Event Calendar 2.0//EN
METHOD:PUBLISH
X-PUBLISHED-TTL:P3D
REFRESH-INTERVAL:P3D
CALSCALE:GREGORIAN
BEGIN:VEVENT
DTSTART:20211209T230000Z
DTEND:20211210T010000Z
X-MICROSOFT-CDO-ALLDAYEVENT:FALSE
SUMMARY:2021 December Business After Hours hosted by Slick Lips Seafood and Oyster House sponsored by A Superior Air
DESCRIPTION:Join us for the December Business After Hours hosted by Slick Lips Seafood and Oyster House and sponsored by A Superior Air Conditioning.
X-ALT-DESC;FMTTYPE=text/html:<span style="font-size:20px\;"><strong><span style="font-family:arial\;">Join us for the December Business After Hours hosted by Slick Lips Seafood and Oyster House and sponsored by A Superior Air Conditioning.&nbsp\;</span></strong></span>
LOCATION:Slick Lips Seafood and Oyster House
UID:e.885.32382
SEQUENCE:3
DTSTAMP:20260423T064001Z
URL:https://business.waltonareachamber.com/events/details/2021-december-business-after-hours-hosted-by-slick-lips-seafood-and-oyster-house-sponsored-by-a-superior-air-32382
END:VEVENT

END:VCALENDAR
