BEGIN:VCALENDAR
VERSION:2.0
PRODID:-//ChamberMaster//Event Calendar 2.0//EN
METHOD:PUBLISH
X-PUBLISHED-TTL:P3D
REFRESH-INTERVAL:P3D
CALSCALE:GREGORIAN
BEGIN:VEVENT
DTSTART:20210412T170000Z
DTEND:20210523T170000Z
X-MICROSOFT-CDO-ALLDAYEVENT:FALSE
SUMMARY:2021 Leadership Walton Class Project
DESCRIPTION:
X-ALT-DESC;FMTTYPE=text/html:
LOCATION:
UID:e.885.30054
SEQUENCE:3
DTSTAMP:20260422T124755Z
URL:https://business.waltonareachamber.com/events/details/2021-leadership-walton-class-project-30054
END:VEVENT

END:VCALENDAR
