BEGIN:VCALENDAR
VERSION:2.0
PRODID:-//ChamberMaster//Event Calendar 2.0//EN
METHOD:PUBLISH
X-PUBLISHED-TTL:P3D
REFRESH-INTERVAL:P3D
CALSCALE:GREGORIAN
BEGIN:VEVENT
DTSTART:20211117T233000Z
DTEND:20211118T013000Z
X-MICROSOFT-CDO-ALLDAYEVENT:FALSE
SUMMARY:2021 November Business After Hours Hosted by The Pointe on 30A
DESCRIPTION:Join us for the November Business After Hours hosted by The Pointe on 30A
X-ALT-DESC;FMTTYPE=text/html:<span style="font-size:20px\;"><strong><span style="font-family:arial\;">Join us for the November Business After Hours hosted by The Pointe on 30A</span></strong></span>
LOCATION:The Pointe on 30A Rooftop 10941 E County Hwy 30A\, Rosemary Beach\, FL 32461
UID:e.885.32657
SEQUENCE:3
DTSTAMP:20260423T063412Z
URL:https://business.waltonareachamber.com/events/details/2021-november-business-after-hours-hosted-by-the-pointe-on-30a-32657
END:VEVENT

END:VCALENDAR
