BEGIN:VCALENDAR
VERSION:2.0
PRODID:-//ChamberMaster//Event Calendar 2.0//EN
METHOD:PUBLISH
X-PUBLISHED-TTL:P3D
REFRESH-INTERVAL:P3D
CALSCALE:GREGORIAN
BEGIN:VEVENT
DTSTART:20211021T213000Z
DTEND:20211021T233000Z
X-MICROSOFT-CDO-ALLDAYEVENT:FALSE
SUMMARY:2021 October Business After Hours sponsored by Hilton Garden Inn – Destin/Miramar Beach\,
DESCRIPTION:Join us for the October Business After Hours sponsored by Hilton Garden Inn   Destin/Miramar Beach.
X-ALT-DESC;FMTTYPE=text/html:<span style="font-size:20px\;"><strong><span style="font-family:arial\;">Join us for the October Business After Hours sponsored by&nbsp\;Hilton Garden Inn &ndash\; Destin/Miramar Beach.</span></strong></span>
LOCATION:Hilton Garden Inn Destin Miramar Beach 220 Scenic Gulf Dr\, Miramar Beach\, FL 32550
UID:e.885.32380
SEQUENCE:3
DTSTAMP:20260423T031326Z
URL:https://business.waltonareachamber.com/events/details/2021-october-business-after-hours-sponsored-by-hilton-garden-inn-destin-miramar-beach-32380
END:VEVENT

END:VCALENDAR
