BEGIN:VCALENDAR
VERSION:2.0
PRODID:-//ChamberMaster//Event Calendar 2.0//EN
METHOD:PUBLISH
X-PUBLISHED-TTL:P3D
REFRESH-INTERVAL:P3D
CALSCALE:GREGORIAN
BEGIN:VEVENT
DTSTART:20211001T123000Z
DTEND:20211001T140000Z
X-MICROSOFT-CDO-ALLDAYEVENT:FALSE
SUMMARY:2021 October First Friday Breakfast: New Public Safety Complex
DESCRIPTION:Register now for the October First Friday Breakfast! As our city grows so does our need for safety. You don't want to miss guest speaker\, Police Chief James Hurley\, share about the new Public Safety Complex which will house the Police and Fire Department.
X-ALT-DESC;FMTTYPE=text/html:<span style="color:#0000CD\;"><span style="font-family:arial\;"><span style="font-size:36px\;">Register now for the October First Friday Breakfast!&nbsp\;As our city grows so does our need for safety. You don&rsquo\;t want to miss guest speaker\, Police Chief James Hurley\, share about the new Public Safety Complex which will house the Police and Fire Department. &nbsp\;</span></span></span>
LOCATION:Tri-State Christian Camp 100 Christian Camp Rd\, DeFuniak Springs\, FL 32433
UID:e.885.32379
SEQUENCE:3
DTSTAMP:20260423T043142Z
URL:https://business.waltonareachamber.com/events/details/2021-october-first-friday-breakfast-new-public-safety-complex-32379
END:VEVENT

END:VCALENDAR
