BEGIN:VCALENDAR
VERSION:2.0
PRODID:-//ChamberMaster//Event Calendar 2.0//EN
METHOD:PUBLISH
X-PUBLISHED-TTL:P3D
REFRESH-INTERVAL:P3D
CALSCALE:GREGORIAN
BEGIN:VEVENT
DTSTART:20211218T003000Z
DTEND:20211218T023000Z
X-MICROSOFT-CDO-ALLDAYEVENT:FALSE
SUMMARY:2021 YP Christmas Party
DESCRIPTION:2021 YP Christmas Party
X-ALT-DESC;FMTTYPE=text/html:<span style="font-size:20px\;">2021 YP Christmas Party</span>
LOCATION:The Pointe on 30A-Roof Top Bar & Grill 10711 E County Hwy 30A Rosemary Beach\, FL 32461
UID:e.885.33157
SEQUENCE:3
DTSTAMP:20260423T063021Z
URL:https://business.waltonareachamber.com/events/details/2021-yp-christmas-party-33157
END:VEVENT

END:VCALENDAR
