BEGIN:VCALENDAR
VERSION:2.0
PRODID:-//ChamberMaster//Event Calendar 2.0//EN
METHOD:PUBLISH
X-PUBLISHED-TTL:P3D
REFRESH-INTERVAL:P3D
CALSCALE:GREGORIAN
BEGIN:VEVENT
DTSTART:20220406T163000Z
DTEND:20220406T180000Z
X-MICROSOFT-CDO-ALLDAYEVENT:FALSE
SUMMARY:2022 April Power of Business Lunch hosted by CHELCO
DESCRIPTION:Register now for our 2022 April Power of Business Lunch hosted by CHELCO. You don't want to miss Walton County high school youth leadership students present their business plans at the April Power of Business Lunch. They will be competing for the trophy in a Shark Tank style competition. \n\n\nMenu\n\nCAESAR SALAD Romaine + Parmesan + Crouton + Crisp Ham + Florida Lemon Caesar\n\n\n\nPECAN WOOD BRINED CHICKEN BREAST Cauliflower Puree + Brown Butter Pecans + Broccolini + Maple Chicken Jus Warm Rolls and Butter\n\n\n\nCHOCOLATE GANACHE CAKE Layer Cake + Ganache + Salted Caramel\n\n\n\n\nPre-registration is required.
X-ALT-DESC;FMTTYPE=text/html:<span style="font-size:28px\;"><span style="text-align: center\;">Register now&nbsp\;for our 2022 April Power of Business Lunch hosted by CHELCO.&nbsp\;</span>You don&rsquo\;t want to miss Walton County high school youth leadership students present their business plans at the April Power of Business Lunch. They will be competing for the trophy in a Shark Tank style competition.&nbsp\;</span>\n<div style="text-align: center\;"><br />\n<span style="font-size:22px\;"><strong>Menu</strong><br />\nCAESAR SALAD Romaine + Parmesan + Crouton + Crisp Ham + Florida Lemon Caesar<br />\n<br />\nPECAN WOOD BRINED CHICKEN BREAST Cauliflower Puree + Brown Butter Pecans + Broccolini + Maple Chicken Jus Warm Rolls and Butter<br />\n<br />\nCHOCOLATE GANACHE CAKE Layer Cake + Ganache + Salted Caramel</span></div>\n<br />\n<br />\n<span style="text-align: center\; font-family: arial\;"><strong background-color:="" font-size:="" style="color: rgb(0\, 0\, 128)\;" trebuchet=""><span style="font-size: 24px\;">Pr</span></strong></span><strong background-color:="" font-size:="" style="text-align: center\; font-family: arial\; color: rgb(0\, 0\, 128)\;" trebuchet=""><span style="font-size: 24px\;">e-registration is required.</span></strong>
LOCATION:Sandestin Golf and Beach Resort Azalea Ballroom and Foyer (second level of the Baytowne Conference Center)
UID:e.885.33250
SEQUENCE:3
DTSTAMP:20260423T143358Z
URL:https://business.waltonareachamber.com/events/details/2022-april-power-of-business-lunch-hosted-by-chelco-33250
END:VEVENT

END:VCALENDAR
