BEGIN:VCALENDAR
VERSION:2.0
PRODID:-//ChamberMaster//Event Calendar 2.0//EN
METHOD:PUBLISH
X-PUBLISHED-TTL:P3D
REFRESH-INTERVAL:P3D
CALSCALE:GREGORIAN
BEGIN:VEVENT
DTSTART:20220423T150000Z
DTEND:20220423T170000Z
X-MICROSOFT-CDO-ALLDAYEVENT:FALSE
SUMMARY:2022 Congressional Art Competition Announcement
DESCRIPTION:2022 Congressional Art Competition Announcement
X-ALT-DESC;FMTTYPE=text/html:2022 Congressional Art Competition Announcement
LOCATION:Artel Gallery 223 Palafox PL Pensacola\, FL 32502
UID:e.885.33845
SEQUENCE:3
DTSTAMP:20260423T125532Z
URL:https://business.waltonareachamber.com/events/details/2022-congressional-art-competition-announcement-33845
END:VEVENT

END:VCALENDAR
