BEGIN:VCALENDAR
VERSION:2.0
PRODID:-//ChamberMaster//Event Calendar 2.0//EN
METHOD:PUBLISH
X-PUBLISHED-TTL:P3D
REFRESH-INTERVAL:P3D
CALSCALE:GREGORIAN
BEGIN:VEVENT
DTSTART:20220713T163000Z
DTEND:20220713T180000Z
X-MICROSOFT-CDO-ALLDAYEVENT:FALSE
SUMMARY:2022 July Power of Networking Lunch sponsored by Food For Thought
DESCRIPTION:Register now for our 2022 July Power of Networking Lunch sponsored by Food For Thought! Join us for a lunch of wonderful food and networking activities at Food For Thought's Full Circle Kitchen. Lunch will be provided by Blue Magnolia. Learn more about the Full Circle Kitchen and form connections with other Walton Area Chamber members by registering for July 13th luncheon!\n\n\n\nPre-registration is required.
X-ALT-DESC;FMTTYPE=text/html:<span style="font-family:arial\;"><span style="color:#006400\;"><span style="font-size:24px\;"><span style="text-align: center\;">Register now&nbsp\;for our 2022 July Power of Networking Lunch sponsored by Food For Thought! Join us for a lunch of wonderful food and networking activities at Food For Thought&#39\;s Full Circle Kitchen. </span>Lunch will be provided by Blue Magnolia.&nbsp\;<span style="text-align: center\;">Learn more about the Full Circle Kitchen and form connections with other Walton Area Chamber members by registering for July 13th luncheon!</span></span></span></span><br />\n<br />\n<span style="text-align: center\; font-family: arial\;"><strong background-color:="" font-size:="" style="color: rgb(0\, 0\, 128)\;" trebuchet=""><span style="font-size: 24px\;">Pr</span></strong></span><strong background-color:="" font-size:="" style="text-align: center\; font-family: arial\; color: rgb(0\, 0\, 128)\;" trebuchet=""><span style="font-size: 24px\;">e-registration is required.</span></strong>
LOCATION:Food For Thought Full Circle Kitchen 132 Market Street\, Santa Rosa Beach\, FL
UID:e.885.33253
SEQUENCE:3
DTSTAMP:20260423T170833Z
URL:https://business.waltonareachamber.com/events/details/2022-july-power-of-networking-lunch-sponsored-by-food-for-thought-33253
END:VEVENT

END:VCALENDAR
