BEGIN:VCALENDAR
VERSION:2.0
PRODID:-//ChamberMaster//Event Calendar 2.0//EN
METHOD:PUBLISH
X-PUBLISHED-TTL:P3D
REFRESH-INTERVAL:P3D
CALSCALE:GREGORIAN
BEGIN:VEVENT
DTSTART:20220608T163000Z
DTEND:20220608T180000Z
X-MICROSOFT-CDO-ALLDAYEVENT:FALSE
SUMMARY:2022 June Power of Networking Lunch sponsored by A Superior Air Conditioning
DESCRIPTION:Register now for our 2022 June Power of Networking Lunch sponsored by A Superior Air Conditioning!\n\nThe wonderful meal options are:\n\n	West Indies Shrimp Salad\n	Blackened Redfish: served with Garlic Roasted Heirloom Potatoes & Asparagus\, topped with a Lemon Cream Sauce.\n	Pasta Orleans: Chicken saut ed with Fettuccine\, Spinach\, Grape Tomatoes in a Creole Mushroom Sauce. \n\n\n\n\n\nPre-registration is required.
X-ALT-DESC;FMTTYPE=text/html:<span style="color:#800000\;"><span style="font-size:28px\;"><span style="text-align: center\;">Register now&nbsp\;for our 2022 June Power of Networking Lunch sponsored by A Superior Air Conditioning!<br />\nThe wonderful meal options are:</span></span></span>\n<ol>\n	<li style="color:#1F497D\;margin-left:0in\;"><span style="color:#800000\;"><span style="font-size:28px\;"><span style="font-family:calibri\,sans-serif\;">West Indies Shrimp Salad</span></span></span></li>\n	<li style="color:#1F497D\;margin-top:0in\;margin-bottom:11.25pt\;margin-top:5.0pt\;line-height:17.7pt\;background:white\;vertical-align:baseline\;"><span style="color:#800000\;"><span style="font-size:28px\;"><span style="font-family:calibri\,sans-serif\;">Blackened Redfish: served with Garlic Roasted Heirloom Potatoes &amp\; Asparagus\, topped with a Lemon Cream Sauce.</span></span></span></li>\n	<li style="color:#1F497D\;margin-top:0in\;margin-bottom:0in\;margin-bottom:5.0pt\;line-height:17.7pt\;background:white\;vertical-align:baseline\;"><span style="color:#800000\;"><span style="font-size:28px\;"><span style="font-family:calibri\,sans-serif\;">Pasta Orleans: Chicken saut&eacute\;ed with Fettuccine\, Spinach\, Grape Tomatoes in a Creole Mushroom Sauce.&nbsp\;</span></span></span></li>\n</ol>\n<br />\n<br />\n<span style="text-align: center\; font-family: arial\;"><strong background-color:="" font-size:="" style="color: rgb(0\, 0\, 128)\;" trebuchet=""><span style="font-size: 24px\;">Pr</span></strong></span><strong background-color:="" font-size:="" style="text-align: center\; font-family: arial\; color: rgb(0\, 0\, 128)\;" trebuchet=""><span style="font-size: 24px\;">e-registration is required.</span></strong>
LOCATION:Poppy's Crazy Lobster
UID:e.885.33252
SEQUENCE:3
DTSTAMP:20260423T160120Z
URL:https://business.waltonareachamber.com/events/details/2022-june-power-of-networking-lunch-sponsored-by-a-superior-air-conditioning-33252
END:VEVENT

END:VCALENDAR
