BEGIN:VCALENDAR
VERSION:2.0
PRODID:-//ChamberMaster//Event Calendar 2.0//EN
METHOD:PUBLISH
X-PUBLISHED-TTL:P3D
REFRESH-INTERVAL:P3D
CALSCALE:GREGORIAN
BEGIN:VEVENT
DTSTART:20220504T163000Z
DTEND:20220504T180000Z
X-MICROSOFT-CDO-ALLDAYEVENT:FALSE
SUMMARY:2022 May Power of Business Lunch hosted by Visit South Walton
DESCRIPTION:SOLD OUT EVENT\n\nThere is still time to join us on May 4th for our Power of Business Lunch sponsored by Visit South Walton! You don't want to miss their annual update. Due to the growing attendance of the Power of Business Lunch\, it has been moved to the Linkside Ballroom at Sandestin Golf and Beach Resort. \n\n\n\nCheck out the impressive lunch menu!\n\n\n\nSTARTERS \n\nClassic Caprese | Tomato + Mozzarella + Basil + Extra Virgin Olive Oil Caesar Salad | Romaine Lettuce + Parmesan + Herb Crouton + Florida Lemon Caesar Dressing\n\n\n\nENTREES \n\nChicken Piccata | Lemon + Capers + Butter Carbonara | Cavatappi + House Pancetta + Sweet Pea + Garlic Cream | Zucchini + Yellow Squash + Eggplant + Red Onions + Bell Peppers + Tomatoes + Capers + Basil Penne Bake | Red Sauce + Parmesan + Meatballs |Breadsticks | Parmesan + Marinara\n\n\n\nDESSERT \n\nSweet Tiramisu Panna Cotta + Dark Chocolate Cannoli\n\n\n\n\nPre-registration is required.
X-ALT-DESC;FMTTYPE=text/html:<div style="color: rgb(0\, 47\, 111)\; font-family: Arial\, Verdana\, Helvetica\, sans-serif\; font-size: 14px\; white-space: pre-wrap\; background-color: rgb(255\, 255\, 255)\; text-align: center\;"><span style="color:#FF0000\;"><span style="font-family:arial\;"><span style="font-size:22px\;">SOLD OUT EVENT</span></span></span><br />\n<span style="color:#0000CD\;"><span style="font-family:arial\;"><span style="font-size:22px\;">There is still time to join us on May 4th for our Power of Business Lunch sponsored by Visit South Walton! You don&#39\;t want to miss their annual update. <span style="text-align: center\; white-space: pre-wrap\; background-color: rgb(255\, 255\, 255)\;">Due to the growing attendance of the Power of Business Lunch\, it has been moved to the Linkside Ballroom at Sandestin Golf and Beach Resort. </span><br />\n<br />\nCheck out the impressive lunch menu!<br />\n<br />\n<strong><u>STARTERS</u> </strong><br />\nClassic Caprese | Tomato + Mozzarella + Basil + Extra Virgin Olive Oil Caesar Salad | Romaine Lettuce + Parmesan + Herb Crouton + Florida Lemon Caesar Dressing<br />\n<br />\n<u><strong>ENTREES </strong></u><br />\nChicken Piccata | Lemon + Capers + Butter Carbonara | Cavatappi + House Pancetta + Sweet Pea + Garlic Cream | Zucchini + Yellow Squash + Eggplant + Red Onions + Bell Peppers + Tomatoes + Capers + Basil <span style="text-align: center\; white-space: pre-wrap\; background-color: rgb(255\, 255\, 255)\;">Penne Bake | Red Sauce + Parmesan + Meatballs </span>|Breadsticks | Parmesan + Marinara<br />\n<br />\n<u><strong>DESSERT </strong></u><br />\nSweet Tiramisu Panna Cotta + Dark Chocolate Cannoli</span></span></span></div>\n<br />\n<br />\n<span style="text-align: center\; font-family: arial\;"><strong background-color:="" font-size:="" style="color: rgb(0\, 0\, 128)\;" trebuchet=""><span style="font-size: 24px\;">Pr</span></strong></span><strong background-color:="" font-size:="" style="text-align: center\; font-family: arial\; color: rgb(0\, 0\, 128)\;" trebuchet=""><span style="font-size: 24px\;">e-registration is required.</span></strong>
LOCATION:Linkside Ballroom at Sandestin Golf and Beach Resort 158 Sandestin Blvd\, Sandestin\, FL 32550
UID:e.885.33251
SEQUENCE:3
DTSTAMP:20260423T143451Z
URL:https://business.waltonareachamber.com/events/details/2022-may-power-of-business-lunch-hosted-by-visit-south-walton-33251
END:VEVENT

END:VCALENDAR
