BEGIN:VCALENDAR
VERSION:2.0
PRODID:-//ChamberMaster//Event Calendar 2.0//EN
METHOD:PUBLISH
X-PUBLISHED-TTL:P3D
REFRESH-INTERVAL:P3D
CALSCALE:GREGORIAN
BEGIN:VEVENT
DTSTART:20230301T133000Z
DTEND:20230301T150000Z
X-MICROSOFT-CDO-ALLDAYEVENT:FALSE
SUMMARY:2023 Legislative Update Breakfast SOLD OUT
DESCRIPTION:EVENT SOLD OUT\n\nJoin the Walton Area Chamber of Commerce for a 2023 Legislative Update Breakfast on March 1\, 2023 at the Hilton Sandestin Beach Golf Resort & Spa. Attendees will have the opportunity to network with state and local elected officials and hear an update leading in to the 2023 Legislative Session.    \n\n\n\n\n\nWe are honored to be accompanied by State Representative Shane Abbott\, State Senator Jay Trumbull\, and CFO Jimmy Patronis!\n\n    \n\n\n\nIf you are attending the FPL symposium\, our update will be finished just in time to attend both!
X-ALT-DESC;FMTTYPE=text/html:EVENT SOLD OUT<br />\nJoin the Walton Area Chamber of Commerce for a 2023 Legislative Update Breakfast on March 1\, 2023 at the Hilton Sandestin Beach Golf Resort &amp\; Spa. Attendees will have the opportunity to network with state and local elected officials and hear an update leading in to the 2023 Legislative Session.&nbsp\;&nbsp\;&nbsp\;&nbsp\;<br />\n<br />\n<br />\nWe are honored to be accompanied by State Representative Shane Abbott\, State Senator Jay Trumbull\, and CFO Jimmy Patronis!<br />\n&nbsp\; &nbsp\;&nbsp\;<br />\n<br />\n<strong>If you are attending the FPL symposium\, our update will be finished just in time to attend both!</strong>
LOCATION:Hilton Sandestin Beach Golf Resort & Spa
UID:e.885.34257
SEQUENCE:3
DTSTAMP:20260424T051811Z
URL:https://business.waltonareachamber.com/events/details/2023-legislative-update-breakfast-sold-out-34257
END:VEVENT

END:VCALENDAR
