BEGIN:VCALENDAR
VERSION:2.0
PRODID:-//ChamberMaster//Event Calendar 2.0//EN
METHOD:PUBLISH
X-PUBLISHED-TTL:P3D
REFRESH-INTERVAL:P3D
CALSCALE:GREGORIAN
BEGIN:VEVENT
DTSTART:20230331T223000Z
DTEND:20230401T040000Z
X-MICROSOFT-CDO-ALLDAYEVENT:FALSE
SUMMARY:2023 Walton Area Chamber Annual Gala
DESCRIPTION:Walton Area Chamber Annual Gala \n\n\n\nJoin the WACC for our Annual Chamber Awards Gala hosted this year by the Hilton Sandestin Beach and Golf Resort.\n\n\n\nThe business community event of the year is the Walton Area Chamber\, Annual Gala. Help celebrate the successes of the past year\, share our vision for the future\, and enjoy top-notch entertainment. The event format is a seated dinner with a networking reception and chamber awards ceremony. Join us as we raise a glass to the companies and volunteers who partner with us to be the voice of business\, create jobs\, and help our members thrive. The Gala will be held Friday\, March 31st\, at the Hilton Sandestin Beach Golf Resort & Spa.\n\n\n\nThe black-tie optional Gala presented by Hilton Sandestin Beach Golf Resort & Spa will kick off at 5:30 p.m. with a cocktail reception where guests will have the opportunity to socialize with other attendees including elected officials\, dignitaries\, business owners\, Chamber members\, and guests. \n\n\n\n\n\n\n\nVote now! The deadline for nominations will be Friday\, March 3rd.\n\n\n\n2022 Walton Area Chamber of Commerce Person of the Year-\n\nhttps://business.waltonareachamber.com/form/view/28206 \n\n\n\n\n\n2022 Young Professional of the Year Award- \n\nhttps://business.waltonareachamber.com/form/view/28210\n\n\n\n\n\n2022 Large Business of the Year-\n\nhttps://business.waltonareachamber.com/form/view/28209\n\n\n\n\n\n2022 Small Business of the Year (South)-\n\nhttps://business.waltonareachamber.com/form/view/28208\n\n\n\n\n\n2022 Small Business of the Year (North)-\n\nhttps://business.waltonareachamber.com/form/view/28207\n\n \n\n\nDo you want to learn more about sponsorship opportunities? Click Here!
X-ALT-DESC;FMTTYPE=text/html:<h5 style="box-sizing: border-box\; font-family: Montserrat\, sans-serif\; font-weight: 300\; line-height: 1.1\; color: rgb(85\, 85\, 85)\; margin-top: 10px\; margin-bottom: 10px\; font-size: 24px\; background-color: rgb(255\, 255\, 255)\; text-align: center\;"><u><strong>Walton Area Chamber Annual Gala</strong></u>&nbsp\;<br />\n<br />\nJoin the WACC for our Annual Chamber Awards Gala hosted this year by the Hilton Sandestin Beach and Golf Resort.<br />\n<br />\nThe business community event of the year is the Walton Area Chamber\, Annual Gala. Help celebrate the successes of the past year\, share our vision for the future\, and enjoy top-notch entertainment. The event format is a seated dinner with a networking reception and chamber awards ceremony. Join us as we raise a glass to the companies and volunteers who partner with us to be the voice of business\, create jobs\, and help our members thrive. The Gala will be held Friday\, March 31st\, at the Hilton Sandestin Beach Golf Resort &amp\; Spa.<br />\n<br />\nThe black-tie optional Gala presented by Hilton Sandestin Beach Golf Resort &amp\; Spa will kick off at 5:30 p.m. with a cocktail reception where guests will have the opportunity to socialize with other attendees including elected officials\, dignitaries\, business owners\, Chamber members\, and guests.&nbsp\;<br />\n<br />\n<br />\n<br />\nVote now! The deadline for nominations will be Friday\, March&nbsp\;3rd.<br />\n<br />\n2022 Walton Area Chamber of Commerce Person of the Year-<br />\n<a href="https://business.waltonareachamber.com/form/view/28206">https://business.waltonareachamber.com/form/view/28206&nbsp\;</a><br />\n<br />\n<br />\n2022 Young Professional of the Year Award-&nbsp\;<br />\n<a href="https://business.waltonareachamber.com/form/view/28210">https://business.waltonareachamber.com/form/view/28210</a><br />\n<br />\n<br />\n2022 Large Business of the Year-<br />\n<a href="https://business.waltonareachamber.com/form/view/28209">https://business.waltonareachamber.com/form/view/28209</a><br />\n<br />\n<br />\n2022 Small Business of the Year (South)-<br />\n<a href="https://business.waltonareachamber.com/form/view/28208">https://business.waltonareachamber.com/form/view/28208</a><br />\n<br />\n<br />\n2022 Small Business of the Year (North)-<br />\n<a href="https://business.waltonareachamber.com/form/view/28207">https://business.waltonareachamber.com/form/view/28207</a><br />\n&nbsp\;</h5>\n<br />\n<span style="font-size:28px\;">Do you want to learn more about sponsorship opportunities?&nbsp\;<a href="https://chambermaster.blob.core.windows.net/userfiles/UserFiles/chambers/885/File/SponsorshipGuide2023final.pdf">Click Here</a>!</span>
LOCATION:Hilton Sandestin Beach Golf Resort & Spa 4000 S Sandestin Blvd\, Miramar Beach\, FL
UID:e.885.34263
SEQUENCE:3
DTSTAMP:20260424T052156Z
URL:https://business.waltonareachamber.com/events/details/2023-walton-area-chamber-annual-gala-34263
END:VEVENT

END:VCALENDAR
