BEGIN:VCALENDAR
VERSION:2.0
PRODID:-//ChamberMaster//Event Calendar 2.0//EN
METHOD:PUBLISH
X-PUBLISHED-TTL:P3D
REFRESH-INTERVAL:P3D
CALSCALE:GREGORIAN
BEGIN:VEVENT
DTSTART:20251114T133000Z
DTEND:20251114T150000Z
X-MICROSOFT-CDO-ALLDAYEVENT:FALSE
SUMMARY:2025 Military and Veterans Appreciation Breakfast Sponsored by CHELCO
DESCRIPTION:Military and Veterans Appreciation Breakfast\n\nJoin us for the Military and Veterans Appreciation Breakfast\, sponsored by CHELCO. This special event honors the brave men and women who have served our country and continue to make a difference in our community. Enjoy breakfast\, fellowship\, and meaningful recognition as we celebrate their dedication and sacrifice.\n\nWe're honored to welcome Lieutenant Governor Jay Collins as our keynote speaker\, sharing "A Special Message From Our Lieutenant Governor." His remarks will highlight appreciation for our active duty\, veteran\, and military family community\, offer a message of inspiration\, and provide updates on what Florida is doing to support our military and veteran population.\n\nThe program will also include a presentation of the colors by the Air Force JROTC and an update from CareerSource Okaloosa Walton\, featuring valuable resources and services available to veterans in our area.\n\n  November 14\, 2025\n\n  7:30 a.m.\n\n  CHELCO\, 655 U.S. Hwy 331 North\, DeFuniak Springs\, FL\n\nSponsored by: CHELCO
X-ALT-DESC;FMTTYPE=text/html:<p data-end="50" data-start="0"><strong data-end="48" data-start="0">Military and Veterans Appreciation Breakfast</strong></p>\n\n<p data-end="370" data-start="52">Join us for the Military and Veterans Appreciation Breakfast\, sponsored by CHELCO. This special event honors the brave men and women who have served our country and continue to make a difference in our community. Enjoy breakfast\, fellowship\, and meaningful recognition as we celebrate their dedication and sacrifice.</p>\n\n<p data-end="744" data-start="372">We&rsquo\;re honored to welcome <strong data-end="432" data-start="397">Lieutenant Governor Jay Collins</strong> as our keynote speaker\, sharing <em data-end="516" data-start="465">&ldquo\;A Special Message From Our Lieutenant Governor.&rdquo\;</em> His remarks will highlight appreciation for our active duty\, veteran\, and military family community\, offer a message of inspiration\, and provide updates on what Florida is doing to support our military and veteran population.</p>\n\n<p data-end="959" data-start="746">The program will also include a presentation of the colors by the Air Force JROTC and an update from <strong data-end="879" data-start="847">CareerSource Okaloosa Walton</strong>\, featuring valuable resources and services available to veterans in our area.</p>\n\n<p data-end="1055" data-start="961">&#128197\; November 14\, 2025<br data-end="984" data-start="981" />\n&#9200\; 7:30 a.m.<br data-end="998" data-start="995" />\n&#128205\; CHELCO\, 655 U.S. Hwy 331 North\, DeFuniak Springs\, FL</p>\n\n<p data-end="1081" data-is-last-node="" data-is-only-node="" data-start="1057"><strong data-end="1074" data-start="1057">Sponsored by:</strong> CHELCO</p>\n
LOCATION:CHELCO\, 655 U.S. Hwy 331 North\, DeFuniak Springs\, FL
UID:e.885.56106
SEQUENCE:3
DTSTAMP:20260422T155735Z
URL:https://business.waltonareachamber.com/events/details/2025-military-and-veterans-appreciation-breakfast-sponsored-by-chelco-56106
END:VEVENT

END:VCALENDAR
