BEGIN:VCALENDAR
VERSION:2.0
PRODID:-//ChamberMaster//Event Calendar 2.0//EN
METHOD:PUBLISH
X-PUBLISHED-TTL:P3D
REFRESH-INTERVAL:P3D
CALSCALE:GREGORIAN
BEGIN:VEVENT
DTSTART:20260328T123000Z
DTEND:20260328T203000Z
X-MICROSOFT-CDO-ALLDAYEVENT:FALSE
SUMMARY:2026 Special Olympics Florida Northwest Region Summer Games
DESCRIPTION:The 2026 Special Olympics Florida Northwest Region Summer Games are coming to Walton County\, and volunteers are needed to help make this inspiring event a success. This incredible day brings together athletes\, coaches\, families\, and community members to celebrate determination\, sportsmanship\, and achievement across a variety of competitive events.\n\nVolunteers play a vital role in supporting athletes and ensuring the games run smoothly. Opportunities are available for event setup as well as assisting with competitions including track and field\, basketball\, bocce\, cheerleading\, cycling\, soccer\, tennis\, and awards presentations. Lunch will be provided for Saturday volunteers.\n\nWhether you can help for a few hours or the full day\, your time and support will make a meaningful impact and help create an unforgettable experience for these athletes.\n\n  Event Date: March 28\, 2026\n\n  Location: Walton High School\, 449 Walton Road\, DeFuniak Springs\, FL\n\nVolunteer Opportunities:\n\n  March 27\, 2026 | 4:30 PM   7:00 PM | Event Set-Up\n\n  March 28\, 2026 | 7:30 AM   3:30 PM | Competition Support (Lunch Provided)\n\nVolunteer Areas Include:\n\n  Track & Field\n\n  Basketball\n\n  Bocce\n\n  Cheerleading\n\n  Cycling\n\n  Soccer\n\n  Tennis\n\n  Awards & Lunch Support\n\nFor more information or to volunteer\, please contact:\n\nLaura Jones\n\n352-936-1624\n\nlaurajones@sofl.org
X-ALT-DESC;FMTTYPE=text/html:<p data-end="474" data-start="121" style="color: rgb(0\, 0\, 0)\; font-size: medium\;">The <strong data-end="188" data-start="125">2026 Special Olympics Florida Northwest Region Summer Games</strong> are coming to Walton County\, and volunteers are needed to help make this inspiring event a success. This incredible day brings together athletes\, coaches\, families\, and community members to celebrate determination\, sportsmanship\, and achievement across a variety of competitive events.</p>\n\n<p data-end="806" data-start="476" style="color: rgb(0\, 0\, 0)\; font-size: medium\;">Volunteers play a vital role in supporting athletes and ensuring the games run smoothly. Opportunities are available for event setup as well as assisting with competitions including track and field\, basketball\, bocce\, cheerleading\, cycling\, soccer\, tennis\, and awards presentations. Lunch will be provided for Saturday volunteers.</p>\n\n<p data-end="977" data-start="808" style="color: rgb(0\, 0\, 0)\; font-size: medium\;">Whether you can help for a few hours or the full day\, your time and support will make a meaningful impact and help create an unforgettable experience for these athletes.</p>\n\n<p data-end="1083" data-start="979" style="color: rgb(0\, 0\, 0)\; font-size: medium\;">&#128197\; Event Date: March 28\, 2026<br data-end="1011" data-start="1008" />\n&#128205\; Location: Walton High School\, 449 Walton Road\, DeFuniak Springs\, FL</p>\n\n<p data-end="1245" data-start="1085" style="color: rgb(0\, 0\, 0)\; font-size: medium\;"><strong data-end="1113" data-start="1085">Volunteer Opportunities:</strong><br data-end="1116" data-start="1113" />\n&bull\; March 27\, 2026 | 4:30 PM &ndash\; 7:00 PM | Event Set-Up<br data-end="1170" data-start="1167" />\n&bull\; March 28\, 2026 | 7:30 AM &ndash\; 3:30 PM | Competition Support (Lunch Provided)</p>\n\n<p data-end="1398" data-start="1247" style="color: rgb(0\, 0\, 0)\; font-size: medium\;"><strong data-end="1275" data-start="1247">Volunteer Areas Include:</strong><br data-end="1278" data-start="1275" />\n&bull\; Track &amp\; Field<br data-end="1296" data-start="1293" />\n&bull\; Basketball<br data-end="1311" data-start="1308" />\n&bull\; Bocce<br data-end="1321" data-start="1318" />\n&bull\; Cheerleading<br data-end="1338" data-start="1335" />\n&bull\; Cycling<br data-end="1350" data-start="1347" />\n&bull\; Soccer<br data-end="1361" data-start="1358" />\n&bull\; Tennis<br data-end="1372" data-start="1369" />\n&bull\; Awards &amp\; Lunch Support</p>\n\n<p data-end="1504" data-start="1400" style="color: rgb(0\, 0\, 0)\; font-size: medium\;">For more information or to volunteer\, please contact:<br data-end="1456" data-start="1453" />\nLaura Jones<br data-end="1470" data-start="1467" />\n352-936-1624<br data-end="1485" data-start="1482" />\n<a class="decorated-link cursor-pointer" data-end="1504" data-start="1485" rel="noopener">laurajones@sofl.org<span aria-hidden="true" class="ms-0.5 inline-block align-middle leading-none"><svg aria-hidden="true" class="block h-[0.75em] w-[0.75em] stroke-current stroke-[0.75]" data-rtl-flip="" height="20" width="20" xmlns="http://www.w3.org/2000/svg"><use fill="currentColor" href="/cdn/assets/sprites-core-gvfid0kn.svg#304883"></use></svg></span></a></p>\n
LOCATION:Location: Walton High School\, 449 Walton Road\, DeFuniak Springs\, FL
UID:e.885.56733
SEQUENCE:3
DTSTAMP:20260419T121923Z
URL:https://business.waltonareachamber.com/events/details/2026-special-olympics-florida-northwest-region-summer-games-56733
END:VEVENT

END:VCALENDAR
