BEGIN:VCALENDAR
VERSION:2.0
PRODID:-//ChamberMaster//Event Calendar 2.0//EN
METHOD:PUBLISH
X-PUBLISHED-TTL:P3D
REFRESH-INTERVAL:P3D
CALSCALE:GREGORIAN
BEGIN:VEVENT
DTSTART;VALUE=DATE:20211104
DTEND;VALUE=DATE:20211107
TRANSP:TRANSPARENT
X-MICROSOFT-CDO-ALLDAYEVENT:TRUE
SUMMARY:25th Anniversary South Walton Celebrity Golf Classic
DESCRIPTION:The Destin area is proud to announce the 25th Anniversary of South Walton Celebrity Golf Classic\, Presented by\, Celebrities for Charity Inc. a 501-C-3 Nonprofit. This years event will have heavy media coverage and player participation.
X-ALT-DESC;FMTTYPE=text/html:The Destin area is proud to announce the 25th Anniversary of South Walton Celebrity Golf Classic\, Presented by\, Celebrities for Charity Inc. a 501-C-3 Nonprofit. This years event will have heavy media coverage and player participation.
LOCATION:The events are held at Baytowne and Raven Golf courses located at Sandestin Golf & Beach Resort and Hilton Sandestin Beach Golf Resort & Spa.
UID:e.885.32437
SEQUENCE:3
DTSTAMP:20260423T043809Z
URL:https://business.waltonareachamber.com/events/details/25th-anniversary-south-walton-celebrity-golf-classic-32437
END:VEVENT

END:VCALENDAR
