BEGIN:VCALENDAR
VERSION:2.0
PRODID:-//ChamberMaster//Event Calendar 2.0//EN
METHOD:PUBLISH
X-PUBLISHED-TTL:P3D
REFRESH-INTERVAL:P3D
CALSCALE:GREGORIAN
BEGIN:VEVENT
DTSTART;VALUE=DATE:20190830
DTEND;VALUE=DATE:20190902
TRANSP:TRANSPARENT
X-MICROSOFT-CDO-ALLDAYEVENT:TRUE
SUMMARY:28th Annual Greek Festival
DESCRIPTION:28th Annual Greek Festival\n\nDates & Times: \n\n\n	Friday\, August 30th - 4pm to 9pm\n	Saturday\, August 31st - 11am to 9pm\n	Sunday\, September 1st - 11am to 4pm\n\n\nLocation: Emerald Coast Convention Center (Okaloosa Island)\n\n1250 Miracle Strip Pkwy SE\, Fort Walton Beach\, FL 32548\n\nCome enjoy the 28th Annual Greek Festival during Labor Day weekend at the Emerald Coast Convention Center on Okaloosa Island!\n\n\n\nTaste various Greek foods\, desserts\, and drinks being served up throughout the festival. Let your ears enjoy the sounds provided by the Kosta Kastanis Band\, one of the hottest and most exciting Greek bands in the U.S. Let your eyes marvel at our local Greek dancers as they perform live for you our guests. \n\n\n\nWe will have multiple local and national vendors showing and selling their crafts and goods.  There also will be a display of a Greek Orthodox Church for all guests to visit and learn about it.\n\n\n\nExperience the taste of Greece at the 28th Annual Fort Walton Beach Greek Festival!\n\n\n\nAdmission: $2 Per Person (Free for children 12 and under)\n\nThis year\, thanks to two wonderful sponsors (Wyndham Destination and Silver Airways) we are giving away a 7-night/8-day stay at any Wyndham Destination property in the world along with a pair of Silver Airways airline tickets from VPS to Orlando (you can connect from there).  We will be giving away two packages and the ways to register are 1) Sign up at the Wyndham Destinations booth in the festival and 2) like the Greek Fest page on facebook (@GreekFestFWB) and "check in" on Facebook that you are at the festival.  One package will be for the in person registrants and one will be for those who register via Facebook.  You can register each day and both ways!\n\n\n\nSponsored By: Saints Markella and Demetrios Greek Orthodox Church and Emerald Coast Convention & Visitors Bureau\n\nFlorida's Emerald Coast \n\n \n\nwww.facebook.com/GreekFestFWB/\n\nhttp://www.greekfestivalfwb.com/
X-ALT-DESC;FMTTYPE=text/html:<p><strong><span style="font-size:18px">28th Annual Greek Festival</span></strong></p>\n\n<p><strong>Dates &amp\; Times: </strong></p>\n\n<ul>\n	<li><strong>Friday\, August 30<sup>th</sup> - 4pm to 9pm</strong></li>\n	<li><strong>Saturday\, August 31<sup>st</sup> - 11am to 9pm</strong></li>\n	<li><strong>Sunday\, September 1<sup>st</sup>&nbsp\;- 11am to 4pm</strong></li>\n</ul>\n\n<p><strong>Location: Emerald Coast Convention Center (Okaloosa Island)</strong><br />\n1250 Miracle Strip Pkwy SE\, Fort Walton Beach\, FL 32548</p>\n\n<p><span style="color:rgb(29\, 33\, 41)">Come enjoy the 28th Annual Greek Festival during Labor Day weekend at the Emerald Coast Convention Center on Okaloosa Island!<br />\n<br />\nTaste various Greek foods\, desserts\, and drinks being served up throughout the festival. Let your ears enjoy the sounds provided by the Kosta Kastanis Band\, one of the hottest and most exciting Greek bands in the U.S. Let your eyes marvel at our local Greek dancers as they perform live for you our guests.&nbsp\;<br />\n<br />\n<span style="color:rgb(29\, 33\, 41)">We will have multiple local and national vendors showing and selling their crafts and goods.&nbsp\; There also will be a display of a Greek Orthodox Church for all guests to visit and learn about it.<br />\n<br />\nExperience the taste of Greece at the 28th Annual Fort Walton Beach Greek Festival!<br />\n<br />\n<strong>Admission: $2 Per Person (Free for children 12 and under)</strong></span></span></p>\n\n<p><span style="color:rgb(29\, 33\, 41)">This year\, thanks to two wonderful sponsors (Wyndham Destination and Silver Airways) we are giving away a 7-night/8-day stay at any Wyndham Destination property in the world along with a pair of Silver Airways airline tickets from VPS to Orlando (you can connect from there).&nbsp\; We will be giving away two packages and the ways to register are 1) Sign up at the Wyndham Destinations booth in the festival and 2) like the Greek Fest page on facebook (@GreekFestFWB) and &ldquo\;check in&rdquo\; on Facebook that you are at the festival.&nbsp\; One package will be for the in person registrants and one will be for those who register via Facebook.&nbsp\; You can register each day and both ways!<br />\n<br />\nSponsored By: Saints Markella and Demetrios Greek Orthodox Church and Emerald Coast Convention &amp\; Visitors Bureau<br />\n<a href="https://www.facebook.com/FloridasEmeraldCoast/%22%20%5Ct%20%22_blank"><span style="color:rgb(56\, 88\, 152)">Florida&#39\;s Emerald Coast</span></a>&nbsp\;</span><br />\n&nbsp\;</p>\n\n<p><span style="font-size:14pt"><a href="http://www.facebook.com/GreekFestFWB/"><span style="color:purple">www.facebook.com/GreekFestFWB/</span></a></span></p>\n\n<p><span style="font-size:14pt"><a href="http://www.greekfestivalfwb.com/"><span style="color:purple">http://www.greekfestivalfwb.com/</span></a></span></p>\n
LOCATION:Emerald Coast Convention Center (Okaloosa Island) 1250 Miracle Strip Pkwy SE\, Fort Walton Beach\, FL 32548
UID:e.885.24066
SEQUENCE:3
DTSTAMP:20260420T020013Z
URL:https://business.waltonareachamber.com/events/details/28th-annual-greek-festival-24066
END:VEVENT

END:VCALENDAR
