BEGIN:VCALENDAR
VERSION:2.0
PRODID:-//ChamberMaster//Event Calendar 2.0//EN
METHOD:PUBLISH
X-PUBLISHED-TTL:P3D
REFRESH-INTERVAL:P3D
CALSCALE:GREGORIAN
BEGIN:VEVENT
DTSTART:20211204T180000Z
DTEND:20211204T220000Z
X-MICROSOFT-CDO-ALLDAYEVENT:FALSE
SUMMARY:2nd Annual Beachy Little Christmas at The Island Resort
DESCRIPTION:WHO: The Island Resort\n\n \n\nWHAT: 2nd Annual Beachy Little Christmas\n\n \n\nWHEN: Saturday\, December 4\, 2021 | 12:00 - 4:00 pm \n\n \n\nWHERE: The Island\, 1500 Miracle Strip Pkwy SE\, Fort Walton Beach\, FL 32548\n\n \n\nDESCRIPTION: It's the holidays and The Island is excited to bring a little sand into the season! Join The Island on Saturday\, December 4 for a holiday tradition in paradise\, A Beachy Little Christmas. The Island Resort will be decked out in beautiful Christmas decor to set the stage for the celebration in store. Festivities begin at noon\, with an opportunity for resort guests and the local community to meet and greet with Misty Claus - The Island's resident mermaid. Attendees will also enjoy activities including kids crafts\, spirited holiday music\, special seasonal cocktails\, and more.  At 12:30 pm\, guests of all ages will have the opportunity to build snowmen and other holiday scenery around the beach! A skilled team of professionals* will be on hand to teach all their tips and tricks in sand sculptures. This event is free to attend and open to all who seek the holiday spirit!\n\n \n\nSchedule of Events: \n\n12:00 - 4:00 pm - Kids crafts\, Music\, Misty Claus\, Beverages\, and more!\n\n12:30 pm - Community Sand Sculptures\n\n \n\n*Everyone is welcome to participate in the sand sculpture demo/class at 12:30 pm. If you would like to work with one of the professional sand sculptors\, please arrive as early as possible and notify The Island staff working the event.\n\n###\nAbout The Island Resort: \n\nRenowned for its location on 600-ft. of private sugar sand beach on the Gulf of Mexico\, The Island is a 10-acre\, 333-room resort with two pools and the iconic Grotto swim-up bar set amid lush tropical landscaping\, five dining options\, The Island Green beachfront wedding venue\, new glass-walled Tavern on the Island\, and 24\,000-sq. ft. of renovated event space. For reservations\, please visit www.theislandfl.com\, call toll-free 800-874-8962 or contact a travel agent. Join us at The Island on Facebook and Instagram.
X-ALT-DESC;FMTTYPE=text/html:<strong><span style="font-family:calibri\,sans-serif\;">WHO:</span></strong><span style="font-family:calibri\,sans-serif\;">&nbsp\;The Island Resort</span><br />\n&nbsp\;<br />\n<strong><span style="font-family:calibri\,sans-serif\;">WHAT:</span></strong><span style="font-family:calibri\,sans-serif\;">&nbsp\;2nd Annual Beachy Little Christmas</span><br />\n&nbsp\;<br />\n<strong><span style="font-family:calibri\,sans-serif\;">WHEN:</span></strong><span style="font-family:calibri\,sans-serif\;">&nbsp\;Saturday\, December 4\, 2021 | 12:00 - 4:00 pm&nbsp\;</span><br />\n&nbsp\;<br />\n<strong><span style="font-family:calibri\,sans-serif\;">WHERE:&nbsp\;</span></strong><span style="font-family:calibri\,sans-serif\;">The Island\,&nbsp\;<span style="color:#202124\;">1500 Miracle Strip Pkwy SE\, Fort Walton Beach\, FL 32548</span></span><br />\n&nbsp\;<br />\n<strong><span style="font-family:calibri\,sans-serif\;">DESCRIPTION:&nbsp\;</span></strong><span style="font-family:calibri\,sans-serif\;">It&#39\;s the holidays and The Island is excited to bring a little sand into the season! Join The Island on Saturday\, December 4 for a holiday tradition in paradise\, A Beachy Little Christmas. The Island Resort will be decked out in beautiful Christmas decor to set the stage for the celebration in store. Festivities begin at noon\, with an opportunity for resort guests and the local community to meet and greet with Misty Claus - The Island&rsquo\;s resident mermaid. Attendees will also enjoy activities including kids crafts\, spirited holiday music\, special seasonal cocktails\, and more.&nbsp\;&nbsp\;At 12:30 pm\, guests of all ages will have the opportunity to build snowmen and other holiday scenery around the beach! A skilled team of professionals* will be on hand to teach all their tips and tricks in sand sculptures. This event is free to attend and open to all who seek the holiday spirit!</span><br />\n&nbsp\;<br />\n<strong><span style="font-family:calibri\,sans-serif\;">Schedule of Events:&nbsp\;</span></strong><br />\n<span style="font-family:calibri\,sans-serif\;">12:00 - 4:00 pm - Kids crafts\, Music\, Misty Claus\, Beverages\, and more!</span><br />\n<span style="font-family:calibri\,sans-serif\;">12:30 pm - Community Sand Sculptures</span><br />\n&nbsp\;<br />\n<em><span style="font-family:calibri\,sans-serif\;">*Everyone is welcome to participate in the sand sculpture demo/class at 12:30 pm. If you would like to work with one of the professional sand sculptors\, please arrive as early as possible and notify The Island staff working the event.</span></em>\n\n<div style="color:rgb(0\, 0\, 0)\;border-style:none\;border-top-width:1pt\;padding:6pt 0in 0in\;"><strong><em><span style="font-family:calibri\,sans-serif\;">###</span></em></strong></div>\n<strong><span style="font-family:calibri\,sans-serif\;">About The Island Resort:&nbsp\;</span></strong><br />\n<span style="font-family:calibri\,sans-serif\;">Renowned for its location on 600-ft. of private sugar sand beach on the Gulf of Mexico\, The Island is a 10-acre\, 333-room resort with two pools and the iconic Grotto swim-up bar set amid lush tropical landscaping\, five dining options\, The Island Green beachfront wedding venue\, new glass-walled Tavern on the Island\, and 24\,000-sq. ft. of renovated event space. For reservations\, please visit</span>&nbsp\;<a href="http://www.theislandfl.com/"><span style="color:#1155cc\;"><span style="font-family:calibri\,sans-serif\;">www.theislandfl.com</span></span></a><span style="font-family:calibri\,sans-serif\;">\, call toll-free 800-874-8962 or contact a travel agent. Join us at The Island on</span>&nbsp\;<a href="https://www.facebook.com/TheIslandFL/"><span style="color:#1155cc\;"><span style="font-family:calibri\,sans-serif\;">Facebook</span></span></a><span style="font-family:calibri\,sans-serif\;">&nbsp\;and</span>&nbsp\;<a href="https://www.instagram.com/theislandfl/"><span style="color:#1155cc\;"><span style="font-family:calibri\,sans-serif\;">Instagram</span></span></a><span style="font-family:calibri\,sans-serif\;">.</span>
LOCATION:The Island\, 1500 Miracle Strip Pkwy SE\, Fort Walton Beach\, FL 32548
UID:e.885.32621
SEQUENCE:3
DTSTAMP:20260423T080920Z
URL:https://business.waltonareachamber.com/events/details/2nd-annual-beachy-little-christmas-at-the-island-resort-32621
END:VEVENT

END:VCALENDAR
