BEGIN:VCALENDAR
VERSION:2.0
PRODID:-//ChamberMaster//Event Calendar 2.0//EN
METHOD:PUBLISH
X-PUBLISHED-TTL:P3D
REFRESH-INTERVAL:P3D
CALSCALE:GREGORIAN
BEGIN:VEVENT
DTSTART:20220507T113000Z
DTEND:20220507T170000Z
X-MICROSOFT-CDO-ALLDAYEVENT:FALSE
SUMMARY:2nd Annual Tutu Trot and Color Run 5k Run and Walk
DESCRIPTION:Please join us for the Second Annual Tutu Trot and Color Run 5k Run and Walk! Registration starts at 6:30 a.m. and race starts at 8:00 a.m. Breakfast\, beer\, and music after the race!  Don't forget to visit the photo booth!  You could win and two night stay at Hotel Effie\, a gift certificate to Oviedo for breakfast\, and a $300 gift certificate to Lululemon.  Each participant will automatically receive one raffle ticket.  Additional raffle tickets are $35 each.  You do not have to participate in the event to enter the raffle or be present to win.  The winner will be selected on race day.\n\n\n\nThe 2nd Annual Tutu Trot 5k Color Run/Walk in Hammock Bay To Benefit Haven House and Matrix Community Outreach Center\n\n \n\nThe Tutu Trot is a public 5k Run/Walk on May 7\, 2022 in beautiful Hammock Bay in Freeport\, FL benefitting Haven House and Matrix Community Outreach Center. All entries are $35 and include a t-shirt and one raffle entry for a prize that includes a two night stay at Hotel Effie in Sandestin\, breakfast for two at Ovide and a $300 Gift Certificate to Lululemon. You do not have to be present to win. If you don't want to race\, but want a chance to win\, you can buy tickets to the raffle without having to run in the TuTu Trot. There will be custom age group award medals for both the 5K Run and Walk. This year\, there will be a professional timing system run by International Running Co. The course starts out and ends on flat and fast neighborhood streets. The middle of the course is on Hammock Bay's wooded trails and a path around the Freeport Sports Complex. The race will start on the Y in the street in between the Hammock Bay General Store and the ClubHouse. As you arrive at the event address\, traffic control will direct you to free parking. Event address: 425 Victory Blvd\, Freeport\, FL 32439\n\n \n\nRacers and families will be able to capture the fun in the EPIC photo booth\, and enjoy breakfast provided by Bookies Breakfast and Infinity Chef. Over at the General Store\, Odd Pelican Brewery will have beer and Dion Jones and the Neon Tears will be rockin' away.\n\nDon't forget your tutu! This year will be a color run\, so get your camera ready - it's going to be one colorful event. \n\nPlease visit www.tututrot.com for more information on this year's charities and on the race details.\n\n \n\nThe Tutu Trot mission is: To run and walk in tutus together outside in the fresh air as a community\, while raising funds for charities that are designed to benefit\, ameliorate\, or uplift mankind mentally\, morally\, or physically.\n\n \n\nInterested in sponsoring? Sponsorship opportunities are available for the Run/Walk. For more information and sponsorship package\, email TutuTrot4Charity@gmail.com. \n\n \n\nAbout Haven House:\n\nHaven House's mission is "to approach addiction from a spiritual perspective. Haven House helps change their residents for the better by helping them grow spiritually through recovery".\n\n \n\nAbout Matrix Community Outreach Center:\n\nMatrix Community Outreach Center and its mission "through advocacy\, education\, partnerships\, volunteers\, and financial assistance\; we strive to bridge the gaps between needs and resources while implementing a holistic approach to our charitable efforts".
X-ALT-DESC;FMTTYPE=text/html:Please join us for the Second Annual Tutu Trot and Color Run 5k Run and Walk! Registration starts at 6:30 a.m. and race starts at 8:00 a.m. Breakfast\, beer\, and music after the race!&nbsp\; Don&#39\;t forget to visit the photo booth!&nbsp\; You could win and two night stay at Hotel Effie\, a gift certificate to Oviedo for breakfast\, and a $300 gift certificate to Lululemon.&nbsp\; Each participant will automatically receive one raffle ticket.&nbsp\; Additional raffle tickets are $35 each.&nbsp\; You do not have to participate in the event to enter the raffle or be present to win.&nbsp\; The winner will be selected on race day.<br />\n<br />\n<strong>The 2nd Annual Tutu Trot 5k Color Run/Walk in Hammock Bay To Benefit Haven House and Matrix Community Outreach Center</strong><br />\n&nbsp\;<br />\nThe Tutu Trot is a public 5k Run/Walk on May 7\, 2022 in beautiful Hammock Bay in Freeport\, FL benefitting Haven House and Matrix Community Outreach Center. All entries are $35 and include a t-shirt and one raffle entry for a prize that includes a two night stay at Hotel Effie in Sandestin\, breakfast for two at Ovide and a $300 Gift Certificate to Lululemon. You do not have to be present to win. If you don&#39\;t want to race\, but want a chance to win\, you can buy tickets to the raffle without having to run in the TuTu Trot. There will be custom age group award medals for both the 5K Run and Walk. This year\, there will be a professional timing system run by International Running Co. The course starts out and ends on flat and fast neighborhood streets. The middle of the course is on Hammock Bay&#39\;s wooded trails and a path around the Freeport Sports Complex. The race will&nbsp\;start on the Y in the street in between the Hammock Bay General Store and the ClubHouse. As you arrive at the event address\, traffic control will direct you to free parking. Event address: 425 Victory Blvd\, Freeport\, FL 32439<br />\n&nbsp\;<br />\nRacers and families will be able to capture the fun in the EPIC photo booth\, and enjoy breakfast provided by Bookies Breakfast and Infinity Chef. Over at the General Store\, Odd Pelican Brewery will have beer and Dion Jones and the Neon Tears will be rockin&#39\; away.<br />\nDon&rsquo\;t forget your tutu! This year will be a color run\, so get your camera ready - it&#39\;s going to be one colorful event.&nbsp\;<br />\nPlease visit&nbsp\;<a href="http://www.tututrot.com/" target="_blank">www.tututrot.com</a>&nbsp\;for more information on this year&#39\;s charities and on the race details.<br />\n&nbsp\;<br />\nThe Tutu Trot mission is: To run and walk in tutus together outside in the fresh air as a community\, while raising funds for charities that are designed to benefit\, ameliorate\, or uplift mankind mentally\, morally\, or physically.<br />\n&nbsp\;<br />\nInterested in sponsoring? Sponsorship opportunities are available for the Run/Walk. For more information and sponsorship package\, email <a href="mailto:TutuTrot4Charity@gmail.com" target="_blank">TutuTrot4Charity@gmail.com</a>.&nbsp\;<br />\n&nbsp\;<br />\n<strong>About Haven House:</strong><br />\nHaven House&#39\;s mission is &quot\;to approach addiction from a spiritual perspective. Haven House helps change their residents for the better by helping them grow spiritually through recovery&quot\;.<br />\n&nbsp\;<br />\n<strong>About Matrix Community Outreach Center:</strong><br />\nMatrix Community Outreach Center and its mission &quot\;through advocacy\, education\, partnerships\, volunteers\, and financial assistance\; we strive to bridge the gaps between needs and resources while implementing a holistic approach to our charitable efforts&quot\;.<br />\n&nbsp\;<br />\n&nbsp\;
LOCATION:
UID:e.885.33862
SEQUENCE:3
DTSTAMP:20260423T143044Z
URL:https://business.waltonareachamber.com/events/details/2nd-annual-tutu-trot-and-color-run-5k-run-and-walk-33862
END:VEVENT

END:VCALENDAR
