BEGIN:VCALENDAR
VERSION:2.0
PRODID:-//ChamberMaster//Event Calendar 2.0//EN
METHOD:PUBLISH
X-PUBLISHED-TTL:P3D
REFRESH-INTERVAL:P3D
CALSCALE:GREGORIAN
BEGIN:VEVENT
DTSTART:20211203T170000Z
DTEND:20211203T180000Z
X-MICROSOFT-CDO-ALLDAYEVENT:FALSE
SUMMARY:30A Beach Girls Grand Opening/ Ribbon Cutting for New Office
DESCRIPTION:Join us for the Grand Opening and Ribbon Cutting for 30A Beach Girls! The event is from 11:00-12:00\, with the ribbon cutting taking place at 11:30.  Refreshments and hors d'oeuvres will be provided.  We hope to see you there!
X-ALT-DESC;FMTTYPE=text/html:Join us for the Grand Opening and Ribbon Cutting for 30A Beach Girls! The event is from 11:00-12:00\, with the ribbon cutting taking place at 11:30.&nbsp\; Refreshments and hors d&#39\;oeuvres will be provided.&nbsp\; We hope to see you there!&nbsp\;
LOCATION:
UID:e.885.32656
SEQUENCE:3
DTSTAMP:20260423T064021Z
URL:https://business.waltonareachamber.com/events/details/30a-beach-girls-grand-opening-ribbon-cutting-for-new-office-32656
END:VEVENT

END:VCALENDAR
