BEGIN:VCALENDAR
VERSION:2.0
PRODID:-//ChamberMaster//Event Calendar 2.0//EN
METHOD:PUBLISH
X-PUBLISHED-TTL:P3D
REFRESH-INTERVAL:P3D
CALSCALE:GREGORIAN
BEGIN:VEVENT
DTSTART:20211009T150000Z
DTEND:20211010T000000Z
X-MICROSOFT-CDO-ALLDAYEVENT:FALSE
SUMMARY:33rd Annual ArtsQuest Fine Arts Festival
DESCRIPTION:In its 33rd year\, the ArtsQuest Fine Arts & Music Festival takes place in the Town Center of Grand Boulevard at Sandestin. Produced by the Cultural Arts Alliance of Walton County\, ArtsQuest provides an opportunity to view and purchase original art from over 150 artists from around the country while also experiencing live musical entertainment\, ImagiNation (where kids rule)\, student exhibits and great food & beverage options in the Town Center of Grand Boulevard at Sandestin. ArtsQuest is a juried show that includes artists in the categories of Ceramics\, Fiber\, Glass\, Jewelry\, Metal\, Mixed Media\, Oils & Acrylics\, Original Digital Art\, Photography\, Sculpture\, Wood and Works on Paper (Watercolor\, Printmaking\, Pastels\, Pencils\, Ink). ArtsQuest awards $10\,000 in cash prizes and is a rain or shine event. Find out more at CulturalArtsAlliance.com.
X-ALT-DESC;FMTTYPE=text/html:<span style="font-size:14px\;"><span style="font-family:arial\;"><span style="color: rgb(57\, 57\, 57)\;">In its 33rd year\, the ArtsQuest Fine Arts &amp\; Music Festival takes place in the Town Center of&nbsp\;</span><a href="http://grandboulevard.com/" rel="noopener noreferrer" style="color: rgb(157\, 157\, 157)\; background-image: initial\; background-position: 0px 0px\; background-size: initial\; background-repeat: initial\; background-attachment: initial\; background-origin: initial\; background-clip: initial\; border: 0px\; margin: 0px\; padding: 0px\; vertical-align: baseline\; outline: 0px\; text-decoration-line: none\; cursor: pointer\; transition: color 0.3s ease-in-out\; position: relative\; font-family: Gotham-Book\, sans-serif\;" target="_blank">Grand Boulevard at Sandestin</a><span style="color: rgb(57\, 57\, 57)\;">. Produced by the&nbsp\;</span><a href="http://culturalartsalliance.com/" rel="noopener noreferrer" style="color: rgb(157\, 157\, 157)\; background-image: initial\; background-position: 0px 0px\; background-size: initial\; background-repeat: initial\; background-attachment: initial\; background-origin: initial\; background-clip: initial\; border: 0px\; margin: 0px\; padding: 0px\; vertical-align: baseline\; outline: 0px\; text-decoration-line: none\; cursor: pointer\; transition: color 0.3s ease-in-out\; position: relative\; font-family: Gotham-Book\, sans-serif\;" target="_blank">Cultural Arts Alliance of Walton County</a><span style="color: rgb(57\, 57\, 57)\;">\, ArtsQuest provides an opportunity to view and purchase original art from over 150&nbsp\;artists from around the country while also experiencing live musical entertainment\, ImagiNation (where kids rule)\, student exhibits and great food &amp\; beverage options in the Town Center of Grand Boulevard at Sandestin. ArtsQuest is a juried show that includes artists in the categories of Ceramics\, Fiber\, Glass\, Jewelry\, Metal\, Mixed Media\, Oils &amp\; Acrylics\, Original Digital Art\, Photography\, Sculpture\, Wood and Works on Paper (Watercolor\, Printmaking\, Pastels\, Pencils\, Ink). ArtsQuest awards $10\,000 in cash prizes and is a rain or shine event. Find out more at <a href="https://culturalartsalliance.com/artsquest-fine-arts-festival/" target="_blank">CulturalArtsAlliance.com</a>.&nbsp\;</span></span></span>
LOCATION:Grand Boulevard Town Center
UID:e.885.32353
SEQUENCE:3
DTSTAMP:20260423T044024Z
URL:https://business.waltonareachamber.com/events/details/33rd-annual-artsquest-fine-arts-festival-32353
END:VEVENT

END:VCALENDAR
