BEGIN:VCALENDAR
VERSION:2.0
PRODID:-//ChamberMaster//Event Calendar 2.0//EN
METHOD:PUBLISH
X-PUBLISHED-TTL:P3D
REFRESH-INTERVAL:P3D
CALSCALE:GREGORIAN
BEGIN:VEVENT
DTSTART:20250504T150000Z
DTEND:20250504T220000Z
X-MICROSOFT-CDO-ALLDAYEVENT:FALSE
SUMMARY:37th Annual ArtsQuest Fine Arts Festival
DESCRIPTION:37th Annual ArtsQuest Fine Arts Festival\n\n\n\nJoin us for the 37th annual ArtsQuest Fine Arts Festival on Saturday\, May 3\, from 10 a.m.   7 p.m.\, and Sunday\, May 4\, from 10 a.m.   5 p.m.\, at Grand Boulevard Town Center. Produced by the CAA and presented by Grand Boulevard with additional support from Visit South Walton\, this beloved family-friendly festival showcases over 120 national and regional artists offering a diverse selection of original works for viewing and purchase.\n\nAs a juried fine arts show\, ArtsQuest features artists across multiple categories\, including Ceramics\, Fiber\, Glass\, Jewelry\, Metal\, Mixed Media\, Oils & Acrylics\, Original Digital Art\, Photography\, Sculpture\, Wood\, and Works on Paper (Watercolor\, Printmaking\, Pastels\, Pencils\, Ink). The festival awards $10\,000 in cash prizes to participating artists and welcomes attendees rain or shine. A $5 admission donation is encouraged to support the Arts.\n\nNEW this year\, we are pleased to introduce an exclusive VIP Package\, offering festival goers an elevated way to enjoy the event. The package includes a Sip & Shop experience on Saturday\, May 3 from 5 - 7 p.m. with special offers from participating artists\, a meet and greet with featured artist Gerard Frank\, as well as access to a shaded private lounge featuring complimentary snacks\, drinks\, and interactive activities throughout the weekend. Snag your VIP tickets early for just $50 during our pre-event sale now through Friday\, May 2 at midnight!\n\nhttps://www.culturalartsalliance.com/event-details/37th-annual-artsquest-fine-arts-festival?\n\n\n\nPrefer to wait? Tickets will also be available for $75 on Saturday\, May 3.\n\n\n\nBeyond the art\, festival goers can enjoy live art demonstrations\, a CAA member exhibition\, a Walton County student exhibit\, a special showcase from the CAA's Prison Art program\, an interactive public art installation\, a Silent Auction\, and continuous live music and entertainment. Young creatives will love "ImagiNation: where kids rule"\, a hands-on experience designed just for them.\n\n \n\nA full cash bar will be available all weekend in Grand Park\, ensuring you can sip\, stroll\, and soak in the vibrant atmosphere of ArtsQuest where creativity\, community\, and culture come together!\n\n \n\nArtsQuest Fine Arts Festival is a rain or shine event.
X-ALT-DESC;FMTTYPE=text/html:<h2>37th Annual ArtsQuest Fine Arts Festival</h2>\n\n<div style="background:transparent\; border:0px\; padding:0px">\n<div style="background:transparent\; border:0px\; padding:0px">\n<p style="text-align:initial"><span style="background-color:var(--ricos-custom-p-background-color\,unset)">Join us for the </span><strong>37th annual ArtsQuest Fine Arts Festival</strong><span style="background-color:var(--ricos-custom-p-background-color\,unset)">&nbsp\;on </span><strong>Saturday\, May 3\, from 10 a.m. &ndash\; 7 p.m.</strong><span style="background-color:var(--ricos-custom-p-background-color\,unset)">\, and </span><strong>Sunday\, May 4\, from 10 a.m. &ndash\; 5 p.m.</strong><span style="background-color:var(--ricos-custom-p-background-color\,unset)">\, at </span><strong>Grand Boulevard Town Center</strong><span style="background-color:var(--ricos-custom-p-background-color\,unset)">. Produced by the </span><strong>CAA</strong><span style="background-color:var(--ricos-custom-p-background-color\,unset)">&nbsp\;and presented by Grand Boulevard with additional support from Visit South Walton\, this beloved family-friendly festival showcases </span><strong>over 120 national and regional artists</strong><span style="background-color:var(--ricos-custom-p-background-color\,unset)">&nbsp\;offering a diverse selection of original works for viewing and purchase.</span></p>\n\n<p style="text-align:initial"><span style="background-color:var(--ricos-custom-p-background-color\,unset)">As a juried fine arts show\, ArtsQuest features artists across multiple categories\, including </span><strong>Ceramics\, Fiber\, Glass\, Jewelry\, Metal\, Mixed Media\, Oils &amp\; Acrylics\, Original Digital Art\, Photography\, Sculpture\, Wood\, and Works on Paper (Watercolor\, Printmaking\, Pastels\, Pencils\, Ink)</strong><span style="background-color:var(--ricos-custom-p-background-color\,unset)">. The festival awards </span><strong>$10\,000 in cash prizes</strong><span style="background-color:var(--ricos-custom-p-background-color\,unset)">&nbsp\;to participating artists and welcomes attendees rain or shine. A </span><strong>$5 admission donation</strong><span style="background-color:var(--ricos-custom-p-background-color\,unset)">&nbsp\;is encouraged to support the Arts.</span></p>\n\n<div style="background:transparent\; border:0px\; padding:0px\; text-align:initial"><strong style="background-color:transparent\; text-align:initial">NEW</strong><span style="background-color:var(--ricos-custom-p-background-color\,unset)\; text-align:initial">&nbsp\;this year\, we are pleased to introduce an exclusive </span><strong style="background-color:transparent\; text-align:initial">VIP Package\,</strong><span style="background-color:var(--ricos-custom-p-background-color\,unset)\; text-align:initial">&nbsp\;offering festival goers an elevated way to enjoy the event. The package includes a Sip &amp\; Shop experience on Saturday\, May 3 from 5 - 7 p.m. with special offers from participating artists\, a meet and greet with featured artist Gerard Frank\, as well as access to a shaded private lounge featuring complimentary snacks\, drinks\, and interactive activities throughout the weekend. </span><strong style="background-color:transparent\; text-align:initial">Snag your VIP tickets early for just $50 during our pre-event sale&mdash\;now through Friday\, May 2 at midnight!</strong><br />\n<a href="https://www.culturalartsalliance.com/event-details/37th-annual-artsquest-fine-arts-festival">https://www.culturalartsalliance.com/event-details/37th-annual-artsquest-fine-arts-festival?</a></div>\n\n<div style="background:transparent\; border:0px\; padding:0px\; text-align:initial"><br />\n<span style="background-color:var(--ricos-custom-p-background-color\,unset)\; text-align:initial">Prefer to wait? Tickets will also be available for $75 on Saturday\, May 3.</span></div>\n\n<div style="background:transparent\; border:0px\; padding:0px\; text-align:initial"><br />\n<span style="background-color:var(--ricos-custom-p-background-color\,unset)\; text-align:initial">Beyond the art\, festival goers can enjoy </span><strong style="background-color:transparent\; text-align:initial">live art demonstrations\, a CAA member exhibition\, a Walton County student exhibit\, a special showcase from the CAA&rsquo\;s Prison Art program\, an interactive public art installation\, a Silent Auction\, and continuous live music and entertainment</strong><span style="background-color:var(--ricos-custom-p-background-color\,unset)\; text-align:initial">. Young creatives will love </span><strong style="background-color:transparent\; text-align:initial">&quot\;ImagiNation: where kids rule&quot\;</strong><span style="background-color:var(--ricos-custom-p-background-color\,unset)\; text-align:initial">\, a hands-on experience designed just for them.</span></div>\n\n<div style="background:transparent\; border:0px\; padding:0px\; text-align:initial">&nbsp\;</div>\n\n<p style="text-align:initial"><span style="background-color:var(--ricos-custom-p-background-color\,unset)">A full cash bar will be available all weekend in Grand Park\, ensuring you can sip\, stroll\, and soak in the vibrant atmosphere of ArtsQuest&mdash\;where creativity\, community\, and culture come together!</span></p>\n\n<div style="background:transparent\; border:0px\; padding:0px\; text-align:initial">&nbsp\;</div>\n\n<p style="text-align:initial"><em>ArtsQuest Fine Arts Festival is a rain or shine event. </em></p>\n</div>\n</div>\n
LOCATION:Grand Boulevard Town Center\, 585 Grand Blvd\, Miramar Beach\, FL 32550\, USA
UID:e.885.54993
SEQUENCE:3
DTSTAMP:20260423T013634Z
URL:https://business.waltonareachamber.com/events/details/37th-annual-artsquest-fine-arts-festival-54993
END:VEVENT

END:VCALENDAR
