BEGIN:VCALENDAR
VERSION:2.0
PRODID:-//ChamberMaster//Event Calendar 2.0//EN
METHOD:PUBLISH
X-PUBLISHED-TTL:P3D
REFRESH-INTERVAL:P3D
CALSCALE:GREGORIAN
BEGIN:VEVENT
DTSTART:20220219T180000Z
DTEND:20220219T220000Z
X-MICROSOFT-CDO-ALLDAYEVENT:FALSE
SUMMARY:3rd Annual Shrimp & Grits Festival benefitting the Boys & Girls Clubs of the Emerald Coast
DESCRIPTION:Shrimp & Grits Festival benefitting the Boys & Girls Clubs of the Emerald Coast The event features creative variations of Shrimp & Grits by local restaurateurs and chefs from Fort Walton Beach to 30A\, all competing to be crowned the best on the Emerald Coast. By benefiting the Boy's & Girls Club of the Emerald Coast the festival has impacted and helped over 5000 kids attending 10 different clubs across 3 counties.
X-ALT-DESC;FMTTYPE=text/html:Shrimp &amp\; Grits Festival benefitting the Boys &amp\; Girls Clubs of the Emerald Coast The event features creative variations of Shrimp &amp\; Grits by local restaurateurs and chefs from Fort Walton Beach to 30A\, all competing to be crowned the best on the Emerald Coast. By benefiting the Boy&rsquo\;s &amp\; Girls Club of the Emerald Coast the festival has impacted and helped over 5000 kids attending 10 different clubs across 3 counties.
LOCATION:Destin Boardwalk (Behind Brotula's) 210 Harbor Blvd Destin\, FL
UID:e.885.33164
SEQUENCE:3
DTSTAMP:20260423T095527Z
URL:https://business.waltonareachamber.com/events/details/3rd-annual-shrimp-grits-festival-benefitting-the-boys-girls-clubs-of-the-emerald-coast-33164
END:VEVENT

END:VCALENDAR
