BEGIN:VCALENDAR
VERSION:2.0
PRODID:-//ChamberMaster//Event Calendar 2.0//EN
METHOD:PUBLISH
X-PUBLISHED-TTL:P3D
REFRESH-INTERVAL:P3D
CALSCALE:GREGORIAN
BEGIN:VEVENT
DTSTART:20210703T000000Z
DTEND:20210703T020000Z
X-MICROSOFT-CDO-ALLDAYEVENT:FALSE
SUMMARY:4th of July Celebration at HarborWalk Village
DESCRIPTION:Let Freedom Ring with three days of Celebrations for July 4th at HarborWalk Village!\n\n \n\n Friday\, July 2nd | The Two Hoo Doos: 7:00PM\n\nSaturday\, July 3rd | 18 Miles Band: 7:00PM\n\nSunday\, July 4th | The Manly Hero: 7:00PM\n\nFireworks and Fire Spinning by Autumn Lyfe: 9:00PM\n\n \n\n**$10 On-site parking fee\n\nCOVID-19 Disclaimer: HarborWalk Village is an outdoor\, open-air venue that allows guests to follow CDC guidelines in regards to mask-wearing and social distancing while still enjoying the ambiance of the Destin Harbor. We encourage all guests to social distance and wear masks while visiting HarborWalk Village.
X-ALT-DESC;FMTTYPE=text/html:<p class="x_MsoNormal" style="margin: 0in\; font-size: 11pt\; font-family: Calibri\, sans-serif\; color: rgb(32\, 31\, 30)\; background-image: initial\; background-position: initial\; background-size: initial\; background-repeat: initial\; background-attachment: initial\; background-origin: initial\; background-clip: initial\;"><span style="font-size:14px\;"><span style="font-family:arial\;"><span style="margin: 0px\; padding: 0px\; border: 0px\; font-style: inherit\; font-variant: inherit\; font-weight: inherit\; font-stretch: inherit\; line-height: inherit\; vertical-align: baseline\; color: black\;">Let Freedom Ring with three days of Celebrations for July 4th at HarborWalk Village!</span></span></span></p>\n\n<p class="x_MsoNormal" style="margin: 0in\; font-size: 11pt\; font-family: Calibri\, sans-serif\; color: rgb(32\, 31\, 30)\; background-image: initial\; background-position: initial\; background-size: initial\; background-repeat: initial\; background-attachment: initial\; background-origin: initial\; background-clip: initial\;">&nbsp\;</p>\n\n<p class="x_MsoNormal" style="margin: 0in\; font-size: 11pt\; font-family: Calibri\, sans-serif\; color: rgb(32\, 31\, 30)\; background-image: initial\; background-position: initial\; background-size: initial\; background-repeat: initial\; background-attachment: initial\; background-origin: initial\; background-clip: initial\;"><span style="font-size:14px\;"><span style="font-family:arial\;"><span style="margin: 0px\; padding: 0px\; border: 0px\; font-style: inherit\; font-variant: inherit\; font-weight: inherit\; font-stretch: inherit\; line-height: inherit\; vertical-align: baseline\; color: black\;">&#65279\;Friday\, July 2nd | The Two Hoo Doos: 7:00PM</span></span></span></p>\n\n<p class="x_MsoNormal" style="margin: 0in\; font-size: 11pt\; font-family: Calibri\, sans-serif\; color: rgb(32\, 31\, 30)\; background-image: initial\; background-position: initial\; background-size: initial\; background-repeat: initial\; background-attachment: initial\; background-origin: initial\; background-clip: initial\;"><span style="font-size:14px\;"><span style="font-family:arial\;"><span style="margin: 0px\; padding: 0px\; border: 0px\; font-style: inherit\; font-variant: inherit\; font-weight: inherit\; font-stretch: inherit\; line-height: inherit\; vertical-align: baseline\; color: black\;">Saturday\, July 3rd | 18 Miles Band: 7:00PM</span></span></span></p>\n\n<p class="x_MsoNormal" style="margin: 0in\; font-size: 11pt\; font-family: Calibri\, sans-serif\; color: rgb(32\, 31\, 30)\; background-image: initial\; background-position: initial\; background-size: initial\; background-repeat: initial\; background-attachment: initial\; background-origin: initial\; background-clip: initial\;"><span style="font-size:14px\;"><span style="font-family:arial\;"><span style="margin: 0px\; padding: 0px\; border: 0px\; font-style: inherit\; font-variant: inherit\; font-weight: inherit\; font-stretch: inherit\; line-height: inherit\; vertical-align: baseline\; color: black\;">Sunday\, July 4th | The Manly Hero: 7:00PM<br />\nFireworks and Fire Spinning by Autumn Lyfe: 9:00PM</span></span></span></p>\n\n<p class="x_MsoNormal" style="margin: 0in\; font-size: 11pt\; font-family: Calibri\, sans-serif\; color: rgb(32\, 31\, 30)\; background-image: initial\; background-position: initial\; background-size: initial\; background-repeat: initial\; background-attachment: initial\; background-origin: initial\; background-clip: initial\;">&nbsp\;</p>\n\n<p class="x_MsoNormal" style="margin: 0in\; font-size: 11pt\; font-family: Calibri\, sans-serif\; color: rgb(32\, 31\, 30)\; background-image: initial\; background-position: initial\; background-size: initial\; background-repeat: initial\; background-attachment: initial\; background-origin: initial\; background-clip: initial\;"><span style="font-size:14px\;"><span style="font-family:arial\;"><span style="margin: 0px\; padding: 0px\; border: 0px\; font-style: inherit\; font-variant: inherit\; font-weight: inherit\; font-stretch: inherit\; line-height: inherit\; vertical-align: baseline\; color: black\;">**$10 On-site parking fee</span></span></span></p>\n\n<p class="x_MsoNormal" style="margin: 0in\; font-size: 11pt\; font-family: Calibri\, sans-serif\; color: rgb(32\, 31\, 30)\; background-image: initial\; background-position: initial\; background-size: initial\; background-repeat: initial\; background-attachment: initial\; background-origin: initial\; background-clip: initial\;"><span style="font-size:14px\;"><span style="font-family:arial\;"><span style="margin: 0px\; padding: 0px\; border: 0px\; font-style: inherit\; font-variant: inherit\; font-weight: inherit\; font-stretch: inherit\; line-height: inherit\; vertical-align: baseline\; color: black\;">COVID-19 Disclaimer: HarborWalk Village is an outdoor\, open-air venue that allows guests to follow CDC guidelines in regards to mask-wearing and social distancing while still enjoying the ambiance of the Destin Harbor. We encourage all guests to social distance and wear masks while visiting HarborWalk Village.</span></span></span></p>\n
LOCATION:HarborWalk Village 10 Harbor Blvd Destin\, FL 32541
UID:e.885.32357
SEQUENCE:3
DTSTAMP:20260422T214954Z
URL:https://business.waltonareachamber.com/events/details/4th-of-july-celebration-at-harborwalk-village-32357
END:VEVENT

END:VCALENDAR
