BEGIN:VCALENDAR
VERSION:2.0
PRODID:-//ChamberMaster//Event Calendar 2.0//EN
METHOD:PUBLISH
X-PUBLISHED-TTL:P3D
REFRESH-INTERVAL:P3D
CALSCALE:GREGORIAN
BEGIN:VEVENT
DTSTART:20230305T180000Z
DTEND:20230305T210000Z
X-MICROSOFT-CDO-ALLDAYEVENT:FALSE
SUMMARY:5th Annual Mac and Cheese Festival
DESCRIPTION:Thought macaroni and cheese was just for kids? Think again! Join us at the 5th Annual Mac & Cheese Festival on Sunday\, March 5th\, 2023 at the Destin Commons! This family-friendly event will feature gourmet\, chef-inspired twists on the South's favorite comfort food. Local restaurants will compete for the best mac in town. Be there to sample everything for yourself and cast your vote! All proceeds from this event will go to the Boys & Girls Clubs of the Emerald Coast\, which works in our community to promote and enhance the development of boys and girls by instilling a sense of competence\, usefulness\, belonging\, and influence through its programs focused on academic success\, good character and citizenship\, and healthy lifestyles.
X-ALT-DESC;FMTTYPE=text/html:Thought macaroni and cheese was just for kids? Think again! Join us at the 5th Annual Mac &amp\; Cheese Festival on Sunday\, March 5th\, 2023 at the Destin Commons! This family-friendly event will feature gourmet\, chef-inspired twists on the South&rsquo\;s favorite comfort food. Local restaurants will compete for the best mac in town. Be there to sample everything for yourself and cast your vote! All proceeds from this event will go to the Boys &amp\; Girls Clubs of the Emerald Coast\, which works in our community to promote and enhance the development of boys and girls by instilling a sense of competence\, usefulness\, belonging\, and influence through its programs focused on academic success\, good character and citizenship\, and healthy lifestyles.
LOCATION:Destin Commons 4100 Legendary Drive\, Destin\, FL 32541
UID:e.885.34184
SEQUENCE:3
DTSTAMP:20260424T052235Z
URL:https://business.waltonareachamber.com/events/details/5th-annual-mac-and-cheese-festival-34184
END:VEVENT

END:VCALENDAR
