BEGIN:VCALENDAR
VERSION:2.0
PRODID:-//ChamberMaster//Event Calendar 2.0//EN
METHOD:PUBLISH
X-PUBLISHED-TTL:P3D
REFRESH-INTERVAL:P3D
CALSCALE:GREGORIAN
BEGIN:VEVENT
DTSTART:20190905T233000Z
DTEND:20190906T023000Z
X-MICROSOFT-CDO-ALLDAYEVENT:FALSE
SUMMARY:5th Annual Wiggin' Out For a Cause
DESCRIPTION:Bring yourself and your BFF's to this entertaining ladies night out at Grand Boulevard at Sandestin\, upstairs in the 560 space on Thursday\, September 5th. \n\n\n\nWe're changing up the theme this year to Great Gatsby. So get your flapper dresses\, sequins\, ruffled skirts\, pearls\, etc. together for a night you don't want to miss out on! \n\n\n\nLadies will pick from an assortment of wigs and will be whisked off to the Avant Garde Aveda styling station to make sure they are all glamoured up for the evening.\n\n\n\nFilled with libations\, food\, fun\, DJ Vladi\, and other happenings\, the 5th Annual Wiggin' Out For A Cause will benefit the Emerald Coast Children's Advocacy Center.\n\n\n\nVIP tickets will start out at $100 and General Admission tickets will start out at $75. \n\nVIP Private Party will be from 5:30-6:30pm and the Main Event will be from 6:30-9:30pm. \n\nClick here to purchase your ticket!\n\n \n\nThere are also sponsorship opportunities available! If you are interested in being a sponsor for this fun event\, please email Chelsea Fox at Chelsea@eccac.org or call her at (850) 833-9237 Ext. 256
X-ALT-DESC;FMTTYPE=text/html:<span style="background-image:initial\;background-position:initial\;background-size:initial\;background-repeat:initial\;background-attachment:initial\;background-origin:initial\;background-clip:initial\;"><span style="color:#1d2129\;"><span style="font-family:verdana\,sans-serif\;"><span style="font-size:10.5pt\;">Bring yourself and your BFF&#39\;s to this entertaining ladies night out at </span></span></span></span><span style="font-family:verdana\,sans-serif\;"><span style="font-size:10pt\;"><a href="http://r20.rs6.net/tn.jsp?f=001OIwz1Bralh-KeNCqgbOojsJMWMgsLQb2l57fiZWmWBFbwDPCAxYflNqOaPgqY58u60u0U-tQtanuUFPtIhzx7geQ0EzHOB6tnm3FY62LjwA8A8-6_UsZ6dp-kBmOqqUaCqhGAD-p8fD8-ugY5ji-vCPOcQnONP_y2sk7SKLmaDFiWNUaI722FQ==&amp\;c=YhUSZlOUcSuXiNp9Fq0xBW8TdeftivfuK_XzUnYmVspz70oJ23MYag==&amp\;ch=hjsE0kelXp2mNsm71RHiFY_fvKSXuYRGNtVJfb8HipGTNEzHOx0bnA==" target="_blank"><span style="color:#0A74DB\;">Grand Boulevard at Sandestin</span></a></span></span><span style="background-image:initial\;background-position:initial\;background-size:initial\;background-repeat:initial\;background-attachment:initial\;background-origin:initial\;background-clip:initial\;"><span style="color:#1d2129\;"><span style="font-family:verdana\,sans-serif\;"><span style="font-size:10.5pt\;">\, upstairs in the 560 space on Thursday\, September 5th. </span></span></span></span><br />\n<br />\n<span style="background-image:initial\;background-position:initial\;background-size:initial\;background-repeat:initial\;background-attachment:initial\;background-origin:initial\;background-clip:initial\;"><span style="color:#1d2129\;"><span style="font-family:verdana\,sans-serif\;"><span style="font-size:10.5pt\;">We&#39\;re changing up the theme this year to <strong>Great Gatsby</strong>. So get your flapper dresses\, sequins\, ruffled skirts\, pearls\, etc. together for a night you don&#39\;t want to miss out on! </span></span></span></span><br />\n<br />\n<span style="background-image:initial\;background-position:initial\;background-size:initial\;background-repeat:initial\;background-attachment:initial\;background-origin:initial\;background-clip:initial\;"><span style="color:#1d2129\;"><span style="font-family:verdana\,sans-serif\;"><span style="font-size:10.5pt\;">Ladies will pick from an assortment of wigs and will be whisked off to the <a href="http://r20.rs6.net/tn.jsp?f=001OIwz1Bralh-KeNCqgbOojsJMWMgsLQb2l57fiZWmWBFbwDPCAxYflP0mVdi5ozEXHzOlbbt_2Md9k1R7PuU6RjmVU5dko3r88cXKqlDYzk5N1rE9reB0qJ1GaEbWL5xQzxzFjG1QD14aVjbNhfwejCUGk0OAwUT-qnyYRwKQZRCEWwbPKA71Sg==&amp\;c=YhUSZlOUcSuXiNp9Fq0xBW8TdeftivfuK_XzUnYmVspz70oJ23MYag==&amp\;ch=hjsE0kelXp2mNsm71RHiFY_fvKSXuYRGNtVJfb8HipGTNEzHOx0bnA==" target="_blank"><span style="color:#0A74DB\;">Avant Garde Aveda</span></a> styling station to make sure they are all glamoured up for the evening.</span></span></span></span><br />\n<br />\n<span style="background-image:initial\;background-position:initial\;background-size:initial\;background-repeat:initial\;background-attachment:initial\;background-origin:initial\;background-clip:initial\;"><span style="color:#1d2129\;"><span style="font-family:verdana\,sans-serif\;"><span style="font-size:10.5pt\;">Filled with libations\, food\, fun\, <a href="http://r20.rs6.net/tn.jsp?f=001OIwz1Bralh-KeNCqgbOojsJMWMgsLQb2l57fiZWmWBFbwDPCAxYflNqOaPgqY58uWKMRAg2IVPo6cRtS55arNlAMMiZwBf0hzG_nkAO8Z27Kr5nqLcgjzhi9qKnfyPAq6zBsU4geKHszSAur9NjLrQsfrYd1iZPtKLq_UE8kOBk=&amp\;c=YhUSZlOUcSuXiNp9Fq0xBW8TdeftivfuK_XzUnYmVspz70oJ23MYag==&amp\;ch=hjsE0kelXp2mNsm71RHiFY_fvKSXuYRGNtVJfb8HipGTNEzHOx0bnA==" target="_blank"><span style="color:#0A74DB\;">DJ Vladi</span></a>\, and other happenings\, the 5th Annual Wiggin&#39\; Out For A Cause will benefit the </span></span></span></span><span style="font-family:verdana\,sans-serif\;"><span style="font-size:10pt\;"><a href="http://r20.rs6.net/tn.jsp?f=001OIwz1Bralh-KeNCqgbOojsJMWMgsLQb2l57fiZWmWBFbwDPCAxYflOstYMafqqBtJNx7-0ACwnIhGpwB9svqbr6ZtmsHZsTz3MIY_HLkMpTfhY6aARhUo8sKw5gavLPMeOnJ6NBjNfYfu_kcBFaMO8oWOihRM9oeGBJsX62Wxn2aapMINsVzJQ==&amp\;c=YhUSZlOUcSuXiNp9Fq0xBW8TdeftivfuK_XzUnYmVspz70oJ23MYag==&amp\;ch=hjsE0kelXp2mNsm71RHiFY_fvKSXuYRGNtVJfb8HipGTNEzHOx0bnA==" target="_blank"><span style="text-decoration-line:none\;"><span style="color:#1d2129\;"><span style="font-size:10.5pt\;">Emerald Coast Children&#39\;s Advocacy Center</span></span></span></a></span></span><span style="background-image:initial\;background-position:initial\;background-size:initial\;background-repeat:initial\;background-attachment:initial\;background-origin:initial\;background-clip:initial\;"><span style="color:#1d2129\;"><span style="font-family:verdana\,sans-serif\;"><span style="font-size:10.5pt\;">.</span></span></span></span><br />\n<br />\n<span style="background-image:initial\;background-position:initial\;background-size:initial\;background-repeat:initial\;background-attachment:initial\;background-origin:initial\;background-clip:initial\;"><span style="color:#1d2129\;"><span style="font-family:verdana\,sans-serif\;"><span style="font-size:10.5pt\;">VIP tickets will start out at $100 and General Admission tickets will start out at $75. </span></span></span></span><br />\n<span style="background-image:initial\;background-position:initial\;background-size:initial\;background-repeat:initial\;background-attachment:initial\;background-origin:initial\;background-clip:initial\;"><span style="color:#1d2129\;"><span style="font-family:verdana\,sans-serif\;"><span style="font-size:10.5pt\;">VIP Private Party will be from 5:30-6:30pm and the Main Event will be from 6:30-9:30pm. </span></span></span></span><br />\n<span style="background-image:initial\;background-position:initial\;background-size:initial\;background-repeat:initial\;background-attachment:initial\;background-origin:initial\;background-clip:initial\;"><span style="color:black\;"><span style="font-family:verdana\,sans-serif\;"><span style="font-size:10pt\;">Click <a href="http://r20.rs6.net/tn.jsp?f=001OIwz1Bralh-KeNCqgbOojsJMWMgsLQb2l57fiZWmWBFbwDPCAxYflNqOaPgqY58u3iY61JT1uEFf_wtbptRzhUEsKVxKSRd5F_HsGLUU7daXqJk_AbWGZ9CwU9N3HUiOJocwAktYAhlh4I61XyjY2UCLZjxuNX6IsLCcfZ4cGJyLMM14OmtVxA==&amp\;c=YhUSZlOUcSuXiNp9Fq0xBW8TdeftivfuK_XzUnYmVspz70oJ23MYag==&amp\;ch=hjsE0kelXp2mNsm71RHiFY_fvKSXuYRGNtVJfb8HipGTNEzHOx0bnA==" target="_blank"><span style="color:#0A74DB\;">here </span></a>to purchase your ticket!</span></span></span></span><br />\n&nbsp\;<br />\n<span style="background-image:initial\;background-position:initial\;background-size:initial\;background-repeat:initial\;background-attachment:initial\;background-origin:initial\;background-clip:initial\;"><span style="color:black\;"><span style="font-family:verdana\,sans-serif\;"><span style="font-size:10pt\;">There are also sponsorship opportunities available! If you are interested in being a sponsor for this fun event\, please email Chelsea Fox at <a href="mailto:chelsea@eccac.org" target="_blank"><span style="color:#0A74DB\;">Chelsea@eccac.org</span></a> or call her at (850) 833-9237 Ext. 256</span></span></span></span>
LOCATION:
UID:e.885.24061
SEQUENCE:3
DTSTAMP:20260420T015722Z
URL:https://business.waltonareachamber.com/events/details/5th-annual-wiggin-out-for-a-cause-24061
END:VEVENT

END:VCALENDAR
