BEGIN:VCALENDAR
VERSION:2.0
PRODID:-//ChamberMaster//Event Calendar 2.0//EN
METHOD:PUBLISH
X-PUBLISHED-TTL:P3D
REFRESH-INTERVAL:P3D
CALSCALE:GREGORIAN
BEGIN:VEVENT
DTSTART:20211106T150000Z
DTEND:20211107T000000Z
X-MICROSOFT-CDO-ALLDAYEVENT:FALSE
SUMMARY:7th Annual Freeport Bayfest
DESCRIPTION:7th Annual Freeport Bayfest\n\nSaturday November 6th 10am-7pm \n\n@Freeport Sports Complex in Hammock Bay\n\n\n\nFree Entry! \n\nFood & Craft Vendors\n\n \n\nTaste of the Bay Cooking Contest\n\nChildren Art Contest Kids Fun Zone Bounce House\n\nDisk Golf Tournament\n\nMullet Toss\n\nPony Rides\, Corn Hole and More\n\n\n\n \n\nLive Music Featuring\n\nDan McNeil\, Alanzo Russel\, The Springs & Yonanda Lawson.\n\n\n\nFor more information visit www.freeportbayfest.com
X-ALT-DESC;FMTTYPE=text/html:<div style="text-align: center\;"><span style="font-size:28px\;"><span style="color:#003399\;"><span style="font-family:verdana\;"><strong>7th Annual Freeport Bayfest</strong></span></span></span><br />\n<span style="font-size:16px\;"><span style="color:#0066ff\;"><strong><span style="font-family:verdana\;">Saturday November 6th&nbsp\;10am-7pm&nbsp\;<br />\n@Freeport Sports Complex in Hammock Bay</span></strong></span></span><br />\n<br />\n<span style="font-size:20px\;"><span style="color:#006666\;"><strong>Free Entry!&nbsp\;</strong></span><br />\n<strong>Food &amp\; Craft Vendors</strong></span><br />\n&nbsp\;</div>\n\n<div style="text-align: center\;"><span style="font-size:20px\;"><span style="color:#003399\;"><strong>Taste of the Bay Cooking Contest</strong></span></span></div>\n\n<div style="text-align: center\;"><span style="font-size:20px\;"><span style="color:#003399\;"><strong>Children Art Contest Kids Fun Zone Bounce House</strong></span></span></div>\n\n<div style="text-align: center\;"><span style="font-size:20px\;"><span style="color:#003399\;"><strong>Disk Golf Tournament</strong></span></span></div>\n\n<div style="text-align: center\;"><span style="font-size:20px\;"><span style="color:#003399\;"><strong>Mullet Toss</strong></span></span></div>\n\n<div style="text-align: center\;"><span style="font-size:20px\;"><span style="color:#003399\;"><strong>Pony Rides\, Corn Hole and More</strong></span></span><br />\n<br />\n&nbsp\;</div>\n\n<div style="text-align: center\;"><span style="font-size:14px\;"><span style="font-size:20px\;"><strong>Live Music Featuring</strong><br />\n<span style="color:#0066ff\;"><strong>Dan McNeil\, Alanzo Russel\, The Springs &amp\; Yonanda Lawson.</strong></span></span><br />\n<br />\n<span style="color:666666\;"><strong>For more information visit</strong></span><strong><span style="color:#666666\;"> </span><a href="https://freeportbayfest.com"><span style="color:#666666\;">www.freeportbayfest.com</span></a></strong></span></div>\n
LOCATION:@Freeport Sports Complex in Hammock Bay
UID:e.885.32424
SEQUENCE:3
DTSTAMP:20260423T043737Z
URL:https://business.waltonareachamber.com/events/details/7th-annual-freeport-bayfest-32424
END:VEVENT

END:VCALENDAR
