BEGIN:VCALENDAR
VERSION:2.0
PRODID:-//ChamberMaster//Event Calendar 2.0//EN
METHOD:PUBLISH
X-PUBLISHED-TTL:P3D
REFRESH-INTERVAL:P3D
CALSCALE:GREGORIAN
BEGIN:VEVENT
DTSTART:20211019T210000Z
DTEND:20211019T213000Z
X-MICROSOFT-CDO-ALLDAYEVENT:FALSE
SUMMARY:98 Flooring & Mattress Ribbon Cutting
DESCRIPTION:Please help us celebrate 98 Flooring & Mattress with a ribbon cutting!\n\n\n\n98 Flooring & Mattress offers flooring\, backsplash\, pavers\, mortar\, Durock and interior design services. Visit the 250\,000-square-foot showroom to design the home interior of your dreams. For details\, visit 98Flooring.com or call (850) 797-0069.
X-ALT-DESC;FMTTYPE=text/html:<span style="caret-color: rgb(68\, 68\, 68)\; color: rgb(68\, 68\, 68)\; font-family: Arial\, Helvetica\, sans-serif\; font-size: 14px\;">Please help us celebrate&nbsp\;</span><span style="box-sizing: content-box\; inset: auto\; clear: none\; color: rgb(68\, 68\, 68)\; content: normal\; direction: inherit\; empty-cells: show\; font-family: Arial\, Helvetica\, sans-serif\; font-size: 14px\; font-stretch: inherit\; line-height: inherit\; margin: 0px\; max-height: none\; max-width: none\; opacity: 1\; outline-offset: 0px\; overflow: visible\; padding: 0px\; position: static\; resize: none\; table-layout: auto\; text-overflow: clip\; vertical-align: baseline\; visibility: inherit\; word-break: inherit\; word-wrap: inherit\; z-index: auto\; background-image: none\; border: none\; border-collapse: separate\; border-image-source: none\; border-image-slice: 100% 1 0\; border-image-repeat: stretch\; border-top-left-radius: 0px\; border-top-right-radius: 0px\; border-bottom-right-radius: 0px\; border-bottom-left-radius: 0px\; height: auto\; width: auto\; box-shadow: none\; caret-color: rgb(68\, 68\, 68)\;">98 Flooring &amp\; Mattress</span><span style="caret-color: rgb(68\, 68\, 68)\; color: rgb(68\, 68\, 68)\; font-family: Arial\, Helvetica\, sans-serif\; font-size: 14px\;">&nbsp\;with a ribbon cutting!</span><br style="box-sizing: content-box\; inset: auto\; clear: none\; color: rgb(68\, 68\, 68)\; content: normal\; direction: inherit\; display: inline\; empty-cells: show\; float: none\; font-family: Arial\, Helvetica\, sans-serif\; font-size: 14px\; font-stretch: inherit\; line-height: inherit\; margin: 0px\; max-height: none\; max-width: none\; opacity: 1\; outline-offset: 0px\; overflow: visible\; padding: 0px\; position: static\; resize: none\; table-layout: auto\; text-overflow: clip\; vertical-align: baseline\; visibility: inherit\; word-break: inherit\; word-wrap: inherit\; z-index: auto\; background-image: none\; border: none\; border-collapse: separate\; border-image-source: none\; border-image-slice: 100% 1 0\; border-image-repeat: stretch\; border-top-left-radius: 0px\; border-top-right-radius: 0px\; border-bottom-right-radius: 0px\; border-bottom-left-radius: 0px\; height: auto\; width: auto\; caret-color: rgb(68\, 68\, 68)\;" />\n<br style="box-sizing: content-box\; inset: auto\; clear: none\; color: rgb(68\, 68\, 68)\; content: normal\; direction: inherit\; display: inline\; empty-cells: show\; float: none\; font-family: Arial\, Helvetica\, sans-serif\; font-size: 14px\; font-stretch: inherit\; line-height: inherit\; margin: 0px\; max-height: none\; max-width: none\; opacity: 1\; outline-offset: 0px\; overflow: visible\; padding: 0px\; position: static\; resize: none\; table-layout: auto\; text-overflow: clip\; vertical-align: baseline\; visibility: inherit\; word-break: inherit\; word-wrap: inherit\; z-index: auto\; background-image: none\; border: none\; border-collapse: separate\; border-image-source: none\; border-image-slice: 100% 1 0\; border-image-repeat: stretch\; border-top-left-radius: 0px\; border-top-right-radius: 0px\; border-bottom-right-radius: 0px\; border-bottom-left-radius: 0px\; height: auto\; width: auto\; caret-color: rgb(68\, 68\, 68)\;" />\n<span style="caret-color: rgb(68\, 68\, 68)\; color: rgb(68\, 68\, 68)\; font-family: Arial\, Helvetica\, sans-serif\; font-size: 14px\;">98 Flooring &amp\; Mattress offers flooring\, backsplash\, pavers\, mortar\, Durock and interior design services. Visit the 250\,000-square-foot showroom to design the home interior of your dreams. For details\, visit&nbsp\;</span><a href="http://98flooring.com/" style="box-sizing: content-box\; color: rgb(10\, 80\, 129)\; text-decoration: none\; inset: auto\; clear: none\; content: normal\; direction: inherit\; display: inline\; empty-cells: show\; float: none\; font-family: Arial\, Helvetica\, sans-serif\; font-size: 14px\; font-stretch: inherit\; line-height: inherit\; margin: 0px\; max-height: none\; max-width: none\; opacity: 1\; outline-offset: 0px\; overflow: visible\; padding: 0px\; position: static\; resize: none\; table-layout: auto\; text-overflow: clip\; vertical-align: baseline\; visibility: inherit\; word-break: inherit\; word-wrap: break-word\; z-index: auto\; background-image: none\; border: none\; border-collapse: separate\; border-image-source: none\; border-image-slice: 100% 1 0\; border-image-repeat: stretch\; border-top-left-radius: 0px\; border-top-right-radius: 0px\; border-bottom-right-radius: 0px\; border-bottom-left-radius: 0px\; height: auto\; width: auto\; box-shadow: none\;" target="_blank">98Flooring.com</a><span style="caret-color: rgb(68\, 68\, 68)\; color: rgb(68\, 68\, 68)\; font-family: Arial\, Helvetica\, sans-serif\; font-size: 14px\;">&nbsp\;or call (850) 797-0069.</span>
LOCATION:98 Flooring & Mattress 9501 Emerald Coast Pkwy. Miramar Beach\, FL 32550
UID:e.885.32578
SEQUENCE:3
DTSTAMP:20260423T025357Z
URL:https://business.waltonareachamber.com/events/details/98-flooring-mattress-ribbon-cutting-32578
END:VEVENT

END:VCALENDAR
