BEGIN:VCALENDAR
VERSION:2.0
PRODID:-//ChamberMaster//Event Calendar 2.0//EN
METHOD:PUBLISH
X-PUBLISHED-TTL:P3D
REFRESH-INTERVAL:P3D
CALSCALE:GREGORIAN
BEGIN:VEVENT
DTSTART:20240821T223000Z
DTEND:20240822T003000Z
X-MICROSOFT-CDO-ALLDAYEVENT:FALSE
SUMMARY:A Bed 4 Me Celebrates 3\,000 Deliveries
DESCRIPTION:Celebrating all of our Super Heroes who have helped us put children into a new comfortable sleep space. That includes volunteers\, board members\, supporters\, fans and you! Join us\, bring a new standard size pillow to donate and receive a chance to win a $50.00 gift card. Food and drinks available for purchase.
X-ALT-DESC;FMTTYPE=text/html:Celebrating all of our Super Heroes who have helped us put children into a new comfortable sleep space. That includes volunteers\, board members\, supporters\, fans and you! Join us\, bring a new standard size pillow to donate and receive a chance to win a $50.00 gift card. Food and drinks available for purchase.&nbsp\;
LOCATION:3rd Planet Brewing 1400 John Sims Parkway Niceville FL 32578
UID:e.885.41615
SEQUENCE:3
DTSTAMP:20260425T170558Z
URL:https://business.waltonareachamber.com/events/details/a-bed-4-me-celebrates-3-000-deliveries-41615
END:VEVENT

END:VCALENDAR
