BEGIN:VCALENDAR
VERSION:2.0
PRODID:-//ChamberMaster//Event Calendar 2.0//EN
METHOD:PUBLISH
X-PUBLISHED-TTL:P3D
REFRESH-INTERVAL:P3D
CALSCALE:GREGORIAN
BEGIN:VEVENT
DTSTART:20240927T223000Z
DTEND:20240928T000000Z
X-MICROSOFT-CDO-ALLDAYEVENT:FALSE
SUMMARY:A Bed 4 Me Draw Down Dreaming
DESCRIPTION:It will be exciting to see who will win the prizes including the $5\,000 grand prize! Come out and watch the draw down in person! We can all dream and every bit helps us put another child into a bed of their own!\n\n \n\nWant a chance to win? A $50 donation provides a ticket for a chance to win the grand prize and other prizes. The donation also includes a $16 coupon to Tommy Bahama. Do not have to be present to win.\n\nContact diane@abed4me.org\n\n \n\nThank you to A2Z Specialty Advertising\, Tommy Bahama and Props Brewery!
X-ALT-DESC;FMTTYPE=text/html:<div>It will be exciting to see who will win the prizes including the $5\,000 grand prize! Come out and watch the draw down in person! We can all dream and every bit helps us put another child into a bed of their own!</div>\n\n<div>&nbsp\;</div>\n\n<div>Want a chance to win? A $50 donation provides a ticket for a chance to win the grand prize and other prizes. The donation also includes a $16 coupon to Tommy Bahama. Do not have to be present to win.</div>\n\n<div>Contact diane@abed4me.org</div>\n\n<div>&nbsp\;</div>\n\n<div>Thank you to A2Z Specialty Advertising\, Tommy Bahama and Props Brewery!</div>\n
LOCATION:Props Brewery 1799 Great Hammock Bend\, Freeport\, FL 32439
UID:e.885.41646
SEQUENCE:3
DTSTAMP:20260425T153921Z
URL:https://business.waltonareachamber.com/events/details/a-bed-4-me-draw-down-dreaming-41646
END:VEVENT

END:VCALENDAR
