BEGIN:VCALENDAR
VERSION:2.0
PRODID:-//ChamberMaster//Event Calendar 2.0//EN
METHOD:PUBLISH
X-PUBLISHED-TTL:P3D
REFRESH-INTERVAL:P3D
CALSCALE:GREGORIAN
BEGIN:VEVENT
DTSTART:20250522T140000Z
DTEND:20250522T150000Z
X-MICROSOFT-CDO-ALLDAYEVENT:FALSE
SUMMARY:AI Practical Applications for Small Businesses Workshop
DESCRIPTION:AI Practical Applications for Small Businesses\n\nJoin us for an insightful workshop on AI Practical Applications for Small Businesses\, hosted by the Walton Area Chamber in partnership with America's SBDC Florida and the University of West Florida's Lewis Bear Jr. College of Business.\n\nDiscover how artificial intelligence can streamline your operations\, improve efficiency\, and drive business growth all in an accessible and practical way.\n\nEvent Details:\n\n  Date: Thursday\, May 22\, 2025\n\n  Time: 9:00 AM   10:00 AM\n\n  Location: Walton County Economic Development Alliance 908 US-90 Building 500\, DeFuniak Springs\, FL 32433L\n\n  Speaker: Jennifer Rohus\, Business Consultant\n\nWhether you're new to AI or looking for innovative ways to integrate it into your business\, this workshop will provide real-world applications to help you stay ahead.\n\nDon't miss out reserve your spot today!
X-ALT-DESC;FMTTYPE=text/html:<h3 data-end="56" data-start="0"><strong data-end="54" data-start="4">AI Practical Applications for Small Businesses</strong></h3>\n\n<p data-end="299" data-start="58">Join us for an insightful workshop on <strong data-end="146" data-start="96">AI Practical Applications for Small Businesses</strong>\, hosted by the Walton Area Chamber in partnership with America&#39\;s SBDC Florida and the University of West Florida&#39\;s Lewis Bear Jr. College of Business.</p>\n\n<p data-end="461" data-start="301">Discover how <strong data-end="419" data-start="314">artificial intelligence can streamline your operations\, improve efficiency\, and drive business growth</strong>&mdash\;all in an accessible and practical way.</p>\n\n<h3 data-end="487" data-start="463"><strong data-end="485" data-start="467">Event Details:</strong></h3>\n\n<p data-end="615" data-start="488">&#128197\; <strong data-end="500" data-start="491">Date:</strong>&nbsp\;Thursday\, May&nbsp\;22\, 2025<br data-end="526" data-start="523" />\n&#9200\; <strong data-end="537" data-start="528">Time:</strong> 9:00 AM &ndash\; 10:00 AM<br data-end="559" data-start="556" />\n&#128205\; <strong data-end="575" data-start="562">Location: </strong><strong data-end="575" data-start="562">Walton County Economic Development Alliance 908 US-90 Building 500\, DeFuniak Springs\, FL 32433L</strong></p>\n\n<p data-end="670" data-start="617">&#128161\; <strong data-end="632" data-start="620">Speaker:</strong> Jennifer Rohus\, Business Consultant</p>\n\n<p data-end="844" data-start="672">Whether you&#39\;re new to AI or looking for innovative ways to integrate it into your business\, this workshop will provide <strong data-end="818" data-start="791">real-world applications</strong> to help you stay ahead.</p>\n\n<p data-end="889" data-is-last-node="" data-is-only-node="" data-start="846">Don&#39\;t miss out&mdash\;<strong data-end="889" data-is-last-node="" data-start="861">reserve your spot today!</strong></p>\n
LOCATION:Walton County Economic Development Alliance 908 US-90 Building 500\, DeFuniak Springs\, FL 32433L
UID:e.885.55002
SEQUENCE:3
DTSTAMP:20260423T012527Z
URL:https://business.waltonareachamber.com/events/details/ai-practical-applications-for-small-businesses-workshop-55002
END:VEVENT

END:VCALENDAR
