BEGIN:VCALENDAR
VERSION:2.0
PRODID:-//ChamberMaster//Event Calendar 2.0//EN
METHOD:PUBLISH
X-PUBLISHED-TTL:P3D
REFRESH-INTERVAL:P3D
CALSCALE:GREGORIAN
BEGIN:VEVENT
DTSTART:20210715T233000Z
DTEND:20210716T020000Z
X-MICROSOFT-CDO-ALLDAYEVENT:FALSE
SUMMARY:All American Thursday
DESCRIPTION:All American Thursday | 6:30 ? 9:00pm @ Hero Salute & Vintage Air Show: 6:30pm and Fireworks: 9:00pm\n\n\n\n	Celebrate the USA with a one-of-a-kind vintage airshow\, hero salute\, live entertainment\, FIREWORKS\, and a fire spinning show!
X-ALT-DESC;FMTTYPE=text/html:<ul style="margin-bottom: 0in\; color: rgb(32\, 31\, 30)\; font-family: &quot\;Segoe UI&quot\;\, &quot\;Segoe UI Web (West European)&quot\;\, &quot\;Segoe UI&quot\;\, -apple-system\, BlinkMacSystemFont\, Roboto\, &quot\;Helvetica Neue&quot\;\, sans-serif\; font-size: 15px\; margin-top: 0in\;" type="disc">\n	<li class="x_MsoListParagraph" style="margin: 0in\; font-size: 11pt\; font-family: Calibri\, sans-serif\; color: black\; background-image: initial\; background-position: initial\; background-size: initial\; background-repeat: initial\; background-attachment: initial\; background-origin: initial\; background-clip: initial\;"><span style="font-size:14px\;"><span style="font-family:arial\;">All American Thursday | 6:30 ? 9:00pm @ Hero Salute &amp\; Vintage Air Show: 6:30pm and Fireworks: 9:00pm</span></span></li>\n</ul>\n\n<ul style="margin-bottom: 0in\; color: rgb(32\, 31\, 30)\; font-family: &quot\;Segoe UI&quot\;\, &quot\;Segoe UI Web (West European)&quot\;\, &quot\;Segoe UI&quot\;\, -apple-system\, BlinkMacSystemFont\, Roboto\, &quot\;Helvetica Neue&quot\;\, sans-serif\; font-size: 15px\; margin-top: 0in\;" type="disc">\n	<li class="x_MsoListParagraph" style="margin: 6pt 0in 0in\; font-size: 11pt\; font-family: Calibri\, sans-serif\; color: black\; background-image: initial\; background-position: initial\; background-size: initial\; background-repeat: initial\; background-attachment: initial\; background-origin: initial\; background-clip: initial\;"><span style="font-size:14px\;"><span style="font-family:arial\;">Celebrate the USA with a one-of-a-kind vintage airshow\, hero salute\, live entertainment\, FIREWORKS\, and a fire spinning show!</span></span></li>\n</ul>\n
LOCATION:HarborWalk Village Destin\, FL
UID:e.885.32145
SEQUENCE:3
DTSTAMP:20260422T214727Z
URL:https://business.waltonareachamber.com/events/details/all-american-thursday-07-15-2021-32145
END:VEVENT

END:VCALENDAR
