BEGIN:VCALENDAR
VERSION:2.0
PRODID:-//ChamberMaster//Event Calendar 2.0//EN
METHOD:PUBLISH
X-PUBLISHED-TTL:P3D
REFRESH-INTERVAL:P3D
CALSCALE:GREGORIAN
BEGIN:VEVENT
DTSTART:20240718T233000Z
DTEND:20240719T023000Z
X-MICROSOFT-CDO-ALLDAYEVENT:FALSE
SUMMARY:All American Thursdays
DESCRIPTION:Join us for our Thursday salute to America as we honor our local heroes with a heartfelt ceremony featuring a performance from Reid Soria with Autism Sings\, LLC\, the honor guard\, a vintage flyover\, and more! Want to nominate a hero? Fill out the form below!  \n\n\n\nNOMINATION APPLICATION: SIGN UP HERE!!\n\nLive Concert : 7:00PM |  Band of Revival \n\nFireworks : 9:00pm Followed by a Fire Spinning Show by Autumn Lyfe at the Main stage.
X-ALT-DESC;FMTTYPE=text/html:Join us for our Thursday salute to America as we honor our local heroes with a heartfelt ceremony featuring a performance from Reid Soria with Autism Sings\, LLC\, the honor guard\, a vintage flyover\, and more! Want to nominate a hero? Fill out the form below!&nbsp\;&nbsp\;<br />\n<br />\n<strong>NOMINATION APPLICATION:</strong>&nbsp\;<a href="https://form.jotform.com/HarborWalk/2024-all-american-thursdays-hero-no"><strong>SIGN UP HERE!!</strong></a><br />\n<strong>Live Concert :</strong> 7:00PM |&nbsp\; Band of Revival&nbsp\;<br />\n<strong>Fireworks :</strong> 9:00pm Followed by a Fire Spinning Show by Autumn Lyfe at the Main stage.&nbsp\;
LOCATION:10 Harbor Blvd\, Destin\, Florida 32541
UID:e.885.37213
SEQUENCE:3
DTSTAMP:20260425T170508Z
URL:https://business.waltonareachamber.com/events/details/all-american-thursdays-07-18-2024-37213
END:VEVENT

END:VCALENDAR
