BEGIN:VCALENDAR
VERSION:2.0
PRODID:-//ChamberMaster//Event Calendar 2.0//EN
METHOD:PUBLISH
X-PUBLISHED-TTL:P3D
REFRESH-INTERVAL:P3D
CALSCALE:GREGORIAN
BEGIN:VEVENT
DTSTART:20250427T000000Z
DTEND:20250427T030000Z
X-MICROSOFT-CDO-ALLDAYEVENT:FALSE
SUMMARY:An Evening with Charles Esten Live on the lake
DESCRIPTION:Join us for an unforgettable lakeside performance featuring acclaimed singer -songwriter \n\n						and actor Charles Esten! \n\n						 Known for his role on "Nashville" and his impressive catalog of original music\, \n\n						Charles brings his soulful sound to the beautiful setting of Old Florida Fish House. \n\n						Scroll for pictures from last year!\n						\n					\n				\n			\n			\n			\n		\n	\n\n\n\n \n\n\n\n	\n		\n			\n			\n			\n				\n					\n						\n						\n						\n							\n								\n									\n									Tickets and Information to Charles Esten Live
X-ALT-DESC;FMTTYPE=text/html:<div align="center" color:="" font-feature-settings:="" font-kerning:="" font-optical-sizing:="" font-size-adjust:="" font-variation-settings:="" helvetica="" margin:="" padding:="" segoe="" style="border: 0px\; font-variant-numeric: inherit\; font-variant-east-asian: inherit\; font-variant-alternates: inherit\; font-variant-position: inherit\; font-variant-emoji: inherit\; font-stretch: inherit\; font-size: 15px\; line-height: inherit\; font-family: " ui="" vertical-align:="" web="" west="">\n<table border="0" cellpadding="0" cellspacing="0" class="x_MsoNormalTable" style="font: inherit\; width: 960px\;" width="100%">\n	<tbody>\n		<tr>\n			<td style="width: 960px\; padding: 0in\;" valign="top" width="100%">\n			<div align="center" style="border: 0px\; font: inherit\; margin: 0px\; padding: 0px\; vertical-align: baseline\; color: inherit\;">\n			<table border="0" cellpadding="0" cellspacing="0" class="x_MsoNormalTable" style="font: inherit\; width: 960px\;" width="100%">\n				<tbody>\n					<tr>\n						<td style="padding: 7.5pt 15pt\;" valign="top">\n						<p style="margin: 0in\;"><span style="font-size:14px\;"><span data-olk-copy-source="MessageBody" style="border: 0px\; font-style: inherit\; font-variant: inherit\; font-weight: inherit\; font-stretch: inherit\; line-height: inherit\; font-family: Roboto\; font-optical-sizing: inherit\; font-size-adjust: inherit\; font-kerning: inherit\; font-feature-settings: inherit\; font-variation-settings: inherit\; margin: 0px\; padding: 0px\; vertical-align: baseline\; color: black !important\;">Join&nbsp\;us&nbsp\;for&nbsp\;an&nbsp\;unforgettable&nbsp\;lakeside&nbsp\;performance&nbsp\;featuring acclaimed&nbsp\;singer -songwriter&nbsp\;<br />\n						and&nbsp\;actor&nbsp\;Charles&nbsp\;Esten!&nbsp\;</span></span></p>\n\n						<p style="margin: 0in\;"><span style="font-size:14px\;"><span class="x_ql-cursor" style="border: 0px\; font-style: inherit\; font-variant: inherit\; font-weight: inherit\; font-stretch: inherit\; line-height: inherit\; font-family: inherit\; font-optical-sizing: inherit\; font-size-adjust: inherit\; font-kerning: inherit\; font-feature-settings: inherit\; font-variation-settings: inherit\; margin: 0px\; padding: 0px\; vertical-align: baseline\; color: inherit\;"><span style="border: 0px\; font-style: inherit\; font-variant: inherit\; font-weight: inherit\; font-stretch: inherit\; line-height: inherit\; font-family: Roboto\; font-optical-sizing: inherit\; font-size-adjust: inherit\; font-kerning: inherit\; font-feature-settings: inherit\; font-variation-settings: inherit\; margin: 0px\; padding: 0px\; vertical-align: baseline\; color: black !important\;">&#65279\;</span></span><span style="border: 0px\; font-style: inherit\; font-variant: inherit\; font-weight: inherit\; font-stretch: inherit\; line-height: inherit\; font-family: Roboto\; font-optical-sizing: inherit\; font-size-adjust: inherit\; font-kerning: inherit\; font-feature-settings: inherit\; font-variation-settings: inherit\; margin: 0px\; padding: 0px\; vertical-align: baseline\; color: black !important\;">Known&nbsp\;for&nbsp\;his&nbsp\;role&nbsp\;on</span></span><span style="font-size:14px\;"><span style="border: 0px\; font-style: inherit\; font-variant: inherit\; font-weight: inherit\; font-stretch: inherit\; line-height: inherit\; font-family: Roboto\; font-optical-sizing: inherit\; font-size-adjust: inherit\; font-kerning: inherit\; font-feature-settings: inherit\; font-variation-settings: inherit\; margin: 0px\; padding: 0px\; vertical-align: baseline\; color: black !important\;">&nbsp\;&quot\;Nashville&quot\;&nbsp\;and&nbsp\;his&nbsp\;impressive&nbsp\;catalog&nbsp\;of&nbsp\;original&nbsp\;music\,&nbsp\;</span></span></p>\n\n						<p style="margin: 0in\;"><span style="font-size:14px\;"><span style="border: 0px\; font-style: inherit\; font-variant: inherit\; font-weight: inherit\; font-stretch: inherit\; line-height: inherit\; font-family: Roboto\; font-optical-sizing: inherit\; font-size-adjust: inherit\; font-kerning: inherit\; font-feature-settings: inherit\; font-variation-settings: inherit\; margin: 0px\; padding: 0px\; vertical-align: baseline\; color: black !important\;">Charles&nbsp\;brings&nbsp\;his&nbsp\;soulful&nbsp\;sound&nbsp\;to&nbsp\;the beautiful&nbsp\;setting&nbsp\;of&nbsp\;Old&nbsp\;Florida&nbsp\;Fish&nbsp\;House.&nbsp\;</span></span></p>\n\n						<p style="margin: 0in\;"><span style="font-size:14px\;"><span style="border: 0px\; font-style: inherit\; font-variant: inherit\; font-weight: inherit\; font-stretch: inherit\; line-height: inherit\; font-family: Roboto\; font-optical-sizing: inherit\; font-size-adjust: inherit\; font-kerning: inherit\; font-feature-settings: inherit\; font-variation-settings: inherit\; margin: 0px\; padding: 0px\; vertical-align: baseline\; color: black !important\;">Scroll for pictures from last year!</span></span></p>\n						</td>\n					</tr>\n				</tbody>\n			</table>\n			</div>\n			</td>\n		</tr>\n	</tbody>\n</table>\n</div>\n\n<p class="x_MsoNormal" style="margin: 0in\; font-size: 10pt\; font-family: Aptos\, sans-serif\; color: rgb(36\, 36\, 36)\;"><span style="font-size:14px\;"><span style="border: 0px\; font-style: inherit\; font-variant: inherit\; font-weight: inherit\; font-stretch: inherit\; line-height: inherit\; font-family: inherit\; font-optical-sizing: inherit\; font-size-adjust: inherit\; font-kerning: inherit\; font-feature-settings: inherit\; font-variation-settings: inherit\; margin: 0px\; padding: 0px\; vertical-align: baseline\; color: inherit\;">&nbsp\;</span></span></p>\n\n<div align="center" color:="" font-feature-settings:="" font-kerning:="" font-optical-sizing:="" font-size-adjust:="" font-variation-settings:="" helvetica="" margin:="" padding:="" segoe="" style="border: 0px\; font-variant-numeric: inherit\; font-variant-east-asian: inherit\; font-variant-alternates: inherit\; font-variant-position: inherit\; font-variant-emoji: inherit\; font-stretch: inherit\; font-size: 15px\; line-height: inherit\; font-family: " ui="" vertical-align:="" web="" west="">\n<table border="0" cellpadding="0" cellspacing="0" class="x_MsoNormalTable" style="font: inherit\; width: 960px\;" width="100%">\n	<tbody>\n		<tr>\n			<td style="padding: 0in\; width: inherit\; border-radius: 3px\; border-spacing: 0px\;" valign="top" width="100%">\n			<div align="center" style="border: 0px\; font: inherit\; margin: 0px\; padding: 0px\; vertical-align: baseline\; color: inherit\;">\n			<table border="0" cellpadding="0" cellspacing="0" class="x_MsoNormalTable" style="font: inherit\; width: 960px\;" width="100%">\n				<tbody>\n					<tr>\n						<td style="padding: 7.5pt 15pt\;">\n						<div align="center" style="border: 0px\; font: inherit\; margin: 0px\; padding: 0px\; vertical-align: baseline\; color: inherit\;">\n						<table border="0" cellpadding="0" cellspacing="0" class="x_MsoNormalTable" style="font: inherit\;">\n							<tbody>\n								<tr>\n									<td style="background-image: initial\; background-position: initial\; background-size: initial\; background-repeat: initial\; background-attachment: initial\; background-origin: initial\; background-clip: initial\; padding: 7.5pt 30pt\;">\n									<p class="x_MsoNormal" style="margin: 0in\; font-size: 10pt\; font-family: Aptos\, sans-serif\;"><span style="font-size:14px\;"><span style="border: 0px\; font-style: inherit\; font-variant: inherit\; font-weight: inherit\; font-stretch: inherit\; line-height: inherit\; font-family: inherit\; font-optical-sizing: inherit\; font-size-adjust: inherit\; font-kerning: inherit\; font-feature-settings: inherit\; font-variation-settings: inherit\; margin: 0px\; padding: 0px\; vertical-align: baseline\; color: black !important\;"><a data-auth="NotApplicable" data-linkindex="6" href="https://no74bkfbb.cc.rs6.net/tn.jsp?f=001gvh8ZxxzgWc7TNfKQpvYv5yLh4YKiAV_X9-yJY5pmit_lpWh6hlSRezalvciZElS4r-SvJFie4UB-keUg3ysF_GY9mr1izxi3QNMP0ic7GyF9x6CQFB_lX7jzVQ2H8HTFVF8M9mJCutaCnrRS5pxhrPZsg68C4rolE8qf-TJE4go9VUj6pcvzMKcoCFn380C&amp\;c=YLvctNHgMu6NeJn2O_vh-I_y4qHPcmtp0PX1NGfgjKlvVBZFP8uTCA==&amp\;ch=EPA2XmJ78n-qt4amimOOFrBQanQTSXXlhGV92GMy9cVcAMnfy9PSng==" style="border: 0px\; font: inherit\; margin: 0px\; padding: 0px\; vertical-align: baseline\; color: blue\;" title="https://no74bkfbb.cc.rs6.net/tn.jsp?f=001gvh8ZxxzgWc7TNfKQpvYv5yLh4YKiAV_X9-yJY5pmit_lpWh6hlSRezalvciZElS4r-SvJFie4UB-keUg3ysF_GY9mr1izxi3QNMP0ic7GyF9x6CQFB_lX7jzVQ2H8HTFVF8M9mJCutaCnrRS5pxhrPZsg68C4rolE8qf-TJE4go9VUj6pcvzMKcoCFn380C&amp\;c=YLvctNHgMu6NeJn2O_vh-I_y4qHPcmtp0PX1NGfgjKlvVBZFP8uTCA==&amp\;ch=EPA2XmJ78n-qt4amimOOFrBQanQTSXXlhGV92GMy9cVcAMnfy9PSng=="><b><span style="border: 0px\; font-style: inherit\; font-variant: inherit\; font-weight: inherit\; font-stretch: inherit\; line-height: inherit\; font-family: Helvetica\; font-optical-sizing: inherit\; font-size-adjust: inherit\; font-kerning: inherit\; font-feature-settings: inherit\; font-variation-settings: inherit\; margin: 0px\; padding: 0px\; vertical-align: baseline\; text-decoration-line: none\; color: rgb(40\, 79\, 161) !important\;">Tickets and Information to Charles Esten Live</span></b></a></span></span></p>\n									</td>\n								</tr>\n							</tbody>\n						</table>\n						</div>\n						</td>\n					</tr>\n				</tbody>\n			</table>\n			</div>\n			</td>\n		</tr>\n	</tbody>\n</table>\n</div>\n
LOCATION:Old Florida Fish House
UID:e.885.54991
SEQUENCE:3
DTSTAMP:20260423T032919Z
URL:https://business.waltonareachamber.com/events/details/an-evening-with-charles-esten-live-on-the-lake-54991
END:VEVENT

END:VCALENDAR
