BEGIN:VCALENDAR
VERSION:2.0
PRODID:-//ChamberMaster//Event Calendar 2.0//EN
METHOD:PUBLISH
X-PUBLISHED-TTL:P3D
REFRESH-INTERVAL:P3D
CALSCALE:GREGORIAN
BEGIN:VEVENT
DTSTART:20210409T123000Z
DTEND:20210409T140000Z
X-MICROSOFT-CDO-ALLDAYEVENT:FALSE
SUMMARY:April 2021 First Friday Breakfast
DESCRIPTION:Register now for the April First Friday Breakfast! Hear from Lori Hughes\, Education Coordinator at Walton County School District. She will be sharing the School Districts' achievements\, their business/teacher appreciation partnership\, and about their safety of brick and mortar buildings. \n\nDon't forget your business cards and door prizes!
X-ALT-DESC;FMTTYPE=text/html:<span style="color:#000080\;"><strong><span style="font-size:24px\;">Register now for the April First Friday Breakfast! Hear from&nbsp\;</span></strong></span><strong style="color: rgb(0\, 0\, 128)\; font-family: -apple-system\, system-ui\, BlinkMacSystemFont\, &quot\;Segoe UI&quot\;\, Roboto\, &quot\;Helvetica Neue&quot\;\, &quot\;Fira Sans&quot\;\, Ubuntu\, Oxygen\, &quot\;Oxygen Sans&quot\;\, Cantarell\, &quot\;Droid Sans&quot\;\, &quot\;Apple Color Emoji&quot\;\, &quot\;Segoe UI Emoji&quot\;\, &quot\;Segoe UI Symbol&quot\;\, &quot\;Lucida Grande&quot\;\, Helvetica\, Arial\, sans-serif\; font-size: 1.8rem\;"><span style="font-size:24px\;">Lori Hughes\, Education Coordinator at Walton County School District. She will be sharing the School Districts&#39\; achievements\, their business/teacher appreciation partnership\, and about their safety of brick and mortar buildings.&nbsp\;<br />\nDon&#39\;t forget your business cards and door prizes!</span></strong>
LOCATION:Best Western DeFuniak Springs
UID:e.885.29412
SEQUENCE:3
DTSTAMP:20260422T124756Z
URL:https://business.waltonareachamber.com/events/details/april-2021-first-friday-breakfast-29412
END:VEVENT

END:VCALENDAR
