BEGIN:VCALENDAR
VERSION:2.0
PRODID:-//ChamberMaster//Event Calendar 2.0//EN
METHOD:PUBLISH
X-PUBLISHED-TTL:P3D
REFRESH-INTERVAL:P3D
CALSCALE:GREGORIAN
BEGIN:VEVENT
DTSTART:20220421T210000Z
DTEND:20220421T230000Z
X-MICROSOFT-CDO-ALLDAYEVENT:FALSE
SUMMARY:April 2022 Business After Hours hosted by Mezcal Mexican Grill
DESCRIPTION:Please join us for our April 2022 Business After Hours hosted by Mezcal Mexican Restaurant! We have a very special offer for our event attendees!!\n\n\n\n**Seascape is giving away a night of music for you and your friends! The first 50 to register and attend the BAH will receive up to 4 tickets each to Moon Crush on Thursday\, April 21st!**
X-ALT-DESC;FMTTYPE=text/html:<span style="color: rgb(128\, 0\, 0)\; font-family: arial\; font-size: 24px\; text-align: center\;"><span style="font-size:28px\;"><strong>Please join us for our April&nbsp\;2022 Business After Hours hosted by Mezcal Mexican Restaurant! We have a very special offer for our event attendees!!</strong></span></span><br />\n<br />\n<u><span style="font-family: arial\; font-size: 24px\; text-align: center\;"><span style="font-size:48px\;">**</span></span><span style="font-size:48px\;">Seascape is giving away a night of music for you and your friends! The first 50 to register and attend the BAH will receive up to 4 tickets each to Moon Crush on Thursday\, April 21st!**</span></u><br />\n&nbsp\;
LOCATION:Mezcal Mexican Grill Seascape
UID:e.885.33260
SEQUENCE:3
DTSTAMP:20260423T125831Z
URL:https://business.waltonareachamber.com/events/details/april-2022-business-after-hours-hosted-by-mezcal-mexican-grill-33260
END:VEVENT

END:VCALENDAR
