BEGIN:VCALENDAR
VERSION:2.0
PRODID:-//ChamberMaster//Event Calendar 2.0//EN
METHOD:PUBLISH
X-PUBLISHED-TTL:P3D
REFRESH-INTERVAL:P3D
CALSCALE:GREGORIAN
BEGIN:VEVENT
DTSTART:20250409T163000Z
DTEND:20250409T180000Z
X-MICROSOFT-CDO-ALLDAYEVENT:FALSE
SUMMARY:April Power of Business Lunch sponsored by CHELCO
DESCRIPTION:Join us for an inspiring Power of Business Lunch on April 9\, 2025\, at 11:30 A.M. at the Hilton Sandestin Beach Golf Resort & Spa!\n\nThis month\, we're shining the spotlight on the next generation of entrepreneurs with Shark Tank Youth Leadership Business Presentations. Local high school students will pitch their innovative business ideas\, showcasing their creativity\, problem-solving skills\, and leadership potential. Come support these young leaders as they take the stage and gain valuable real-world experience!\n\n  Date: April 9\, 2025\n\n  Time: 11:30 A.M.\n\n  Location: Hilton Sandestin Beach Golf Resort & Spa\n\n  Topic: Shark Tank Youth Leadership Business Presentations\n\n  Sponsored by: CHELCO\n\nInterested in making an impact? By sponsoring a high school's lunch table\, you're making a direct impact on young entrepreneurs!\n\nHere's what you get:\n\n  Your logo on the table and displayed on stage with a verbal mention.\n\n  Seating at the table with the school you sponsor.\n\n  Covers meals for 5 students and their teacher.\n\n  Two complimentary event tickets for you or your team.\n\nContact Gabrielle@WaltonAreaChamber.com for more details.\n\nDon't miss this incredible opportunity to network\, enjoy a great meal\, and be inspired by the next wave of business leaders!\n\n\nPre-registration is required.
X-ALT-DESC;FMTTYPE=text/html:<div style="text-align: center\;">\n<p data-end="263" data-start="120" style="text-align: left\;"><span style="font-size:16px\;">Join us for an inspiring <strong data-end="172" data-start="145">Power of Business Lunch</strong> on <strong data-end="208" data-start="176">April 9\, 2025\, at 11:30 A.M.</strong> at the <strong data-end="260" data-start="216">Hilton Sandestin Beach Golf Resort &amp\; Spa</strong>!</span></p>\n\n<p data-end="654" data-start="265" style="text-align: left\;"><span style="font-size:16px\;">This month\, we&rsquo\;re shining the spotlight on the next generation of entrepreneurs with <strong data-end="404" data-start="350">Shark Tank Youth Leadership Business Presentations</strong>. Local high school students will pitch their innovative business ideas\, showcasing their creativity\, problem-solving skills\, and leadership potential. Come support these young leaders as they take the stage and gain valuable real-world experience!</span></p>\n\n<p data-end="867" data-start="656" style="text-align: left\;"><span style="font-size:16px\;">&#128197\; <strong data-end="668" data-start="659">Date:</strong> April 9\, 2025<br data-end="685" data-start="682" />\n&#128358\; <strong data-end="697" data-start="688">Time:</strong> 11:30 A.M.<br data-end="711" data-start="708" />\n&#128205\; <strong data-end="727" data-start="714">Location:</strong> Hilton Sandestin Beach Golf Resort &amp\; Spa<br data-end="771" data-start="768" />\n&#127908\; <strong data-end="784" data-start="774">Topic:</strong> Shark Tank Youth Leadership Business Presentations<br data-end="838" data-is-only-node="" data-start="835" />\n&#127881\; <strong data-end="858" data-start="841">Sponsored by:</strong> CHELCO</span></p>\n\n<p data-end="1040" data-start="869" style="text-align: left\;"><span style="font-size:16px\;">Interested in making an impact? By sponsoring a high school&rsquo\;s lunch table\, you&#39\;re making a direct impact on young entrepreneurs!<br />\nHere&rsquo\;s what you get:<br data-end="1065" data-start="1062" />\n&#9989\; <strong data-end="1093" data-start="1067">Your logo on the table</strong> and <strong data-end="1120" data-start="1098">displayed on stage</strong> with a verbal mention.<br data-end="1146" data-start="1143" />\n&#9989\; <strong data-end="1172" data-start="1148">Seating at the table</strong> with the school you sponsor.<br data-end="1204" data-start="1201" />\n&#9989\; <strong data-end="1255" data-start="1206">Covers meals for 5 students and their teacher</strong>.<br data-end="1259" data-start="1256" />\n&#9989\; <strong data-end="1296" data-start="1261">Two complimentary event tickets</strong> for you or your team.<br />\nContact <strong data-end="1020" data-start="985">Gabrielle@WaltonAreaChamber.com</strong> for more details.</span></p>\n\n<p data-end="1168" data-start="1042" style="text-align: left\;"><span style="font-size:16px\;">Don&#39\;t miss this incredible opportunity to network\, enjoy a great meal\, and be inspired by the next wave of business leaders!</span></p>\n</div>\n\n<div><span style="font-size:16px\;"><span style="text-align: center\;"><strong background-color:="" font-size:="" style="color: rgb(0\, 0\, 128)\;" trebuchet="">Pr</strong></span><strong background-color:="" font-size:="" style="text-align: center\; font-family: arial\; color: rgb(0\, 0\, 128)\;" trebuchet="">e-registration is required.</strong></span></div>\n
LOCATION:Hilton Sandestin Beach Golf Resort & Spa
UID:e.885.54948
SEQUENCE:3
DTSTAMP:20260423T033129Z
URL:https://business.waltonareachamber.com/events/details/april-power-of-business-lunch-sponsored-by-chelco-54948
END:VEVENT

END:VCALENDAR
