BEGIN:VCALENDAR
VERSION:2.0
PRODID:-//ChamberMaster//Event Calendar 2.0//EN
METHOD:PUBLISH
X-PUBLISHED-TTL:P3D
REFRESH-INTERVAL:P3D
CALSCALE:GREGORIAN
BEGIN:VEVENT
DTSTART:20260321T230000Z
DTEND:20260322T030000Z
X-MICROSOFT-CDO-ALLDAYEVENT:FALSE
SUMMARY:Around the World Wine Dinner
DESCRIPTION:Around the World Wine Dinner Five Courses with specialty parings First Course Spain Chorizo Stuffed Scallop Lemon burre blanc sauce Paired with: Tempranillo Blanco Pierola 2023 Rioja\, Spain Second Course France Goat Cheese Salad goat cheese\, heritage blend poached pear\, pear vinaigrette Paired with: Pouilly Fuisse Renaud Chardonnay 2022 Burgandy\, France Third Course Italy 3oz Filet Mignon mushroom risotto\, truffle demi glaze Paired with: Barbaresco DOCG A. RIvetto 2019 Piedmont\, Italy Fourth Course Argentina Pepper crusted skirt steak chimichurri\, sauteed fingerling potatoes\, asparagus Paired with: Caligiore Malbec 2021 Mendoza\, Argentina Fifth Course Portugal Chocolate Mouse dark cherry compote Paired with: Crofit Vintage Port 2000 Douro\, Portugal No Substitutions
X-ALT-DESC;FMTTYPE=text/html:Around the World Wine Dinner Five Courses with specialty parings First Course Spain Chorizo Stuffed Scallop Lemon burre blanc sauce Paired with: Tempranillo Blanco Pierola 2023 Rioja\, Spain Second Course France Goat Cheese Salad goat cheese\, heritage blend poached pear\, pear vinaigrette Paired with: Pouilly Fuisse Renaud Chardonnay 2022 Burgandy\, France Third Course Italy 3oz Filet Mignon mushroom risotto\, truffle demi glaze Paired with: Barbaresco DOCG A. RIvetto 2019 Piedmont\, Italy Fourth Course Argentina Pepper crusted skirt steak chimichurri\, sauteed fingerling potatoes\, asparagus Paired with: Caligiore Malbec 2021 Mendoza\, Argentina Fifth Course Portugal Chocolate Mouse dark cherry compote Paired with: Crofit Vintage Port 2000 Douro\, Portugal No Substitutions
LOCATION:404 harbor blvd destin\, fl 32541
UID:e.885.56758
SEQUENCE:3
DTSTAMP:20260422T094146Z
URL:https://business.waltonareachamber.com/events/details/around-the-world-wine-dinner-56758
END:VEVENT

END:VCALENDAR
