BEGIN:VCALENDAR
VERSION:2.0
PRODID:-//ChamberMaster//Event Calendar 2.0//EN
METHOD:PUBLISH
X-PUBLISHED-TTL:P3D
REFRESH-INTERVAL:P3D
CALSCALE:GREGORIAN
BEGIN:VEVENT
DTSTART:20250529T213000Z
DTEND:20250529T233000Z
X-MICROSOFT-CDO-ALLDAYEVENT:FALSE
SUMMARY:ART After Hours Event at The Blue Giraffe
DESCRIPTION:You're Invited to an Elevated Business After Hours: May ART After Hours at The Blue Giraffe\n\nJoin us for Art After Hours\, a fresh and elevated take on the traditional Business After Hours\, hosted at the beautiful Blue Giraffe gallery. This special evening is a dual event with our Walton County Young Professionals\, offering a wonderful chance to bring together both YP and Chamber members for a creative and relaxed evening of networking and community support.\n\nEnjoy light sips and snacks as you mingle with fellow professionals in a vibrant setting surrounded by thoughtfully curated local art. Whether you're looking to expand your network or simply enjoy a unique night out\, Art After Hours promises an engaging and refreshing experience you won't want to miss.\n\nThe event is free for YPs\n\nChamber non-members are welcome as well\, with a $15 registration fee.\n\n \n\n\n\n\n\n\n\n\n\n\nEvent Details:\n\n  Date: May 29\, 2025\n\n  Time: 4:30 P.M.\n\n  Location: 13123 E Emerald Coast Pkwy Ste. 3\, Inlet Beach\, Fl 32461\n\nBring your business cards\, grab a drink\, and enjoy a fantastic evening of networking!\n\nLet art inspire your next connection. We'll see you there!
X-ALT-DESC;FMTTYPE=text/html:<article class="text-token-text-primary w-full" data-scroll-anchor="true" data-testid="conversation-turn-2" dir="auto">\n<div class="text-base my-auto mx-auto py-5 [--thread-content-margin:--spacing(4)] @[37rem]:[--thread-content-margin:--spacing(6)] @[72rem]:[--thread-content-margin:--spacing(16)] px-(--thread-content-margin)">\n<div class="[--thread-content-max-width:32rem] @[34rem]:[--thread-content-max-width:40rem] @[64rem]:[--thread-content-max-width:48rem] mx-auto flex max-w-(--thread-content-max-width) flex-1 text-base gap-4 md:gap-5 lg:gap-6 group/turn-messages focus-visible:outline-hidden" tabindex="-1">\n<div class="group/conversation-turn relative flex w-full min-w-0 flex-col agent-turn">\n<div class="relative flex-col gap-1 md:gap-3">\n<div class="flex max-w-full flex-col grow">\n<div class="min-h-8 text-message relative flex w-full flex-col items-end gap-2 text-start break-words whitespace-normal [.text-message+&amp\;]:mt-5" data-message-author-role="assistant" data-message-id="df34f5e9-7307-4d93-aad6-c1b91cb721b8" data-message-model-slug="gpt-4o" dir="auto">\n<div class="flex w-full flex-col gap-1 empty:hidden first:pt-[3px]">\n<div class="markdown prose dark:prose-invert w-full break-words light">\n<p data-end="229" data-start="132"><strong data-end="229" data-start="132">You&#39\;re Invited to an Elevated Business After Hours: May ART After Hours at The Blue Giraffe</strong></p>\n\n<p data-end="601" data-start="231">Join us for <em data-end="260" data-start="243">Art After Hours</em>\, a fresh and elevated take on the traditional Business After Hours\, hosted at the beautiful Blue Giraffe gallery. This special evening is a dual event with our Walton County Young Professionals\, offering a wonderful chance to bring together both YP and Chamber members for a creative and relaxed evening of networking and community support.</p>\n\n<p data-end="908" data-start="603">Enjoy light sips and snacks as you mingle with fellow professionals in a vibrant setting surrounded by thoughtfully curated local art. Whether you&#39\;re looking to expand your network or simply enjoy a unique night out\, <em data-end="837" data-start="820">Art After Hours</em> promises an engaging and refreshing experience you won&rsquo\;t want to miss.</p>\n\n<p data-end="1055" data-start="910"><strong>The event is </strong><strong data-end="939" data-start="923"><strong>free for YPs</strong></strong><br />\nChamber non-members are welcome as well\, with a $15 registration fee.</p>\n\n<p data-end="1085" data-start="1057">&nbsp\;</p>\n</div>\n</div>\n</div>\n</div>\n</div>\n</div>\n</div>\n</div>\n</article>\n\n<p><strong>Event Details:</strong></p>\n\n<p>&#128197\; Date: May 29\, 2025</p>\n\n<p>&#9200\; Time: 4:30 P.M.</p>\n\n<p>&#128205\; Location: 13123 E Emerald Coast Pkwy Ste. 3\, Inlet Beach\, Fl 32461</p>\n\n<p>Bring your business cards\, grab a drink\, and enjoy a fantastic evening of networking!</p>\n\n<p><strong data-end="1004" data-start="942">Let art inspire your next connection. We&rsquo\;ll see you there!</strong></p>\n
LOCATION:13123 E Emerald Coast Pkwy Ste. 3\, Inlet Beach\, Fl 32461
UID:e.885.55010
SEQUENCE:3
DTSTAMP:20260423T012702Z
URL:https://business.waltonareachamber.com/events/details/art-after-hours-event-at-the-blue-giraffe-55010
END:VEVENT

END:VCALENDAR
