BEGIN:VCALENDAR
VERSION:2.0
PRODID:-//ChamberMaster//Event Calendar 2.0//EN
METHOD:PUBLISH
X-PUBLISHED-TTL:P3D
REFRESH-INTERVAL:P3D
CALSCALE:GREGORIAN
BEGIN:VEVENT
DTSTART:20220716T210000Z
DTEND:20220716T230000Z
X-MICROSOFT-CDO-ALLDAYEVENT:FALSE
SUMMARY:Art of Charcuterie with Shelli
DESCRIPTION:The Art of Charcuterie is a fun and interactive event where you will get the best professional tips from Charcuterie by Shelli. Covered will be: how to shop\, to prepare\, and to arrange a beautiful board that will wow your guests. You will get to taste the most popular gourmet cheeses and see how to make salami roses and pepperoni ribbons. All materials will be provided and each person will take home a beautiful Acacia wood board\, a cheese knife\, and the food on your board unless you eat it all before you leave! This is a BYOB (Bring Your Own Beverage) event\, so grab a friend or two\, a bottle of your favorite bubbly\, and get ready to have a great time. Limited spots available\, $115 per student.
X-ALT-DESC;FMTTYPE=text/html:The Art of Charcuterie is a fun and interactive event where you will get the best professional tips from Charcuterie by Shelli. Covered will be: how to shop\, to prepare\, and to arrange a beautiful board that will wow your guests. You will get to taste the most popular gourmet cheeses and see how to make salami roses and pepperoni ribbons. All materials will be provided and each person will take home a beautiful Acacia wood board\, a cheese knife\, and the food on your board unless you eat it all before you leave! This is a BYOB (Bring Your Own Beverage) event\, so grab a friend or two\, a bottle of your favorite bubbly\, and get ready to have a great time. Limited spots available\, $115 per student.
LOCATION:J.Leon Gallery + Studio 13370 US-98\, Miramar Beach\, FL 32550
UID:e.885.33944
SEQUENCE:3
DTSTAMP:20260423T183328Z
URL:https://business.waltonareachamber.com/events/details/art-of-charcuterie-with-shelli-33944
END:VEVENT

END:VCALENDAR
