BEGIN:VCALENDAR
VERSION:2.0
PRODID:-//ChamberMaster//Event Calendar 2.0//EN
METHOD:PUBLISH
X-PUBLISHED-TTL:P3D
REFRESH-INTERVAL:P3D
CALSCALE:GREGORIAN
BEGIN:VEVENT
DTSTART:20250710T223000Z
DTEND:20250711T003000Z
X-MICROSOFT-CDO-ALLDAYEVENT:FALSE
SUMMARY:Ascension Sacred Heart Emerald Coast Invites You to Test Drive The DV5
DESCRIPTION:You're Invited to Test Drive the da Vinci 5 Robotic Surgical System\n\nAscension Sacred Heart Emerald Coast is proud to be the first hospital in the area to introduce the da Vinci 5   the latest and most advanced surgical robotics technology. Join us for an exciting evening to see the system in action\, meet members of our surgical care team\, and even try your hand at robotic surgery through a hands-on simulation experience.\n\nEvent Details:\n\nDate: Thursday\, July 10\, 2025\n\nTime: 5:30   7:30 p.m.\n\nLocation: Sacred Heart Emerald Coast\n\nEnter through the main lobby\n\n7800 US 98 W\n\nAgenda:\n\n\n	\n	5:30   6:00 p.m. | Appetizers and Drinks\n	\n	\n	6:00   6:30 p.m. | Presentation\n	\n	\n	6:30   7:30 p.m. | Hands-on Surgery Simulation\n	\n\n\nRSVP: bit.ly/DV5EmeraldCoast or scan the QR code on the flyer.
X-ALT-DESC;FMTTYPE=text/html:<p data-end="141" data-start="70"><strong data-end="141" data-start="70">You&rsquo\;re Invited to Test Drive the da Vinci 5 Robotic Surgical System</strong></p>\n\n<p data-end="499" data-start="143">Ascension Sacred Heart Emerald Coast is proud to be the first hospital in the area to introduce the da Vinci 5 &ndash\; the latest and most advanced surgical robotics technology. Join us for an exciting evening to see the system in action\, meet members of our surgical care team\, and even try your hand at robotic surgery through a hands-on simulation experience.</p>\n\n<p data-end="675" data-start="501"><strong data-end="519" data-start="501">Event Details:</strong><br data-end="522" data-start="519" />\n<strong data-end="531" data-start="522">Date:</strong> Thursday\, July 10\, 2025<br data-end="558" data-start="555" />\n<strong data-end="567" data-start="558">Time:</strong> 5:30 &ndash\; 7:30 p.m.<br data-end="587" data-start="584" />\n<strong data-end="600" data-start="587">Location:</strong> Sacred Heart Emerald Coast<br data-end="630" data-start="627" />\n<em data-end="660" data-start="630">Enter through the main lobby</em><br data-end="663" data-start="660" />\n7800 US 98 W</p>\n\n<p data-end="690" data-start="677"><strong data-end="688" data-start="677">Agenda:</strong></p>\n\n<ul data-end="820" data-start="691">\n	<li data-end="735" data-start="691">\n	<p data-end="735" data-start="693">5:30 &ndash\; 6:00 p.m. | Appetizers and Drinks</p>\n	</li>\n	<li data-end="771" data-start="736">\n	<p data-end="771" data-start="738">6:00 &ndash\; 6:30 p.m. | Presentation</p>\n	</li>\n	<li data-end="820" data-start="772">\n	<p data-end="820" data-start="774">6:30 &ndash\; 7:30 p.m. | Hands-on Surgery Simulation</p>\n	</li>\n</ul>\n\n<p data-end="921" data-start="822"><strong data-end="831" data-start="822">RSVP:</strong> <a class="cursor-pointer" data-end="887" data-start="832" rel="noopener" target="_new">bit.ly/DV5EmeraldCoast</a> or scan the QR code on the flyer.</p>\n
LOCATION:Location: Sacred Heart Emerald Coast Enter through the main lobby 7800 US 98 W
UID:e.885.55338
SEQUENCE:3
DTSTAMP:20260422T222755Z
URL:https://business.waltonareachamber.com/events/details/ascension-sacred-heart-emerald-coast-invites-you-to-test-drive-the-dv5-55338
END:VEVENT

END:VCALENDAR
