BEGIN:VCALENDAR
VERSION:2.0
PRODID:-//ChamberMaster//Event Calendar 2.0//EN
METHOD:PUBLISH
X-PUBLISHED-TTL:P3D
REFRESH-INTERVAL:P3D
CALSCALE:GREGORIAN
BEGIN:VEVENT
DTSTART:20211028T213000Z
DTEND:20211028T233000Z
X-MICROSOFT-CDO-ALLDAYEVENT:FALSE
SUMMARY:Barktoberfest
DESCRIPTION:A spooky costume doggie social with music\, beer and light bites.\n\n\n\nBest costume announced at 6:15!\n\n\n\nHosted by Grand Boulevard Sandestin Town Center\n\n\n\nBenefitting Dog-Harmony
X-ALT-DESC;FMTTYPE=text/html:<span style="font-size:14px\;"><span style="font-family:arial\;">A spooky costume doggie social with music\, beer and light bites.<br />\n<br />\nBest costume announced at 6:15!<br />\n<br />\nHosted by&nbsp\;</span></span><span style="font-family: arial\; font-size: 14px\;">Grand Boulevard Sandestin Town Center</span><br />\n<br />\n<span style="font-size:14px\;"><span style="font-family:arial\;">Benefitting Dog-Harmony</span></span>
LOCATION:Grand Boulevard Sandestin Town Center
UID:e.885.32592
SEQUENCE:3
DTSTAMP:20260423T025102Z
URL:https://business.waltonareachamber.com/events/details/barktoberfest-32592
END:VEVENT

END:VCALENDAR
