BEGIN:VCALENDAR
VERSION:2.0
PRODID:-//ChamberMaster//Event Calendar 2.0//EN
METHOD:PUBLISH
X-PUBLISHED-TTL:P3D
REFRESH-INTERVAL:P3D
CALSCALE:GREGORIAN
BEGIN:VEVENT
DTSTART:20211125T170000Z
DTEND:20211125T220000Z
X-MICROSOFT-CDO-ALLDAYEVENT:FALSE
SUMMARY:Bayfront Thanksgiving Buffet at The Bay
DESCRIPTION:Bayfront Thanksgiving Buffet\n\n\n\nThe Bay is also offering a buffet on Thanksgiving Day! Seatings are available from 11:00 AM to 4:00 PM - (closed for dinner). Reservations are open now by phone only. Call 850-622-2291 to reserve.\n\n \nAbout The Bay:\n\nA gem sitting directly on Choctawhatchee Bay at the southern foot of the 331 bridge\, The Bay is Chef Jim Shirley's waterfront hotspot. The family-friendly restaurant features mouth-watering Southern gulf coast cuisine\, sushi\, a 12-draft beer system\, excellent wine selections\, and inventive bar-crafted cocktails. Table and bar seating is available inside and outside on the deck overlooking Choctawhatchee Bay. The Bay offers live music on the beach every Sunday and Wednesday. More info at baysouthwalton.com.
X-ALT-DESC;FMTTYPE=text/html:<strong style="font-family: arial\; font-size: 14px\;">Bayfront Thanksgiving Buffet</strong><br />\n<br />\n<span style="caret-color: rgb(0\, 0\, 0)\; color: rgb(0\, 0\, 0)\;"><font face="arial"><span style="font-size: 14px\;"><strong>The Bay</strong> is also offering a buffet on Thanksgiving Day! Seatings are available from 11:00 AM to 4:00 PM - (closed for dinner). Reservations are open now by phone only. Call 850-622-2291 to reserve.</span></font></span><br />\n&nbsp\;\n<div style="color:rgb(0\, 0\, 0)\;font-family:Calibri\;font-size:14px\;"><span style="font-size:14px\;"><span style="font-family:arial\;"><strong>About&nbsp\;The&nbsp\;Bay:</strong></span></span></div>\n\n<div style="color:rgb(0\, 0\, 0)\;font-family:Calibri\;font-size:14px\;"><span style="font-size:14px\;"><span style="font-family:arial\;">A gem sitting directly on Choctawhatchee&nbsp\;Bay&nbsp\;at&nbsp\;the&nbsp\;southern foot of&nbsp\;the&nbsp\;331 bridge\,&nbsp\;The&nbsp\;Bay&nbsp\;is Chef Jim Shirley&#39\;s waterfront hotspot.&nbsp\;The&nbsp\;family-friendly restaurant features mouth-watering Southern gulf coast cuisine\, sushi\, a 12-draft beer system\, excellent wine selections\, and inventive bar-crafted cocktails. Table and bar seating is available inside and outside on&nbsp\;the&nbsp\;deck overlooking Choctawhatchee&nbsp\;Bay. The Bay offers live music on the beach every Sunday and Wednesday. More info at&nbsp\;<a href="http://baysouthwalton.com/" style="color:blue\;" target="_blank" title="http://baysouthwalton.com/">baysouthwalton.com</a>.</span></span></div>\n
LOCATION:The Bay 24215 HWY. 331 AT THE FOOT OF THE BRIDGE
UID:e.885.32619
SEQUENCE:3
DTSTAMP:20260423T062404Z
URL:https://business.waltonareachamber.com/events/details/bayfront-thanksgiving-buffet-at-the-bay-32619
END:VEVENT

END:VCALENDAR
