BEGIN:VCALENDAR
VERSION:2.0
PRODID:-//ChamberMaster//Event Calendar 2.0//EN
METHOD:PUBLISH
X-PUBLISHED-TTL:P3D
REFRESH-INTERVAL:P3D
CALSCALE:GREGORIAN
BEGIN:VEVENT
DTSTART:20210621T010000Z
DTEND:20210621T030000Z
X-MICROSOFT-CDO-ALLDAYEVENT:FALSE
SUMMARY:Baytowne Sunday Cinema
DESCRIPTION:Sunday Cinema takes place in the Baytowne Events Plaza just after dark every week during the season. Bring a chair or blanket and enjoy a family film on the lawn. Admission is free and open to the public! \n\nSunday Cinema\n\nShowtime: 8:00pm\n\nMovie Listings:\n\nJune 6 | Maleficent\n\nJune 13 | Croods A New Age\n\nJune 20 | Secret Life of Pets 2\n\nJune 27 | Moana
X-ALT-DESC;FMTTYPE=text/html:<p style="margin: 0px 0px 1.5em\; color: rgb(34\, 34\, 34)\; font-family: &quot\;Source Sans Pro Regular&quot\;\, Verdana\, Tahoma\, sans-serif\; font-size: 20px\;"><span style="font-size:14px\;"><span style="font-family:arial\;">Sunday Cinema takes place in the&nbsp\;Baytowne&nbsp\;Events Plaza just after dark every week during the season. Bring a chair or blanket and enjoy a family film on the lawn. Admission is free and open to the public!&nbsp\;</span></span></p>\n\n<p style="margin: 1.5em 0px\; color: rgb(34\, 34\, 34)\; font-family: &quot\;Source Sans Pro Regular&quot\;\, Verdana\, Tahoma\, sans-serif\; font-size: 20px\;"><span style="font-size:14px\;"><span style="font-family:arial\;">Sunday Cinema<br />\nShowtime: 8:00pm</span></span></p>\n\n<p style="margin: 1.5em 0px\; color: rgb(34\, 34\, 34)\; font-family: &quot\;Source Sans Pro Regular&quot\;\, Verdana\, Tahoma\, sans-serif\; font-size: 20px\;"><span style="font-size:14px\;"><span style="font-family:arial\;"><strong>Movie Listings:</strong><br />\nJune 6 | Maleficent<br />\nJune 13 | Croods A New Age<br />\nJune 20 | Secret Life of Pets 2<br />\nJune 27 | Moana</span></span></p>\n
LOCATION:The Village of Baytowne Wharf
UID:e.885.32366
SEQUENCE:3
DTSTAMP:20260422T200328Z
URL:https://business.waltonareachamber.com/events/details/baytowne-sunday-cinema-32366
END:VEVENT

END:VCALENDAR
