BEGIN:VCALENDAR
VERSION:2.0
PRODID:-//ChamberMaster//Event Calendar 2.0//EN
METHOD:PUBLISH
X-PUBLISHED-TTL:P3D
REFRESH-INTERVAL:P3D
CALSCALE:GREGORIAN
BEGIN:VEVENT
DTSTART:20210514T153000Z
DTEND:20210514T162500Z
X-MICROSOFT-CDO-ALLDAYEVENT:FALSE
SUMMARY:Big Kahuna's Grand Reopening and Ribbon Cutting
DESCRIPTION:Join us for the ribbon cutting and grand reopening of Big Kahuna's!\n\nPlease click HERE to view their official press release!
X-ALT-DESC;FMTTYPE=text/html:<span style="font-size:14px\;"><span style="font-family:arial\;">Join us for the ribbon cutting and grand reopening of Big Kahuna&#39\;s!<br />\nPlease click <a href="https://business.waltonareachamber.com/news/details/newly-renovated-big-kahuna-s-water-park-now-open">HERE</a> to view their official press release!</span></span>
LOCATION:1007 US-98\, Destin\, FL 32541
UID:e.885.30069
SEQUENCE:3
DTSTAMP:20260422T143043Z
URL:https://business.waltonareachamber.com/events/details/big-kahuna-s-grand-reopening-and-ribbon-cutting-30069
END:VEVENT

END:VCALENDAR
