BEGIN:VCALENDAR
VERSION:2.0
PRODID:-//ChamberMaster//Event Calendar 2.0//EN
METHOD:PUBLISH
X-PUBLISHED-TTL:P3D
REFRESH-INTERVAL:P3D
CALSCALE:GREGORIAN
BEGIN:VEVENT
DTSTART:20250410T210000Z
DTEND:20250410T220000Z
X-MICROSOFT-CDO-ALLDAYEVENT:FALSE
SUMMARY:Billabong Grand Boulevard Local Launch Ribbon Cutting
DESCRIPTION:Join Us for the Billabong Grand Boulevard Local Launch & Ribbon Cutting!\n\nExciting things are happening at Billabong Grand Boulevard! Join the Walton Area Chamber of Commerce as we celebrate their new look and new ownership with a special Local Launch & Ribbon Cutting Ceremony on Thursday\, April 10\, at 4:00 PM.\n\nThis is the perfect opportunity to check out their refreshed space\, meet the new owners\, and network with fellow business and community members. Plus\, enjoy light refreshments and support a great cause with Food For Thought.\n\n  Date: Thursday\, April 10\n\n  Time: 4:00 PM\n\n  Location: Billabong Grand Boulevard\n\nDon't miss this exciting event.
X-ALT-DESC;FMTTYPE=text/html:<p data-end="78" data-start="0"><strong data-end="76" data-start="0">Join Us for the Billabong Grand Boulevard Local Launch &amp\; Ribbon Cutting!</strong></p>\n\n<p data-end="336" data-start="80">Exciting things are happening at <strong data-end="143" data-start="113">Billabong Grand Boulevard!</strong> Join the Walton Area Chamber of Commerce as we celebrate their <strong data-end="237" data-start="207">new look and new ownership</strong> with a special <strong data-end="295" data-start="253">Local Launch &amp\; Ribbon Cutting Ceremony</strong> on <strong data-end="334" data-start="299">Thursday\, April 10\, at 4:00 PM.</strong></p>\n\n<p data-end="568" data-start="338">This is the perfect opportunity to check out their refreshed space\, meet the new owners\, and network with fellow business and community members. Plus\, enjoy light refreshments and support a great cause with <strong data-end="566" data-start="545">Food For Thought.</strong></p>\n\n<p data-end="670" data-start="570"><strong data-end="582" data-start="570">&#128197\; Date:</strong> Thursday\, April 10<br data-end="604" data-start="601" />\n<strong data-end="615" data-start="604">&#9200\; Time:</strong> 4:00 PM<br data-end="626" data-start="623" />\n<strong data-end="642" data-is-only-node="" data-start="626">&#128205\; Location:</strong> Billabong Grand Boulevard</p>\n\n<p data-end="745" data-is-last-node="" data-is-only-node="" data-start="672">Don&rsquo\;t miss this exciting event.&nbsp\;</p>\n
LOCATION:Billabong Grand Boulevard
UID:e.885.54950
SEQUENCE:3
DTSTAMP:20260423T032745Z
URL:https://business.waltonareachamber.com/events/details/billabong-grand-boulevard-local-launch-ribbon-cutting-54950
END:VEVENT

END:VCALENDAR
