BEGIN:VCALENDAR
VERSION:2.0
PRODID:-//ChamberMaster//Event Calendar 2.0//EN
METHOD:PUBLISH
X-PUBLISHED-TTL:P3D
REFRESH-INTERVAL:P3D
CALSCALE:GREGORIAN
BEGIN:VEVENT
DTSTART:20220218T000000Z
DTEND:20220218T020000Z
X-MICROSOFT-CDO-ALLDAYEVENT:FALSE
SUMMARY:Blue Dog + Bourbon benefitting the Mattie Kelly Arts Foundation
DESCRIPTION:See George Rodrigue's Blue Dog paintings like never before in this mini-exhibition of rarely seen original artworks from the artist's private collection\, shared by his widow\, Wendy Rodrigue. This unique experience benefits the ongoing partnership between MKAF and Wendy's Life & Legacy Foundation\, engaging students of all ages through storytelling and the arts. This exciting evening includes a palette of bourbon tastings and the culinary masterpieces of Chef Jack McGuckin of Bijoux!
X-ALT-DESC;FMTTYPE=text/html:See George Rodrigue&rsquo\;s Blue Dog paintings like never before in this mini-exhibition of rarely seen original artworks from the artist&rsquo\;s private collection\, shared by his widow\, Wendy Rodrigue. This unique experience benefits the ongoing partnership between MKAF and Wendy&rsquo\;s Life &amp\; Legacy Foundation\, engaging students of all ages through storytelling and the arts. This exciting evening includes a palette of bourbon tastings and the culinary masterpieces of Chef Jack McGuckin of Bijoux!
LOCATION:Bijoux 9375 US Highway 98 W #22 Miramar Beach\, FL 32550
UID:e.885.33304
SEQUENCE:3
DTSTAMP:20260423T095205Z
URL:https://business.waltonareachamber.com/events/details/blue-dog-bourbon-benefitting-the-mattie-kelly-arts-foundation-33304
END:VEVENT

END:VCALENDAR
